BEGIN:VCALENDAR
VERSION:2.0
PRODID:-//Arts South Dakota - ECPv6.10.2//NONSGML v1.0//EN
CALSCALE:GREGORIAN
METHOD:PUBLISH
X-ORIGINAL-URL:https://artssouthdakota.org
X-WR-CALDESC:Events for Arts South Dakota
REFRESH-INTERVAL;VALUE=DURATION:PT1H
X-Robots-Tag:noindex
X-PUBLISHED-TTL:PT1H
BEGIN:VTIMEZONE
TZID:America/Denver
BEGIN:DAYLIGHT
TZOFFSETFROM:-0700
TZOFFSETTO:-0600
TZNAME:MDT
DTSTART:20260308T090000
END:DAYLIGHT
BEGIN:STANDARD
TZOFFSETFROM:-0600
TZOFFSETTO:-0700
TZNAME:MST
DTSTART:20261101T080000
END:STANDARD
END:VTIMEZONE
BEGIN:VEVENT
DTSTART;TZID=America/Denver:20260424T120000
DTEND;TZID=America/Denver:20260424T130000
DTSTAMP:20260424T092834
CREATED:20260408T201547Z
LAST-MODIFIED:20260408T201547Z
UID:10020730-1777032000-1777035600@artssouthdakota.org
SUMMARY:Turtle Soup | Paul L. Hedren - Sitting Bull’s War
DESCRIPTION:In this deeply moving account of America’s greatest Indian war\, viewers are quickly immersed in the world of Lakotas and Northern Cheyennes\, and their futile struggle in the 1870s to retain a lifeway on the buffalo prairie.  Those ever-committed Northern Indians faced a succession of white invaders: railroaders\, borderland surveyors\, prospectors\, and ultimately the United States Army. \nIn the best of days\, they turned back George Crook at the Rosebud and wiped out George Armstrong Custer at the Little Big Horn. But a dozen other clashes followed\, and in the end these tradition-minded people could not endure the army’s endless hounding. Some fled to Canada to a luring if momentary exile\, but in the end one and all faced starvation\, submission\, and\, for some\, death. Sitting Bull’s War is the saga of a people intent only on adhering to a traditional life on the buffalo prairie.
URL:https://artssouthdakota.org/event/turtle-soup-paul-l-hedren-sitting-bulls-war/
LOCATION:The Journey Museum\, 222 New York St\, Rapid City\, SD\, United States
CATEGORIES:Discussion,West Region
ATTACH;FMTTYPE=image/webp:https://artssouthdakota.org/wp-content/uploads/2026/04/sittingbullswar.webp
GEO:44.085429;-103.218084
X-APPLE-STRUCTURED-LOCATION;VALUE=URI;X-ADDRESS=The Journey Museum 222 New York St Rapid City SD United States;X-APPLE-RADIUS=500;X-TITLE=222 New York St:geo:-103.218084,44.085429
END:VEVENT
END:VCALENDAR