BEGIN:VCALENDAR
VERSION:2.0
PRODID:-//Arts South Dakota - ECPv6.10.2//NONSGML v1.0//EN
CALSCALE:GREGORIAN
METHOD:PUBLISH
X-ORIGINAL-URL:https://artssouthdakota.org
X-WR-CALDESC:Events for Arts South Dakota
REFRESH-INTERVAL;VALUE=DURATION:PT1H
X-Robots-Tag:noindex
X-PUBLISHED-TTL:PT1H
BEGIN:VTIMEZONE
TZID:America/Chicago
BEGIN:DAYLIGHT
TZOFFSETFROM:-0600
TZOFFSETTO:-0500
TZNAME:CDT
DTSTART:20260308T080000
END:DAYLIGHT
BEGIN:STANDARD
TZOFFSETFROM:-0500
TZOFFSETTO:-0600
TZNAME:CST
DTSTART:20261101T070000
END:STANDARD
END:VTIMEZONE
BEGIN:VEVENT
DTSTART;VALUE=DATE:20260503
DTEND;VALUE=DATE:20260504
DTSTAMP:20260422T103614
CREATED:20260410T144908Z
LAST-MODIFIED:20260410T144908Z
UID:10020785-1777766400-1777852799@artssouthdakota.org
SUMMARY:Welcome to the artsHUB
DESCRIPTION:Welcome to the artsHUB⌘! The VCA and our intern Abigail would like to invite you to an analog version\, also known as a good old-fashioned get together\, of our digital HUB for artists\, makers\, arts & culture organizations\, venues\, and the community that needs you. \nYou can get ahead of the curve by checking out vermculture.org/artshub – you can add events to the calendar\, make a profile in the directory\, access resources\, or connect on our substack! Bring any questions you might have\, or ways you’d like to get connected but maybe don’t know where or how to begin. The artsHUB is built to be a collaborative experience. \nWe will have large & small + digital & analog visuals to show you what the HUB is\, supportive ways to get started in the HUB\, and\, of course\, snacks\, refreshments\, and camaraderie!
URL:https://artssouthdakota.org/event/welcome-to-the-artshub-2/2026-05-03/
LOCATION:Coyote Gallery\, East Main Street\, Vermillion\, S\, 57069\, United States
CATEGORIES:Art,Art Show,Conversation,Discussion,Education,Exhibit,Exhibition,Reception,Southeast Region,Special Events,Visual Art,Visual Arts
ATTACH;FMTTYPE=image/png:https://artssouthdakota.org/wp-content/uploads/2026/04/water-exhib-0403-1.png
ORGANIZER;CN="Vermillion Cultural Association":MAILTO:executivedirector@vermilliontheaters.com
GEO:42.7797332;-96.9314113
X-APPLE-STRUCTURED-LOCATION;VALUE=URI;X-ADDRESS=Coyote Gallery East Main Street Vermillion S 57069 United States;X-APPLE-RADIUS=500;X-TITLE=East Main Street:geo:-96.9314113,42.7797332
END:VEVENT
BEGIN:VEVENT
DTSTART;TZID=America/Chicago:20260503T090000
DTEND;TZID=America/Chicago:20260503T150000
DTSTAMP:20260422T103614
CREATED:20250826T135827Z
LAST-MODIFIED:20250826T135827Z
UID:10015284-1777798800-1777820400@artssouthdakota.org
SUMMARY:Calling for entries into the Dakota MasterWorks Art Show
DESCRIPTION:🎨 Calling All South Dakota Artists Age 60+! 🎨\nWe’re excited to announce the 28th Annual Dakota MasterWorks Art Show\, a celebration of creativity and talent in South Dakota’s older adults! \nIf you’re age 60 or older\, we invite you to showcase your artistic talents in one or more of the following categories:\n• Oils\n• Acrylics\n• Watercolors\n• Drawing/Pastels/Scratchboard\n• Photography\n• Mixed Media\n• Creative Woodworking \nEntry Dates:\nOctober 6–10\, 2025\nEntries accepted between 9 AM – 3 PM at:\nSouth Dakota Health Care Association Office\n804 N Western Ave\, Sioux Falls\, SD 57104 \nEntry forms and criteria available at:\nwww.sdhca.org/dakota-masterworks \nhttps://www.sdhca.org/dakota-masterworks
URL:https://artssouthdakota.org/event/calling-for-entries-into-the-dakota-masterworks-art-show/2026-05-03/
LOCATION:South Dakota Health Care Association Office\, 804 N Western Ave\, Sioux Falls\, 57104\, United States
CATEGORIES:Art Show,Southeast Region
ATTACH;FMTTYPE=image/jpeg:https://artssouthdakota.org/wp-content/uploads/2025/08/Dakota-masterworks-logo06-4-1.jpg
GEO:43.5568062;-96.7509876
X-APPLE-STRUCTURED-LOCATION;VALUE=URI;X-ADDRESS=South Dakota Health Care Association Office 804 N Western Ave Sioux Falls 57104 United States;X-APPLE-RADIUS=500;X-TITLE=804 N Western Ave:geo:-96.7509876,43.5568062
END:VEVENT
BEGIN:VEVENT
DTSTART;TZID=America/Chicago:20260503T120000
DTEND;TZID=America/Chicago:20260503T140000
DTSTAMP:20260422T103614
CREATED:20260126T141427Z
LAST-MODIFIED:20260126T141427Z
UID:10017848-1777809600-1777816800@artssouthdakota.org
SUMMARY:Sunshine\, Lollipops & Rainbows Spring Aerial Showcase
DESCRIPTION:Get ready for a sugary-sweet showcase filled with vibrant\, upbeat\, and colorful performances that are sure to leave you smiling! \nSunshine\, Lollipops & Rainbows is a joyful celebration of movement\, creativity\, and feel-good energy\, featuring aerial performers of all ages sharing routines inspired by happiness\, whimsy\, and fun. \nJoin us on Sunday\, May 3\, 2026 for an unforgettable experience the whole family can enjoy. With lively music\, bright themes\, and heart-warming performances\, this showcase is the perfect way to spend your afternoon. \nShowtimes: \n• 12:00 PM \n• 3:00 PM
URL:https://artssouthdakota.org/event/sunshine-lollipops-rainbows-spring-aerial-showcase/2026-05-03/1/
LOCATION:South Dakota Aerial & Arts\, 1200 E. 3rd St. Suite 113 Door F\, Sioux Falls\, S\, 57103\, United States
CATEGORIES:Performance,Southeast Region
ATTACH;FMTTYPE=image/png:https://artssouthdakota.org/wp-content/uploads/2026/01/Sunshine-Lollipops-and-Rainbows-Showcase-May-2026.png
ORGANIZER;CN="South Dakota Aerial &amp%3B Arts":MAILTO:info@sdaerialarts.com
GEO:43.5551779;-96.7107045
X-APPLE-STRUCTURED-LOCATION;VALUE=URI;X-ADDRESS=South Dakota Aerial & Arts 1200 E. 3rd St. Suite 113 Door F Sioux Falls S 57103 United States;X-APPLE-RADIUS=500;X-TITLE=1200 E. 3rd St. Suite 113 Door F:geo:-96.7107045,43.5551779
END:VEVENT
BEGIN:VEVENT
DTSTART;TZID=America/Chicago:20260503T140000
DTEND;TZID=America/Chicago:20260503T150000
DTSTAMP:20260422T103614
CREATED:20260407T204734Z
LAST-MODIFIED:20260407T204734Z
UID:10020306-1777816800-1777820400@artssouthdakota.org
SUMMARY:High Plains Woodwinds Spring Concert: "Spring Anew"
DESCRIPTION:Join the High Plains Woodwinds as they present a spring concert of pieces never-before programmed by the group! A wide variety of pieces new to our performers and audience! \nSunday\, May 3\n2:00 pm\nSpirit of Joy Lutheran Church\n2208 W. La Quinta St. Sioux Falls\, SD\nFree Will Donation\nReception to follow \nSpring Anew!\nDr. Paul Schilf\, director\nProgram:\nDark Woods Circus – Leon Steward\nAll Glory\, Laud & Honor – arr. Cherly Bray Jackson\nMorning Sunrise – arr. Joel Blahnik\nPuck and Elfin Dance – Edvard Grieg arr. David Marlatt\nKirkwood – Clancy Weeks\nI. Battle for the Bell\nII. Missouri River Runner\nIII. Greentree Parade\nFantasy – Wayne Fritchie\nJukebox Memories – arr. Jason Rygg
URL:https://artssouthdakota.org/event/high-plains-woodwinds-spring-concert-spring-anew/
LOCATION:Spirit of Joy Lutheran Church\, 2208 W. La Quinta St.\, Sioux Falls\, 57108\, United States
CATEGORIES:Concert,Music,Southeast Region
ATTACH;FMTTYPE=image/jpeg:https://artssouthdakota.org/wp-content/uploads/2026/04/FINAL-LOGO-USE_SIDEWAYS-2.jpg
GEO:43.4868921;-96.7491304
X-APPLE-STRUCTURED-LOCATION;VALUE=URI;X-ADDRESS=Spirit of Joy Lutheran Church 2208 W. La Quinta St. Sioux Falls 57108 United States;X-APPLE-RADIUS=500;X-TITLE=2208 W. La Quinta St.:geo:-96.7491304,43.4868921
END:VEVENT
BEGIN:VEVENT
DTSTART;TZID=America/Chicago:20260503T140000
DTEND;TZID=America/Chicago:20260503T150000
DTSTAMP:20260422T103614
CREATED:20260409T182805Z
LAST-MODIFIED:20260409T182805Z
UID:10020307-1777816800-1777820400@artssouthdakota.org
SUMMARY:High Plains Woodwinds Spring Concert: "Spring Anew"
DESCRIPTION:Join the High Plains Woodwinds as they present a spring concert of pieces never-before programmed by the group! A wide variety of pieces new to our performers and audience! \nSunday\, May 3\n2:00 pm\nSpirit of Joy Lutheran Church\n2208 W. La Quinta St. Sioux Falls\, SD\nFree Will Donation\nReception to follow \nSpring Anew!\nDr. Paul Schilf\, director\nProgram:\nDark Woods Circus – Leon Steward\nAll Glory\, Laud & Honor – arr. Cherly Bray Jackson\nMorning Sunrise – arr. Joel Blahnik\nPuck and Elfin Dance – Edvard Grieg arr. David Marlatt\nKirkwood – Clancy Weeks\nI. Battle for the Bell\nII. Missouri River Runner\nIII. Greentree Parade\nFantasy – Wayne Fritchie\nJukebox Memories – arr. Jason Rygg
URL:https://artssouthdakota.org/event/high-plains-woodwinds-spring-concert-spring-anew-2/
LOCATION:Spirit of Joy Lutheran Church\, 2208 W. La Quinta St.\, Sioux Falls\, 57108\, United States
CATEGORIES:Concert,Music,Southeast Region
ATTACH;FMTTYPE=image/png:https://artssouthdakota.org/wp-content/uploads/2026/04/Screenshot-150.png
GEO:43.4868921;-96.7491304
X-APPLE-STRUCTURED-LOCATION;VALUE=URI;X-ADDRESS=Spirit of Joy Lutheran Church 2208 W. La Quinta St. Sioux Falls 57108 United States;X-APPLE-RADIUS=500;X-TITLE=2208 W. La Quinta St.:geo:-96.7491304,43.4868921
END:VEVENT
BEGIN:VEVENT
DTSTART;TZID=America/Chicago:20260503T140000
DTEND;TZID=America/Chicago:20260503T150000
DTSTAMP:20260422T103614
CREATED:20260420T215746Z
LAST-MODIFIED:20260420T215746Z
UID:10020904-1777816800-1777820400@artssouthdakota.org
SUMMARY:SculptureWalk: Sculpture Talks
DESCRIPTION:SculptureWalk: Sculpture Talks \nSunday\, May 3 2:00 to 3:00pm \nMarketBeat Theater at StartUp Sioux Falls \nArtist Features: \nLuke Achterberg from La Crosse\, WI \nNathan Johansen from Provo\, Utah \nSunghee Min from Roseville\, MN \nAbout Luke Achterberg: \nLuke Achterberg explores the subcultures of Americana found in automotive customizing\, style writing\, graffiti\, comics\, snow/skateboarding and street art—all of which display extremely high technical skills developed outside of academia. Working to overturn the standardization of mass production\, he is continually playing with balance\, both physical and aesthetic\, to create a pronounced visual sleekness. Luke received his undergraduate degree at the University of Wisconsin-La Crosse in 2004\, then obtained a Welding Technical Diploma from Western Technical College in La Crosse the following year. After spending time as a certified welder at a custom job shop\, he attended graduate school at the University of Kentucky\, completing his Master of Fine Art. Luke has received many prestigious awards from institutions such as the International Sculpture Center in New Jersey\, and Art-St-Urban in Switzerland. He currently lives and works in La Crosse\, WI. \nAbout Nathan Johansen: \nNathan Johansen looks to nature for the forms he uses in his work. Plants with their seeds\, in all their various stages of development\, are rich in symbols and patterns that repeat in all life. His deep sensitivity to the natural world is embodied in his depictions of the cycles of plants and seeds\, birds\, insects and all of their relationship to mankind. A lifelong resident of Utah\, Nathan graduated with a BA in Fine Art from Brigham Young University. Nate has worked in the Art Casting field for over 36 years\, coordinating Fine Art Casting at Metal Arts Foundry in Lehi\, Utah. He is now working as Johansen Studios\, producing his own art full time. \nAbout Sunghee Min: \nSunghee Min is a public artist based in Roseville\, Minnesota. Originally from rural South Korea\, she studied sculpture and installation art at the Academy of Art University in San Francisco. Since relocating to Minnesota in 2016\, Min has focused on creating outdoor public sculptures that engage diverse audiences throughout the Midwest. Working primarily with metal—especially manufactured steel sheets\, bars\, and structural forms—her sculptures explore geometric shapes such as triangles and squares. These simple\, universal forms reflect Min’s interest in the relationships between structure\, nature\, and community. Her work is driven by the potential of public art to transcend individual experience and resonate with a broad public in shared spaces. Min’s sculptures have been exhibited widely in outdoor sculpture walks and exhibitions across Minnesota\, South Dakota\, Iowa\, Wisconsin\, Nebraska\, and Illinois. She has received several awards and grants\, including the 2024–2025 Artists’ Future Grant from the Metropolitan Regional Arts Council and the 2024 Creative Support for Individuals Grant from the Minnesota State Arts Board. Her public commissions include works for the City of Madison\, Wisconsin; the City of Rochester\, Minnesota; and Silverwood Park Sculpture Trail in Saint Anthony\, Minnesota. Through her work\, Sunghee Min continues to explore themes of connectivity\, simplicity\, and the power of geometric form to invite reflection and dialogue in public space.
URL:https://artssouthdakota.org/event/sculpturewalk-sculpture-talks/
LOCATION:Startup Sioux Falls\, 100 E 6th St\, Sioux Falls\, SD\, United States
CATEGORIES:Art,Discussion,Southeast Region
ATTACH;FMTTYPE=image/jpeg:https://artssouthdakota.org/wp-content/uploads/2026/04/EventImage.jpg
GEO:43.551213;-96.72683
X-APPLE-STRUCTURED-LOCATION;VALUE=URI;X-ADDRESS=Startup Sioux Falls 100 E 6th St Sioux Falls SD United States;X-APPLE-RADIUS=500;X-TITLE=100 E 6th St:geo:-96.72683,43.551213
END:VEVENT
BEGIN:VEVENT
DTSTART;TZID=America/Chicago:20260503T150000
DTEND;TZID=America/Chicago:20260503T170000
DTSTAMP:20260422T103614
CREATED:20260126T141427Z
LAST-MODIFIED:20260126T141427Z
UID:10017849-1777820400-1777827600@artssouthdakota.org
SUMMARY:Sunshine\, Lollipops & Rainbows Spring Aerial Showcase
DESCRIPTION:Get ready for a sugary-sweet showcase filled with vibrant\, upbeat\, and colorful performances that are sure to leave you smiling! \nSunshine\, Lollipops & Rainbows is a joyful celebration of movement\, creativity\, and feel-good energy\, featuring aerial performers of all ages sharing routines inspired by happiness\, whimsy\, and fun. \nJoin us on Sunday\, May 3\, 2026 for an unforgettable experience the whole family can enjoy. With lively music\, bright themes\, and heart-warming performances\, this showcase is the perfect way to spend your afternoon. \nShowtimes: \n• 12:00 PM \n• 3:00 PM
URL:https://artssouthdakota.org/event/sunshine-lollipops-rainbows-spring-aerial-showcase/2026-05-03/2/
LOCATION:South Dakota Aerial & Arts\, 1200 E. 3rd St. Suite 113 Door F\, Sioux Falls\, S\, 57103\, United States
CATEGORIES:Performance,Southeast Region
ATTACH;FMTTYPE=image/png:https://artssouthdakota.org/wp-content/uploads/2026/01/Sunshine-Lollipops-and-Rainbows-Showcase-May-2026.png
ORGANIZER;CN="South Dakota Aerial &amp%3B Arts":MAILTO:info@sdaerialarts.com
GEO:43.5551779;-96.7107045
X-APPLE-STRUCTURED-LOCATION;VALUE=URI;X-ADDRESS=South Dakota Aerial & Arts 1200 E. 3rd St. Suite 113 Door F Sioux Falls S 57103 United States;X-APPLE-RADIUS=500;X-TITLE=1200 E. 3rd St. Suite 113 Door F:geo:-96.7107045,43.5551779
END:VEVENT
END:VCALENDAR