BEGIN:VCALENDAR
VERSION:2.0
PRODID:-//Arts South Dakota - ECPv6.10.2//NONSGML v1.0//EN
CALSCALE:GREGORIAN
METHOD:PUBLISH
X-WR-CALNAME:Arts South Dakota
X-ORIGINAL-URL:https://artssouthdakota.org
X-WR-CALDESC:Events for Arts South Dakota
REFRESH-INTERVAL;VALUE=DURATION:PT1H
X-Robots-Tag:noindex
X-PUBLISHED-TTL:PT1H
BEGIN:VTIMEZONE
TZID:America/Chicago
BEGIN:DAYLIGHT
TZOFFSETFROM:-0600
TZOFFSETTO:-0500
TZNAME:CDT
DTSTART:20260308T080000
END:DAYLIGHT
BEGIN:STANDARD
TZOFFSETFROM:-0500
TZOFFSETTO:-0600
TZNAME:CST
DTSTART:20261101T070000
END:STANDARD
END:VTIMEZONE
BEGIN:VEVENT
DTSTART;VALUE=DATE:20260502
DTEND;VALUE=DATE:20260503
DTSTAMP:20260424T025711
CREATED:20260410T144908Z
LAST-MODIFIED:20260410T144908Z
UID:10020784-1777680000-1777766399@artssouthdakota.org
SUMMARY:Welcome to the artsHUB
DESCRIPTION:Welcome to the artsHUB⌘! The VCA and our intern Abigail would like to invite you to an analog version\, also known as a good old-fashioned get together\, of our digital HUB for artists\, makers\, arts & culture organizations\, venues\, and the community that needs you. \nYou can get ahead of the curve by checking out vermculture.org/artshub – you can add events to the calendar\, make a profile in the directory\, access resources\, or connect on our substack! Bring any questions you might have\, or ways you’d like to get connected but maybe don’t know where or how to begin. The artsHUB is built to be a collaborative experience. \nWe will have large & small + digital & analog visuals to show you what the HUB is\, supportive ways to get started in the HUB\, and\, of course\, snacks\, refreshments\, and camaraderie!
URL:https://artssouthdakota.org/event/welcome-to-the-artshub-2/2026-05-02/
LOCATION:Coyote Gallery\, East Main Street\, Vermillion\, S\, 57069\, United States
CATEGORIES:Art,Art Show,Conversation,Discussion,Education,Exhibit,Exhibition,Reception,Southeast Region,Special Events,Visual Art,Visual Arts
ATTACH;FMTTYPE=image/png:https://artssouthdakota.org/wp-content/uploads/2026/04/water-exhib-0403-1.png
ORGANIZER;CN="Vermillion Cultural Association":MAILTO:executivedirector@vermilliontheaters.com
GEO:42.7797332;-96.9314113
X-APPLE-STRUCTURED-LOCATION;VALUE=URI;X-ADDRESS=Coyote Gallery East Main Street Vermillion S 57069 United States;X-APPLE-RADIUS=500;X-TITLE=East Main Street:geo:-96.9314113,42.7797332
END:VEVENT
BEGIN:VEVENT
DTSTART;TZID=America/Chicago:20260502T090000
DTEND;TZID=America/Chicago:20260502T150000
DTSTAMP:20260424T025711
CREATED:20250826T135827Z
LAST-MODIFIED:20250826T135827Z
UID:10015283-1777712400-1777734000@artssouthdakota.org
SUMMARY:Calling for entries into the Dakota MasterWorks Art Show
DESCRIPTION:🎨 Calling All South Dakota Artists Age 60+! 🎨\nWe’re excited to announce the 28th Annual Dakota MasterWorks Art Show\, a celebration of creativity and talent in South Dakota’s older adults! \nIf you’re age 60 or older\, we invite you to showcase your artistic talents in one or more of the following categories:\n• Oils\n• Acrylics\n• Watercolors\n• Drawing/Pastels/Scratchboard\n• Photography\n• Mixed Media\n• Creative Woodworking \nEntry Dates:\nOctober 6–10\, 2025\nEntries accepted between 9 AM – 3 PM at:\nSouth Dakota Health Care Association Office\n804 N Western Ave\, Sioux Falls\, SD 57104 \nEntry forms and criteria available at:\nwww.sdhca.org/dakota-masterworks \nhttps://www.sdhca.org/dakota-masterworks
URL:https://artssouthdakota.org/event/calling-for-entries-into-the-dakota-masterworks-art-show/2026-05-02/
LOCATION:South Dakota Health Care Association Office\, 804 N Western Ave\, Sioux Falls\, 57104\, United States
CATEGORIES:Art Show,Southeast Region
ATTACH;FMTTYPE=image/jpeg:https://artssouthdakota.org/wp-content/uploads/2025/08/Dakota-masterworks-logo06-4-1.jpg
GEO:43.5568062;-96.7509876
X-APPLE-STRUCTURED-LOCATION;VALUE=URI;X-ADDRESS=South Dakota Health Care Association Office 804 N Western Ave Sioux Falls 57104 United States;X-APPLE-RADIUS=500;X-TITLE=804 N Western Ave:geo:-96.7509876,43.5568062
END:VEVENT
BEGIN:VEVENT
DTSTART;TZID=America/Chicago:20260502T100000
DTEND;TZID=America/Chicago:20260502T160000
DTSTAMP:20260424T025711
CREATED:20260420T161351Z
LAST-MODIFIED:20260420T162849Z
UID:10020903-1777716000-1777737600@artssouthdakota.org
SUMMARY:NMM Discovery Saturday
DESCRIPTION:Discovery Saturday returns to the National Music Museum (NMM) on May 2\, launching a month of programs that explore America’s musical heritage and honor Military Appreciation Month through performances\, activities\, and special gallery experiences. \nThe May 2 Discovery Saturday will feature Missouri Valley Music\, presenting folk music traditions through live performance and storytelling. Musicians John Everist (banjo\, concertina\, fiddle)\, Mike Pettman (concertina\, accordion)\, and Bill Peterson and Josh Scott (fiddle) will share music rooted in Irish\, Scottish\, Danish\, Norwegian\, Swedish\, and Métis traditions. Their program will explore how immigrant musicians carried their cultural heritage to America\, preserving and evolving these traditions across generations. \nIn recognition of Military Appreciation Month\, the NMM will feature a special gallery guide showcasing military instruments on exhibit. The museum will also launch participation in the Blue Star Museums program\, offering free admission to veterans and active-duty military personnel and their families from May 1 through Labor Day.
URL:https://artssouthdakota.org/event/nmm-discovery-saturday-10/
LOCATION:National Music Museum\, East Clark Street\, Vermillion\, S\, 57069\, United States
CATEGORIES:Americana Series,Concert,Education,Exhibition,History,Music
ATTACH;FMTTYPE=image/jpeg:https://artssouthdakota.org/wp-content/uploads/2026/04/NMM_7473-1.jpg
ORGANIZER;CN="National Music Museum":MAILTO:nmm@usd.edu
GEO:42.7828208;-96.9263383
X-APPLE-STRUCTURED-LOCATION;VALUE=URI;X-ADDRESS=National Music Museum East Clark Street Vermillion S 57069 United States;X-APPLE-RADIUS=500;X-TITLE=East Clark Street:geo:-96.9263383,42.7828208
END:VEVENT
BEGIN:VEVENT
DTSTART;TZID=America/Chicago:20260502T140000
DTEND;TZID=America/Chicago:20260502T160000
DTSTAMP:20260424T025711
CREATED:20250805T173438Z
LAST-MODIFIED:20250805T173438Z
UID:10014921-1777730400-1777737600@artssouthdakota.org
SUMMARY:Meredith Willson’s THE MUSIC MAN
DESCRIPTION:There’s trouble in River City when a fast-talking salesman gets his heart stolen by the town librarian. Meredith Willson’s six-time\, Tony Award-winning musical comedy The Music Man follows fast-talking traveling salesman\, Harold Hill\, as he cons the people of River City\, Iowa\, into buying instruments and uniforms for a boys’ band that he vows to organize – this\, despite the fact that he doesn’t know a trombone from a treble clef. His plans to skip town with the cash are foiled when he falls for Marian\, the librarian\, who transforms him into a respectable citizen by curtain’s fall. Featuring songs such as “Seventy-Six Trombones\,” “Trouble\,” “‘Til There Was You\,” “Pickalittle” and “Gary\, Indiana\,” The Music Man is a family-friendly story to be shared with every generation.
URL:https://artssouthdakota.org/event/meredith-willsons-the-music-man/2026-05-02/1/
LOCATION:Washington Pavilion – SDSO\, 301 S Main Ave\, Sioux Falls\, SD\, United States
CATEGORIES:Southeast Region,Theater
ATTACH;FMTTYPE=image/jpeg:https://artssouthdakota.org/wp-content/uploads/2025/08/THE-MUSIC-MAN-400X230.jpg
ORGANIZER;CN="Washington Pavilion":MAILTO:info@washingtonpavilion.org
GEO:43.544695;-96.728273
X-APPLE-STRUCTURED-LOCATION;VALUE=URI;X-ADDRESS=Washington Pavilion – SDSO 301 S Main Ave Sioux Falls SD United States;X-APPLE-RADIUS=500;X-TITLE=301 S Main Ave:geo:-96.728273,43.544695
END:VEVENT
BEGIN:VEVENT
DTSTART;TZID=America/Chicago:20260502T193000
DTEND;TZID=America/Chicago:20260502T213000
DTSTAMP:20260424T025711
CREATED:20250805T173438Z
LAST-MODIFIED:20250805T173438Z
UID:10014922-1777750200-1777757400@artssouthdakota.org
SUMMARY:Meredith Willson’s THE MUSIC MAN
DESCRIPTION:There’s trouble in River City when a fast-talking salesman gets his heart stolen by the town librarian. Meredith Willson’s six-time\, Tony Award-winning musical comedy The Music Man follows fast-talking traveling salesman\, Harold Hill\, as he cons the people of River City\, Iowa\, into buying instruments and uniforms for a boys’ band that he vows to organize – this\, despite the fact that he doesn’t know a trombone from a treble clef. His plans to skip town with the cash are foiled when he falls for Marian\, the librarian\, who transforms him into a respectable citizen by curtain’s fall. Featuring songs such as “Seventy-Six Trombones\,” “Trouble\,” “‘Til There Was You\,” “Pickalittle” and “Gary\, Indiana\,” The Music Man is a family-friendly story to be shared with every generation.
URL:https://artssouthdakota.org/event/meredith-willsons-the-music-man/2026-05-02/2/
LOCATION:Washington Pavilion – SDSO\, 301 S Main Ave\, Sioux Falls\, SD\, United States
CATEGORIES:Southeast Region,Theater
ATTACH;FMTTYPE=image/jpeg:https://artssouthdakota.org/wp-content/uploads/2025/08/THE-MUSIC-MAN-400X230.jpg
ORGANIZER;CN="Washington Pavilion":MAILTO:info@washingtonpavilion.org
GEO:43.544695;-96.728273
X-APPLE-STRUCTURED-LOCATION;VALUE=URI;X-ADDRESS=Washington Pavilion – SDSO 301 S Main Ave Sioux Falls SD United States;X-APPLE-RADIUS=500;X-TITLE=301 S Main Ave:geo:-96.728273,43.544695
END:VEVENT
END:VCALENDAR