BEGIN:VCALENDAR
VERSION:2.0
PRODID:-//Arts South Dakota - ECPv6.10.2//NONSGML v1.0//EN
CALSCALE:GREGORIAN
METHOD:PUBLISH
X-ORIGINAL-URL:https://artssouthdakota.org
X-WR-CALDESC:Events for Arts South Dakota
REFRESH-INTERVAL;VALUE=DURATION:PT1H
X-Robots-Tag:noindex
X-PUBLISHED-TTL:PT1H
BEGIN:VTIMEZONE
TZID:America/Chicago
BEGIN:DAYLIGHT
TZOFFSETFROM:-0600
TZOFFSETTO:-0500
TZNAME:CDT
DTSTART:20260308T080000
END:DAYLIGHT
BEGIN:STANDARD
TZOFFSETFROM:-0500
TZOFFSETTO:-0600
TZNAME:CST
DTSTART:20261101T070000
END:STANDARD
END:VTIMEZONE
BEGIN:VEVENT
DTSTART;TZID=America/Chicago:20260630T180000
DTEND;TZID=America/Chicago:20260630T200000
DTSTAMP:20260419T135621
CREATED:20260204T183127Z
LAST-MODIFIED:20260204T183127Z
UID:10019588-1782842400-1782849600@artssouthdakota.org
SUMMARY:Wood Carving 101
DESCRIPTION:Discover the creative world of wood carving with Steve Hunter. A Toronto\, SD-based carver that has been carving since 1998. This beginner-friendly course is designed both for absolute beginners and for those coming back to carving after a pause. Learn core safety and carving fundamentals using one knife\, plus a complete end-to-end project. The atmosphere is relaxed\, fun\, and supportive\, with patient coaching. \nYour registration includes a full personal carving kit to keep:\n•     High-quality carving knife\n•     Cut-resistant carving glove\n•     Finger safety tape\n•     Leather strop and stropping compound\n•     Carving pattern and basswood for project and practice\n•     Pencil\n•     Heavy canvas tool roll and a heavy-duty canvas bag \nMinimum age is 16 or 14 if accompanied by an adult in all sessions.
URL:https://artssouthdakota.org/event/wood-carving-101/2026-06-30/
LOCATION:Codington Country Heritage Museum Classroom\, 27 1st Ave SE\,\, Watertown\, 57201\, United States
CATEGORIES:Art,Class/Workshop,Northeast Region
ATTACH;FMTTYPE=image/jpeg:https://artssouthdakota.org/wp-content/uploads/2026/01/WoodC-Banner_Hunter_Mar2026.jpg
ORGANIZER;CN="Northern Prairie Arts ~ Watertown's Arts Council":MAILTO:artsnight@outlook.com
GEO:44.8992574;-97.1135929
X-APPLE-STRUCTURED-LOCATION;VALUE=URI;X-ADDRESS=Codington Country Heritage Museum Classroom 27 1st Ave SE Watertown 57201 United States;X-APPLE-RADIUS=500;X-TITLE=27 1st Ave SE\,:geo:-97.1135929,44.8992574
END:VEVENT
BEGIN:VEVENT
DTSTART;TZID=America/Chicago:20260702T160000
DTEND;TZID=America/Chicago:20260702T190000
DTSTAMP:20260419T135621
CREATED:20260330T134627Z
LAST-MODIFIED:20260330T134627Z
UID:10020209-1783008000-1783018800@artssouthdakota.org
SUMMARY:Miller Area Arts in the Park
DESCRIPTION:The Miller Area Arts in the Park (MAAP) is a free one day event open to the public in Hand County that has historically welcomed 100+ attendees. In 2023\, the Miller Area Arts in the Park featured 15 artisan vendors\, continuous main stage entertainment featuring local musicians\, a children’s area with fun and educational activities\, and a variety of food options.
URL:https://artssouthdakota.org/event/miller-area-arts-in-the-park/
LOCATION:Miller\, SD\, Miller\, 57362\, United States
CATEGORIES:Art Show,Concert,Exhibit,Northeast Region
ATTACH;FMTTYPE=image/png:https://artssouthdakota.org/wp-content/uploads/2026/03/Millerr-Area-Arts-in-the-Parm_20260327_192018_0000.png
GEO:44.5183148;-98.988434
END:VEVENT
END:VCALENDAR