BEGIN:VCALENDAR
VERSION:2.0
PRODID:-//Arts South Dakota - ECPv6.10.2//NONSGML v1.0//EN
CALSCALE:GREGORIAN
METHOD:PUBLISH
X-WR-CALNAME:Arts South Dakota
X-ORIGINAL-URL:https://artssouthdakota.org
X-WR-CALDESC:Events for Arts South Dakota
REFRESH-INTERVAL;VALUE=DURATION:PT1H
X-Robots-Tag:noindex
X-PUBLISHED-TTL:PT1H
BEGIN:VTIMEZONE
TZID:America/Chicago
BEGIN:DAYLIGHT
TZOFFSETFROM:-0600
TZOFFSETTO:-0500
TZNAME:CDT
DTSTART:20260308T080000
END:DAYLIGHT
BEGIN:STANDARD
TZOFFSETFROM:-0500
TZOFFSETTO:-0600
TZNAME:CST
DTSTART:20261101T070000
END:STANDARD
END:VTIMEZONE
BEGIN:VTIMEZONE
TZID:America/Denver
BEGIN:DAYLIGHT
TZOFFSETFROM:-0700
TZOFFSETTO:-0600
TZNAME:MDT
DTSTART:20260308T090000
END:DAYLIGHT
BEGIN:STANDARD
TZOFFSETFROM:-0600
TZOFFSETTO:-0700
TZNAME:MST
DTSTART:20261101T080000
END:STANDARD
END:VTIMEZONE
BEGIN:VEVENT
DTSTART;TZID=America/Chicago:20260320T180000
DTEND;TZID=America/Chicago:20260320T220000
DTSTAMP:20260420T083135
CREATED:20260116T183521Z
LAST-MODIFIED:20260116T183521Z
UID:10017745-1774029600-1774044000@artssouthdakota.org
SUMMARY:Where the Creatives Gather
DESCRIPTION:Artist gathering the last three Fridays of each month from November until May at Kristopherson Korner\, Veterans Avenue Sisseton Bring Art projects you are working on and come hang out with other artists the last three Fridays during the winter months. Music\, Hot Tea and snacks provided. Don’t forget your tea mug!
URL:https://artssouthdakota.org/event/where-the-creatives-gather/2026-03-20/
LOCATION:Kristopherson Korner\, Sisseton\, United States
CATEGORIES:Art,Conversation,Northeast Region
ATTACH;FMTTYPE=image/png:https://artssouthdakota.org/wp-content/uploads/2026/01/Screenshot-2026-01-16-at-12.34.54 PM.png
GEO:45.6646815;-97.0498046
END:VEVENT
BEGIN:VEVENT
DTSTART;TZID=America/Denver:20260320T120000
DTEND;TZID=America/Denver:20260320T130000
DTSTAMP:20260420T083135
CREATED:20260217T163254Z
LAST-MODIFIED:20260217T163254Z
UID:10019915-1774008000-1774011600@artssouthdakota.org
SUMMARY:History at High Noon
DESCRIPTION:Our March 20th History at High Noon Program will be: “First Sturgis City Council”.\nLee Stroschine will tell about the men that made up the first city council for Sturgis. (when the city was incorporated in 1888) \nHistory at High Noon is a program on the third Friday of the month (October and November\, January through May). We meet at noon in the Community Room of the Sturgis Public Library. \nWe are always looking for ideas. If you would like to tell your family’s history or have something history-based\, please contact Richard Moeller (running2win@gmail.com\, 605-939-3789)\, Ross Lamphere (rosslamphere@gmail.com\, 605-490-3110)\, or Diana Hayes (605-347-3007). \nHistory at High Noon is co-sponsored by the Sturgis & Meade County Historical Society.
URL:https://artssouthdakota.org/event/history-at-high-noon/
LOCATION:Sturgis Public Library\, 1040 Harley-Davidson Way #101\, Sturgis
CATEGORIES:History,West Region
ATTACH;FMTTYPE=image/png:https://artssouthdakota.org/wp-content/uploads/2026/02/HHNLogoSBGl.png
ORGANIZER;CN="Sturgis Area Arts Council &amp%3B the Sturgis and Meade County Historical Association":MAILTO:saacpublicity@hotmail.com
END:VEVENT
BEGIN:VEVENT
DTSTART;TZID=America/Chicago:20260320T100000
DTEND;TZID=America/Chicago:20260320T160000
DTSTAMP:20260420T083135
CREATED:20260118T194008Z
LAST-MODIFIED:20260319T212508Z
UID:10017756-1774000800-1774022400@artssouthdakota.org
SUMMARY:Of Thee I Sing: Origin\, Heritage and Patriotism
DESCRIPTION:Event Contact: National Music MuseumContact Email: nmm@usd.eduContact Phone: 605-658-3450Event URL: https://www.nmmusd.org/Event Locator: 2026-ACGWDN \nExperience America’s story through the musical instruments that helped shape our nation. The NMM’s special exhibition “Of Thee I Sing: Origin\, Heritage and Patriotism”\, opening March 20\, explores instruments from Native traditions\, colonial America\, immigrant makers and patriotic artistry to see how music is reflected in the diverse paths that formed the United States. Join us as we approach America’s 250th birthday\, and consider your own origin\, heritage and patriotic story. \nThe National Music Museum is open to the public Tuesday-Saturday\, 10am-4pm. More information can be found at NMMusd.org. \nNMM admission is always free for USD faculty\, staff\, and students!
URL:https://artssouthdakota.org/event/of-thee-i-sing-origin-heritage-and-patriotism/
LOCATION:National Music Museum Groves Gallery
CATEGORIES:Southeast Region,USD Public Calendar
END:VEVENT
BEGIN:VEVENT
DTSTART;TZID=America/Chicago:20260320T090000
DTEND;TZID=America/Chicago:20260320T150000
DTSTAMP:20260420T083135
CREATED:20250826T135827Z
LAST-MODIFIED:20250826T135827Z
UID:10015240-1773997200-1774018800@artssouthdakota.org
SUMMARY:Calling for entries into the Dakota MasterWorks Art Show
DESCRIPTION:🎨 Calling All South Dakota Artists Age 60+! 🎨\nWe’re excited to announce the 28th Annual Dakota MasterWorks Art Show\, a celebration of creativity and talent in South Dakota’s older adults! \nIf you’re age 60 or older\, we invite you to showcase your artistic talents in one or more of the following categories:\n• Oils\n• Acrylics\n• Watercolors\n• Drawing/Pastels/Scratchboard\n• Photography\n• Mixed Media\n• Creative Woodworking \nEntry Dates:\nOctober 6–10\, 2025\nEntries accepted between 9 AM – 3 PM at:\nSouth Dakota Health Care Association Office\n804 N Western Ave\, Sioux Falls\, SD 57104 \nEntry forms and criteria available at:\nwww.sdhca.org/dakota-masterworks \nhttps://www.sdhca.org/dakota-masterworks
URL:https://artssouthdakota.org/event/calling-for-entries-into-the-dakota-masterworks-art-show/2026-03-20/
LOCATION:South Dakota Health Care Association Office\, 804 N Western Ave\, Sioux Falls\, 57104\, United States
CATEGORIES:Art Show,Southeast Region
ATTACH;FMTTYPE=image/jpeg:https://artssouthdakota.org/wp-content/uploads/2025/08/Dakota-masterworks-logo06-4-1.jpg
GEO:43.5568062;-96.7509876
X-APPLE-STRUCTURED-LOCATION;VALUE=URI;X-ADDRESS=South Dakota Health Care Association Office 804 N Western Ave Sioux Falls 57104 United States;X-APPLE-RADIUS=500;X-TITLE=804 N Western Ave:geo:-96.7509876,43.5568062
END:VEVENT
BEGIN:VEVENT
DTSTART;VALUE=DATE:20260320
DTEND;VALUE=DATE:20260322
DTSTAMP:20260420T083135
CREATED:20250916T175359Z
LAST-MODIFIED:20250916T175359Z
UID:10015961-1773964800-1774137599@artssouthdakota.org
SUMMARY:Journeys to the Edge: The Artistic Legacy of Waud\, Burns\, and Crane
DESCRIPTION:The Journey Museum is pleased to announce the opening of an exciting new art exhibition\, Journeys to the Edge: The Artistic Legacy of Waud\, Burns\, and Crane\, on August 23rd\, 2025 in our Contemporary Gallery. This exhibition is included with regular museum admission and will be on display through April 4th\, 2026. \nJourneys to the Edge explores the artistic legacy\, family connection\, and the enduring power of place. This unique exhibition brings together the works of three artists: Alfred R. Waud\, Milton J. Burns\, and Jon Crane.
URL:https://artssouthdakota.org/event/journeys-to-the-edge-the-artistic-legacy-of-waud-burns-and-crane/2026-03-20/
LOCATION:The Journey Museum\, 222 New York St\, Rapid City\, SD\, United States
CATEGORIES:Art,Art Show,West Region
ATTACH;FMTTYPE=image/png:https://artssouthdakota.org/wp-content/uploads/2025/09/Screenshot-2025-09-16-at-12.51.36 PM.png
GEO:44.085429;-103.218084
X-APPLE-STRUCTURED-LOCATION;VALUE=URI;X-ADDRESS=The Journey Museum 222 New York St Rapid City SD United States;X-APPLE-RADIUS=500;X-TITLE=222 New York St:geo:-103.218084,44.085429
END:VEVENT
BEGIN:VEVENT
DTSTART;VALUE=DATE:20260319
DTEND;VALUE=DATE:20260321
DTSTAMP:20260420T083135
CREATED:20250916T175359Z
LAST-MODIFIED:20250916T175359Z
UID:10015960-1773878400-1774051199@artssouthdakota.org
SUMMARY:Journeys to the Edge: The Artistic Legacy of Waud\, Burns\, and Crane
DESCRIPTION:The Journey Museum is pleased to announce the opening of an exciting new art exhibition\, Journeys to the Edge: The Artistic Legacy of Waud\, Burns\, and Crane\, on August 23rd\, 2025 in our Contemporary Gallery. This exhibition is included with regular museum admission and will be on display through April 4th\, 2026. \nJourneys to the Edge explores the artistic legacy\, family connection\, and the enduring power of place. This unique exhibition brings together the works of three artists: Alfred R. Waud\, Milton J. Burns\, and Jon Crane.
URL:https://artssouthdakota.org/event/journeys-to-the-edge-the-artistic-legacy-of-waud-burns-and-crane/2026-03-19/
LOCATION:The Journey Museum\, 222 New York St\, Rapid City\, SD\, United States
CATEGORIES:Art,Art Show,West Region
ATTACH;FMTTYPE=image/png:https://artssouthdakota.org/wp-content/uploads/2025/09/Screenshot-2025-09-16-at-12.51.36 PM.png
GEO:44.085429;-103.218084
X-APPLE-STRUCTURED-LOCATION;VALUE=URI;X-ADDRESS=The Journey Museum 222 New York St Rapid City SD United States;X-APPLE-RADIUS=500;X-TITLE=222 New York St:geo:-103.218084,44.085429
END:VEVENT
BEGIN:VEVENT
DTSTART;VALUE=DATE:20260318
DTEND;VALUE=DATE:20260320
DTSTAMP:20260420T083135
CREATED:20250916T175359Z
LAST-MODIFIED:20250916T175359Z
UID:10015959-1773792000-1773964799@artssouthdakota.org
SUMMARY:Journeys to the Edge: The Artistic Legacy of Waud\, Burns\, and Crane
DESCRIPTION:The Journey Museum is pleased to announce the opening of an exciting new art exhibition\, Journeys to the Edge: The Artistic Legacy of Waud\, Burns\, and Crane\, on August 23rd\, 2025 in our Contemporary Gallery. This exhibition is included with regular museum admission and will be on display through April 4th\, 2026. \nJourneys to the Edge explores the artistic legacy\, family connection\, and the enduring power of place. This unique exhibition brings together the works of three artists: Alfred R. Waud\, Milton J. Burns\, and Jon Crane.
URL:https://artssouthdakota.org/event/journeys-to-the-edge-the-artistic-legacy-of-waud-burns-and-crane/2026-03-18/
LOCATION:The Journey Museum\, 222 New York St\, Rapid City\, SD\, United States
CATEGORIES:Art,Art Show,West Region
ATTACH;FMTTYPE=image/png:https://artssouthdakota.org/wp-content/uploads/2025/09/Screenshot-2025-09-16-at-12.51.36 PM.png
GEO:44.085429;-103.218084
X-APPLE-STRUCTURED-LOCATION;VALUE=URI;X-ADDRESS=The Journey Museum 222 New York St Rapid City SD United States;X-APPLE-RADIUS=500;X-TITLE=222 New York St:geo:-103.218084,44.085429
END:VEVENT
END:VCALENDAR