BEGIN:VCALENDAR
VERSION:2.0
PRODID:-//Arts South Dakota - ECPv6.10.2//NONSGML v1.0//EN
CALSCALE:GREGORIAN
METHOD:PUBLISH
X-ORIGINAL-URL:https://artssouthdakota.org
X-WR-CALDESC:Events for Arts South Dakota
REFRESH-INTERVAL;VALUE=DURATION:PT1H
X-Robots-Tag:noindex
X-PUBLISHED-TTL:PT1H
BEGIN:VTIMEZONE
TZID:America/Chicago
BEGIN:DAYLIGHT
TZOFFSETFROM:-0600
TZOFFSETTO:-0500
TZNAME:CDT
DTSTART:20260308T080000
END:DAYLIGHT
BEGIN:STANDARD
TZOFFSETFROM:-0500
TZOFFSETTO:-0600
TZNAME:CST
DTSTART:20261101T070000
END:STANDARD
END:VTIMEZONE
BEGIN:VEVENT
DTSTART;TZID=America/Chicago:20260421T193000
DTEND;TZID=America/Chicago:20260421T203000
DTSTAMP:20260422T083319
CREATED:20260416T034009Z
LAST-MODIFIED:20260421T034009Z
UID:10020867-1776799800-1776803400@artssouthdakota.org
SUMMARY:Sarah Rosales Graduate Cello Recital
DESCRIPTION:Event Contact: Dr. Sonja KrausContact Email: Sonja.Kraus@usd.eduContact Phone: 605-658-3481Event URL: https://www.nmmusd.org/nmm-live-videoEvent Locator: 2026-ACHVQP \nSarah invites you to her graduate cello recital\, live from JL Wanzek Hall\, National Music Museum and livestreamed via the link available elsewhere on this post.
URL:https://artssouthdakota.org/event/sarah-rosales-graduate-cello-recital/
LOCATION:Campus Wide Fine Arts\, East Clark Street\, Vermillion\, South Dakota\, 57069\, United States
CATEGORIES:Southeast Region,USD Public Calendar
GEO:42.7828208;-96.9263383
X-APPLE-STRUCTURED-LOCATION;VALUE=URI;X-ADDRESS=Campus Wide Fine Arts East Clark Street Vermillion South Dakota 57069 United States;X-APPLE-RADIUS=500;X-TITLE=East Clark Street:geo:-96.9263383,42.7828208
END:VEVENT
BEGIN:VEVENT
DTSTART;TZID=America/Chicago:20260422T190000
DTEND;TZID=America/Chicago:20260422T210000
DTSTAMP:20260422T083319
CREATED:20260416T035511Z
LAST-MODIFIED:20260422T035509Z
UID:10020876-1776884400-1776891600@artssouthdakota.org
SUMMARY:Cancelosi Chamber Music Series
DESCRIPTION:Event Contact: Dr. Sonja KrausContact Email: sonja.kraus@usd.eduContact Phone: 6056583481Event URL: https://www.usd.edu/livemusicEvent Locator: 2026-ACHVPA \nUSD Department of Music invites you to the Cancelosi Chamber Music Series\, live from Colton Recital Hall\, Warren M. Lee Center for the Fine Arts. This event is open to the public at no charge.
URL:https://artssouthdakota.org/event/cancelosi-chamber-music-series/
LOCATION:Campus Wide Fine Arts\, East Clark Street\, Vermillion\, South Dakota\, 57069\, United States
CATEGORIES:Southeast Region,USD Public Calendar
GEO:42.7828208;-96.9263383
X-APPLE-STRUCTURED-LOCATION;VALUE=URI;X-ADDRESS=Campus Wide Fine Arts East Clark Street Vermillion South Dakota 57069 United States;X-APPLE-RADIUS=500;X-TITLE=East Clark Street:geo:-96.9263383,42.7828208
END:VEVENT
BEGIN:VEVENT
DTSTART;TZID=America/Chicago:20260423T200000
DTEND;TZID=America/Chicago:20260423T213000
DTSTAMP:20260422T083319
CREATED:20260416T034009Z
LAST-MODIFIED:20260422T035512Z
UID:10020868-1776974400-1776979800@artssouthdakota.org
SUMMARY:Legacy Swing: In Concert
DESCRIPTION:Event Contact: Dr. David HoldhusenContact Email: david.holdhusen@usd.eduContact Phone: 6056583467Event Locator: 2026-ACHVRG \nUSD Legacy Swing Vocal Jazz invites you to their concert\, live from the AV Lounge at 4 W Main St. This event is open to the public at no charge.
URL:https://artssouthdakota.org/event/legacy-swing-in-concert/
LOCATION:Campus Wide Fine Arts\, East Clark Street\, Vermillion\, South Dakota\, 57069\, United States
CATEGORIES:Southeast Region,USD Public Calendar
GEO:42.7828208;-96.9263383
X-APPLE-STRUCTURED-LOCATION;VALUE=URI;X-ADDRESS=Campus Wide Fine Arts East Clark Street Vermillion South Dakota 57069 United States;X-APPLE-RADIUS=500;X-TITLE=East Clark Street:geo:-96.9263383,42.7828208
END:VEVENT
BEGIN:VEVENT
DTSTART;TZID=America/Chicago:20260424T170000
DTEND;TZID=America/Chicago:20260424T190000
DTSTAMP:20260422T083319
CREATED:20260414T032509Z
LAST-MODIFIED:20260422T032508Z
UID:10020845-1777050000-1777057200@artssouthdakota.org
SUMMARY:Under Construction: Still Workin' on it- Reception
DESCRIPTION:Event Contact: amy.fill@usd.eduContact Email: amy.fill@usd.eduContact Phone: 6056583437Event Locator: 2026-ACHVDM \nUnder Construction: Still Working on it features the creative research by USD Department of Art BFA Students\, Jade Bendewald\, Emma Johnson\, Marleen Mulla\, and Kyle Van Buskirk. \nPublic Reception is on April 24\, 2026\, 5 pm to 7 pm\, in the John A. Day Gallery\, Warren M. Lee Center for the Fine Arts. \nUnder Construction is on exhibit April 20 – April 24\, 2026 \n9 am to 5 pm-Monday through Friday. 
URL:https://artssouthdakota.org/event/under-construction-still-workin-on-it-reception/
LOCATION:John A Day Gallery\, East Clark Street\, Vermillion\, South Dakota\, 57069\, United States
CATEGORIES:Southeast Region,USD Public Calendar
GEO:42.7828208;-96.9263383
X-APPLE-STRUCTURED-LOCATION;VALUE=URI;X-ADDRESS=John A Day Gallery East Clark Street Vermillion South Dakota 57069 United States;X-APPLE-RADIUS=500;X-TITLE=East Clark Street:geo:-96.9263383,42.7828208
END:VEVENT
END:VCALENDAR