BEGIN:VCALENDAR
VERSION:2.0
PRODID:-//Arts South Dakota - ECPv6.10.2//NONSGML v1.0//EN
CALSCALE:GREGORIAN
METHOD:PUBLISH
X-WR-CALNAME:Arts South Dakota
X-ORIGINAL-URL:https://artssouthdakota.org
X-WR-CALDESC:Events for Arts South Dakota
REFRESH-INTERVAL;VALUE=DURATION:PT1H
X-Robots-Tag:noindex
X-PUBLISHED-TTL:PT1H
BEGIN:VTIMEZONE
TZID:America/Chicago
BEGIN:DAYLIGHT
TZOFFSETFROM:-0600
TZOFFSETTO:-0500
TZNAME:CDT
DTSTART:20260308T080000
END:DAYLIGHT
BEGIN:STANDARD
TZOFFSETFROM:-0500
TZOFFSETTO:-0600
TZNAME:CST
DTSTART:20261101T070000
END:STANDARD
END:VTIMEZONE
BEGIN:VEVENT
DTSTART;TZID=America/Chicago:20260419T130000
DTEND;TZID=America/Chicago:20260419T150000
DTSTAMP:20260425T220731
CREATED:20260416T035511Z
LAST-MODIFIED:20260419T035509Z
UID:10020875-1776603600-1776610800@artssouthdakota.org
SUMMARY:String Showcase
DESCRIPTION:Event Contact: Natalie SterbaContact Email: natalie.sterba@usd.eduContact Phone: 4029992787Event URL: https://www.usd.edu/livemusicEvent Locator: 2026-ACHVPG \nThe USD Strings Studio invites you to their spring recital in Colton Recital Hall\, Warren M. Lee Center for the Fine Arts. This event is open to the public at no charge.
URL:https://artssouthdakota.org/event/string-showcase/
LOCATION:Campus Wide Fine Arts\, East Clark Street\, Vermillion\, South Dakota\, 57069\, United States
CATEGORIES:Southeast Region,USD Public Calendar
GEO:42.7828208;-96.9263383
X-APPLE-STRUCTURED-LOCATION;VALUE=URI;X-ADDRESS=Campus Wide Fine Arts East Clark Street Vermillion South Dakota 57069 United States;X-APPLE-RADIUS=500;X-TITLE=East Clark Street:geo:-96.9263383,42.7828208
END:VEVENT
BEGIN:VEVENT
DTSTART;TZID=America/Chicago:20260419T150000
DTEND;TZID=America/Chicago:20260419T170000
DTSTAMP:20260425T220731
CREATED:20260416T034008Z
LAST-MODIFIED:20260419T034009Z
UID:10020865-1776610800-1776618000@artssouthdakota.org
SUMMARY:USD Symphonic Band/ Concert Band
DESCRIPTION:Event Contact: Dr. Bethany AmundsonContact Email: bethany.amundson@usd.eduContact Phone: 605-658-3468Event URL: https://www.usd.edu/livemusicEvent Locator: 2026-ACHVQD \nThe USD Music Department invites you to the USD Bands Spring Concert\, live from Aalfs Auditorium\, Slagle Hall and livestreamed via the link elsewhere on this post.
URL:https://artssouthdakota.org/event/usd-symphonic-band-concert-band/
LOCATION:Campus Wide Fine Arts\, East Clark Street\, Vermillion\, South Dakota\, 57069\, United States
CATEGORIES:Southeast Region,USD Public Calendar
GEO:42.7828208;-96.9263383
X-APPLE-STRUCTURED-LOCATION;VALUE=URI;X-ADDRESS=Campus Wide Fine Arts East Clark Street Vermillion South Dakota 57069 United States;X-APPLE-RADIUS=500;X-TITLE=East Clark Street:geo:-96.9263383,42.7828208
END:VEVENT
BEGIN:VEVENT
DTSTART;TZID=America/Chicago:20260419T183000
DTEND;TZID=America/Chicago:20260419T193000
DTSTAMP:20260425T220731
CREATED:20260416T034009Z
LAST-MODIFIED:20260419T034010Z
UID:10020866-1776623400-1776627000@artssouthdakota.org
SUMMARY:Joint Recital: Andrew Hochstein\, Voice and Aiden Milne\, Voice
DESCRIPTION:Event Contact: Dr. Daniel LickteigContact Email: daniel.lickteig@usd.eduContact Phone: 605-658-3474Event URL: https://www.usd.edu/livemusicEvent Locator: 2026-ACHVQH \nAiden Milne and Andrew Hochstein invite you to their voice recital\, live from Colton Recital Hall\, Warren M. Lee Center for the Fine Arts\, and livestreamed via the link available elsewhere on this post.
URL:https://artssouthdakota.org/event/joint-recital-andrew-hochstein-voice-and-aiden-milne-voice/
LOCATION:Campus Wide Fine Arts\, East Clark Street\, Vermillion\, South Dakota\, 57069\, United States
CATEGORIES:Southeast Region,USD Public Calendar
GEO:42.7828208;-96.9263383
X-APPLE-STRUCTURED-LOCATION;VALUE=URI;X-ADDRESS=Campus Wide Fine Arts East Clark Street Vermillion South Dakota 57069 United States;X-APPLE-RADIUS=500;X-TITLE=East Clark Street:geo:-96.9263383,42.7828208
END:VEVENT
END:VCALENDAR