BEGIN:VCALENDAR
VERSION:2.0
PRODID:-//Arts South Dakota - ECPv6.10.2//NONSGML v1.0//EN
CALSCALE:GREGORIAN
METHOD:PUBLISH
X-WR-CALNAME:Arts South Dakota
X-ORIGINAL-URL:https://artssouthdakota.org
X-WR-CALDESC:Events for Arts South Dakota
REFRESH-INTERVAL;VALUE=DURATION:PT1H
X-Robots-Tag:noindex
X-PUBLISHED-TTL:PT1H
BEGIN:VTIMEZONE
TZID:America/Chicago
BEGIN:DAYLIGHT
TZOFFSETFROM:-0600
TZOFFSETTO:-0500
TZNAME:CDT
DTSTART:20260308T080000
END:DAYLIGHT
BEGIN:STANDARD
TZOFFSETFROM:-0500
TZOFFSETTO:-0600
TZNAME:CST
DTSTART:20261101T070000
END:STANDARD
END:VTIMEZONE
BEGIN:VEVENT
DTSTART;TZID=America/Chicago:20260425T193000
DTEND;TZID=America/Chicago:20260425T220000
DTSTAMP:20260425T121551
CREATED:20260409T182636Z
LAST-MODIFIED:20260409T182636Z
UID:10020748-1777145400-1777154400@artssouthdakota.org
SUMMARY:Pride and Prejudice
DESCRIPTION:The University of South Dakota Department of Theatre finishes off its 2025–2026 season with Pride & Prejudice by Kate Hamill based on the classic novel by Jane Austen. \nThe show runs in the Knutson Theatre April 17th\, 18th\, 23rd\, 24th\, and 25th at 7:30pm\, April\n19th and 26th at 2:00pm. As well as April 24th at 10:00am. \nWith a hilarious script based on Jane Austen’s 1813 novel\, Pride and Prejudice tells a story of the Bennet\nfamily as they navigate the romantic battlefield of early 19th century England. Drawing inspiration from\nthe time period\, Pride and Prejudice merges traditional formality and status quo with modern themes of\nlove and attachment.
URL:https://artssouthdakota.org/event/pride-and-prejudice/2026-04-25/
LOCATION:Wayne S. Knutson Theatre\, Warren M. Lee Center for Fine Arts 414 E. Clark St. Vermillion SD 57069\, Vermillion\, 57069\, United States
CATEGORIES:Southeast Region,Theater
ATTACH;FMTTYPE=image/jpeg:https://artssouthdakota.org/wp-content/uploads/2026/04/IMG_1693-1.jpeg
GEO:42.7872223;-96.9249387
X-APPLE-STRUCTURED-LOCATION;VALUE=URI;X-ADDRESS=Wayne S. Knutson Theatre Warren M. Lee Center for Fine Arts 414 E. Clark St. Vermillion SD 57069 Vermillion 57069 United States;X-APPLE-RADIUS=500;X-TITLE=Warren M. Lee Center for Fine Arts 414 E. Clark St. Vermillion SD 57069:geo:-96.9249387,42.7872223
END:VEVENT
BEGIN:VEVENT
DTSTART;TZID=America/Chicago:20260426T140000
DTEND;TZID=America/Chicago:20260426T160000
DTSTAMP:20260425T121551
CREATED:20260409T182636Z
LAST-MODIFIED:20260409T182636Z
UID:10020749-1777212000-1777219200@artssouthdakota.org
SUMMARY:Pride and Prejudice
DESCRIPTION:The University of South Dakota Department of Theatre finishes off its 2025–2026 season with Pride & Prejudice by Kate Hamill based on the classic novel by Jane Austen. \nThe show runs in the Knutson Theatre April 17th\, 18th\, 23rd\, 24th\, and 25th at 7:30pm\, April\n19th and 26th at 2:00pm. As well as April 24th at 10:00am. \nWith a hilarious script based on Jane Austen’s 1813 novel\, Pride and Prejudice tells a story of the Bennet\nfamily as they navigate the romantic battlefield of early 19th century England. Drawing inspiration from\nthe time period\, Pride and Prejudice merges traditional formality and status quo with modern themes of\nlove and attachment.
URL:https://artssouthdakota.org/event/pride-and-prejudice/2026-04-26/
LOCATION:Wayne S. Knutson Theatre\, Warren M. Lee Center for Fine Arts 414 E. Clark St. Vermillion SD 57069\, Vermillion\, 57069\, United States
CATEGORIES:Southeast Region,Theater
ATTACH;FMTTYPE=image/jpeg:https://artssouthdakota.org/wp-content/uploads/2026/04/IMG_1693-1.jpeg
GEO:42.7872223;-96.9249387
X-APPLE-STRUCTURED-LOCATION;VALUE=URI;X-ADDRESS=Wayne S. Knutson Theatre Warren M. Lee Center for Fine Arts 414 E. Clark St. Vermillion SD 57069 Vermillion 57069 United States;X-APPLE-RADIUS=500;X-TITLE=Warren M. Lee Center for Fine Arts 414 E. Clark St. Vermillion SD 57069:geo:-96.9249387,42.7872223
END:VEVENT
BEGIN:VEVENT
DTSTART;TZID=America/Chicago:20260430T193000
DTEND;TZID=America/Chicago:20260430T213000
DTSTAMP:20260425T121551
CREATED:20250805T173438Z
LAST-MODIFIED:20250805T173438Z
UID:10014919-1777577400-1777584600@artssouthdakota.org
SUMMARY:Meredith Willson’s THE MUSIC MAN
DESCRIPTION:There’s trouble in River City when a fast-talking salesman gets his heart stolen by the town librarian. Meredith Willson’s six-time\, Tony Award-winning musical comedy The Music Man follows fast-talking traveling salesman\, Harold Hill\, as he cons the people of River City\, Iowa\, into buying instruments and uniforms for a boys’ band that he vows to organize – this\, despite the fact that he doesn’t know a trombone from a treble clef. His plans to skip town with the cash are foiled when he falls for Marian\, the librarian\, who transforms him into a respectable citizen by curtain’s fall. Featuring songs such as “Seventy-Six Trombones\,” “Trouble\,” “‘Til There Was You\,” “Pickalittle” and “Gary\, Indiana\,” The Music Man is a family-friendly story to be shared with every generation.
URL:https://artssouthdakota.org/event/meredith-willsons-the-music-man/2026-04-30/
LOCATION:Washington Pavilion – SDSO\, 301 S Main Ave\, Sioux Falls\, SD\, United States
CATEGORIES:Southeast Region,Theater
ATTACH;FMTTYPE=image/jpeg:https://artssouthdakota.org/wp-content/uploads/2025/08/THE-MUSIC-MAN-400X230.jpg
ORGANIZER;CN="Washington Pavilion":MAILTO:info@washingtonpavilion.org
GEO:43.544695;-96.728273
X-APPLE-STRUCTURED-LOCATION;VALUE=URI;X-ADDRESS=Washington Pavilion – SDSO 301 S Main Ave Sioux Falls SD United States;X-APPLE-RADIUS=500;X-TITLE=301 S Main Ave:geo:-96.728273,43.544695
END:VEVENT
END:VCALENDAR