BEGIN:VCALENDAR
VERSION:2.0
PRODID:-//Arts South Dakota - ECPv6.10.2//NONSGML v1.0//EN
CALSCALE:GREGORIAN
METHOD:PUBLISH
X-ORIGINAL-URL:https://artssouthdakota.org
X-WR-CALDESC:Events for Arts South Dakota
REFRESH-INTERVAL;VALUE=DURATION:PT1H
X-Robots-Tag:noindex
X-PUBLISHED-TTL:PT1H
BEGIN:VTIMEZONE
TZID:America/Chicago
BEGIN:DAYLIGHT
TZOFFSETFROM:-0600
TZOFFSETTO:-0500
TZNAME:CDT
DTSTART:20270314T080000
END:DAYLIGHT
BEGIN:STANDARD
TZOFFSETFROM:-0500
TZOFFSETTO:-0600
TZNAME:CST
DTSTART:20271107T070000
END:STANDARD
END:VTIMEZONE
BEGIN:VEVENT
DTSTART;VALUE=DATE:20270111
DTEND;VALUE=DATE:20270112
DTSTAMP:20260424T115725
CREATED:20260424T161755Z
LAST-MODIFIED:20260424T161755Z
UID:10021091-1799625600-1799711999@artssouthdakota.org
SUMMARY:Theatre 605 Jr. Camp 2026
DESCRIPTION:Theatre 605 Jr. Camp 2026 (formerly BHP Jr.) offers young performers who have completed 5th-12th grades an unforgettable theatrical adventure. They will explore acting\, singing\, dance\, and technical theatre. Guided by professional instructors\, campers make bold choices in a supportive environment\, fostering creativity and teamwork. The experience culminates in a showcase\, celebrating each camper’s unique talents and hard work.
URL:https://artssouthdakota.org/event/theatre-605-jr-camp-2026/2027-01-11/
LOCATION:Warren M. Lee Center for the Fine Arts\, 414 East Clark Street\, Vermillion\, 57069\, United States
CATEGORIES:Dance,Education,Performance,Southeast Region,Theater,Youth
ATTACH;FMTTYPE=image/png:https://artssouthdakota.org/wp-content/uploads/2026/04/2026-Jr.-Header.png
GEO:42.7872223;-96.9249387
X-APPLE-STRUCTURED-LOCATION;VALUE=URI;X-ADDRESS=Warren M. Lee Center for the Fine Arts 414 East Clark Street Vermillion 57069 United States;X-APPLE-RADIUS=500;X-TITLE=414 East Clark Street:geo:-96.9249387,42.7872223
END:VEVENT
BEGIN:VEVENT
DTSTART;VALUE=DATE:20270112
DTEND;VALUE=DATE:20270113
DTSTAMP:20260424T115725
CREATED:20260424T161755Z
LAST-MODIFIED:20260424T161755Z
UID:10021092-1799712000-1799798399@artssouthdakota.org
SUMMARY:Theatre 605 Jr. Camp 2026
DESCRIPTION:Theatre 605 Jr. Camp 2026 (formerly BHP Jr.) offers young performers who have completed 5th-12th grades an unforgettable theatrical adventure. They will explore acting\, singing\, dance\, and technical theatre. Guided by professional instructors\, campers make bold choices in a supportive environment\, fostering creativity and teamwork. The experience culminates in a showcase\, celebrating each camper’s unique talents and hard work.
URL:https://artssouthdakota.org/event/theatre-605-jr-camp-2026/2027-01-12/
LOCATION:Warren M. Lee Center for the Fine Arts\, 414 East Clark Street\, Vermillion\, 57069\, United States
CATEGORIES:Dance,Education,Performance,Southeast Region,Theater,Youth
ATTACH;FMTTYPE=image/png:https://artssouthdakota.org/wp-content/uploads/2026/04/2026-Jr.-Header.png
GEO:42.7872223;-96.9249387
X-APPLE-STRUCTURED-LOCATION;VALUE=URI;X-ADDRESS=Warren M. Lee Center for the Fine Arts 414 East Clark Street Vermillion 57069 United States;X-APPLE-RADIUS=500;X-TITLE=414 East Clark Street:geo:-96.9249387,42.7872223
END:VEVENT
BEGIN:VEVENT
DTSTART;TZID=America/Chicago:20270112T180000
DTEND;TZID=America/Chicago:20270112T200000
DTSTAMP:20260424T115725
CREATED:20250401T204630Z
LAST-MODIFIED:20250401T204630Z
UID:10010604-1799776800-1799784000@artssouthdakota.org
SUMMARY:The Writer's Study
DESCRIPTION:Writers in the area\, come one\, come all! Meet up for prompts\, sharing\, feedback\, classes\, and more!\nEvery Tuesday at 6pm!
URL:https://artssouthdakota.org/event/the-writers-study/2027-01-12/
LOCATION:Full Circle Book Co-op\, 123 W 10th St\, Sioux Falls\, SD\, United States
CATEGORIES:Art,Poetry,Southeast Region
ATTACH;FMTTYPE=image/jpeg:https://artssouthdakota.org/wp-content/uploads/2025/04/385905009_819854960142243_4019154917594224231_n.jpg
ORGANIZER;CN="Full Circle Book Co-op":MAILTO:fullcirclebookcoop@gmail.com
GEO:43.545921;-96.727042
X-APPLE-STRUCTURED-LOCATION;VALUE=URI;X-ADDRESS=Full Circle Book Co-op 123 W 10th St Sioux Falls SD United States;X-APPLE-RADIUS=500;X-TITLE=123 W 10th St:geo:-96.727042,43.545921
END:VEVENT
BEGIN:VEVENT
DTSTART;VALUE=DATE:20270113
DTEND;VALUE=DATE:20270114
DTSTAMP:20260424T115725
CREATED:20260424T161755Z
LAST-MODIFIED:20260424T161755Z
UID:10021093-1799798400-1799884799@artssouthdakota.org
SUMMARY:Theatre 605 Jr. Camp 2026
DESCRIPTION:Theatre 605 Jr. Camp 2026 (formerly BHP Jr.) offers young performers who have completed 5th-12th grades an unforgettable theatrical adventure. They will explore acting\, singing\, dance\, and technical theatre. Guided by professional instructors\, campers make bold choices in a supportive environment\, fostering creativity and teamwork. The experience culminates in a showcase\, celebrating each camper’s unique talents and hard work.
URL:https://artssouthdakota.org/event/theatre-605-jr-camp-2026/2027-01-13/
LOCATION:Warren M. Lee Center for the Fine Arts\, 414 East Clark Street\, Vermillion\, 57069\, United States
CATEGORIES:Dance,Education,Performance,Southeast Region,Theater,Youth
ATTACH;FMTTYPE=image/png:https://artssouthdakota.org/wp-content/uploads/2026/04/2026-Jr.-Header.png
GEO:42.7872223;-96.9249387
X-APPLE-STRUCTURED-LOCATION;VALUE=URI;X-ADDRESS=Warren M. Lee Center for the Fine Arts 414 East Clark Street Vermillion 57069 United States;X-APPLE-RADIUS=500;X-TITLE=414 East Clark Street:geo:-96.9249387,42.7872223
END:VEVENT
BEGIN:VEVENT
DTSTART;VALUE=DATE:20270114
DTEND;VALUE=DATE:20270115
DTSTAMP:20260424T115725
CREATED:20260424T161755Z
LAST-MODIFIED:20260424T161755Z
UID:10021094-1799884800-1799971199@artssouthdakota.org
SUMMARY:Theatre 605 Jr. Camp 2026
DESCRIPTION:Theatre 605 Jr. Camp 2026 (formerly BHP Jr.) offers young performers who have completed 5th-12th grades an unforgettable theatrical adventure. They will explore acting\, singing\, dance\, and technical theatre. Guided by professional instructors\, campers make bold choices in a supportive environment\, fostering creativity and teamwork. The experience culminates in a showcase\, celebrating each camper’s unique talents and hard work.
URL:https://artssouthdakota.org/event/theatre-605-jr-camp-2026/2027-01-14/
LOCATION:Warren M. Lee Center for the Fine Arts\, 414 East Clark Street\, Vermillion\, 57069\, United States
CATEGORIES:Dance,Education,Performance,Southeast Region,Theater,Youth
ATTACH;FMTTYPE=image/png:https://artssouthdakota.org/wp-content/uploads/2026/04/2026-Jr.-Header.png
GEO:42.7872223;-96.9249387
X-APPLE-STRUCTURED-LOCATION;VALUE=URI;X-ADDRESS=Warren M. Lee Center for the Fine Arts 414 East Clark Street Vermillion 57069 United States;X-APPLE-RADIUS=500;X-TITLE=414 East Clark Street:geo:-96.9249387,42.7872223
END:VEVENT
BEGIN:VEVENT
DTSTART;VALUE=DATE:20270115
DTEND;VALUE=DATE:20270116
DTSTAMP:20260424T115725
CREATED:20260424T161755Z
LAST-MODIFIED:20260424T161755Z
UID:10021095-1799971200-1800057599@artssouthdakota.org
SUMMARY:Theatre 605 Jr. Camp 2026
DESCRIPTION:Theatre 605 Jr. Camp 2026 (formerly BHP Jr.) offers young performers who have completed 5th-12th grades an unforgettable theatrical adventure. They will explore acting\, singing\, dance\, and technical theatre. Guided by professional instructors\, campers make bold choices in a supportive environment\, fostering creativity and teamwork. The experience culminates in a showcase\, celebrating each camper’s unique talents and hard work.
URL:https://artssouthdakota.org/event/theatre-605-jr-camp-2026/2027-01-15/
LOCATION:Warren M. Lee Center for the Fine Arts\, 414 East Clark Street\, Vermillion\, 57069\, United States
CATEGORIES:Dance,Education,Performance,Southeast Region,Theater,Youth
ATTACH;FMTTYPE=image/png:https://artssouthdakota.org/wp-content/uploads/2026/04/2026-Jr.-Header.png
GEO:42.7872223;-96.9249387
X-APPLE-STRUCTURED-LOCATION;VALUE=URI;X-ADDRESS=Warren M. Lee Center for the Fine Arts 414 East Clark Street Vermillion 57069 United States;X-APPLE-RADIUS=500;X-TITLE=414 East Clark Street:geo:-96.9249387,42.7872223
END:VEVENT
BEGIN:VEVENT
DTSTART;VALUE=DATE:20270116
DTEND;VALUE=DATE:20270117
DTSTAMP:20260424T115725
CREATED:20260424T161755Z
LAST-MODIFIED:20260424T161755Z
UID:10021096-1800057600-1800143999@artssouthdakota.org
SUMMARY:Theatre 605 Jr. Camp 2026
DESCRIPTION:Theatre 605 Jr. Camp 2026 (formerly BHP Jr.) offers young performers who have completed 5th-12th grades an unforgettable theatrical adventure. They will explore acting\, singing\, dance\, and technical theatre. Guided by professional instructors\, campers make bold choices in a supportive environment\, fostering creativity and teamwork. The experience culminates in a showcase\, celebrating each camper’s unique talents and hard work.
URL:https://artssouthdakota.org/event/theatre-605-jr-camp-2026/2027-01-16/
LOCATION:Warren M. Lee Center for the Fine Arts\, 414 East Clark Street\, Vermillion\, 57069\, United States
CATEGORIES:Dance,Education,Performance,Southeast Region,Theater,Youth
ATTACH;FMTTYPE=image/png:https://artssouthdakota.org/wp-content/uploads/2026/04/2026-Jr.-Header.png
GEO:42.7872223;-96.9249387
X-APPLE-STRUCTURED-LOCATION;VALUE=URI;X-ADDRESS=Warren M. Lee Center for the Fine Arts 414 East Clark Street Vermillion 57069 United States;X-APPLE-RADIUS=500;X-TITLE=414 East Clark Street:geo:-96.9249387,42.7872223
END:VEVENT
BEGIN:VEVENT
DTSTART;VALUE=DATE:20270117
DTEND;VALUE=DATE:20270118
DTSTAMP:20260424T115725
CREATED:20260424T161755Z
LAST-MODIFIED:20260424T161755Z
UID:10021097-1800144000-1800230399@artssouthdakota.org
SUMMARY:Theatre 605 Jr. Camp 2026
DESCRIPTION:Theatre 605 Jr. Camp 2026 (formerly BHP Jr.) offers young performers who have completed 5th-12th grades an unforgettable theatrical adventure. They will explore acting\, singing\, dance\, and technical theatre. Guided by professional instructors\, campers make bold choices in a supportive environment\, fostering creativity and teamwork. The experience culminates in a showcase\, celebrating each camper’s unique talents and hard work.
URL:https://artssouthdakota.org/event/theatre-605-jr-camp-2026/2027-01-17/
LOCATION:Warren M. Lee Center for the Fine Arts\, 414 East Clark Street\, Vermillion\, 57069\, United States
CATEGORIES:Dance,Education,Performance,Southeast Region,Theater,Youth
ATTACH;FMTTYPE=image/png:https://artssouthdakota.org/wp-content/uploads/2026/04/2026-Jr.-Header.png
GEO:42.7872223;-96.9249387
X-APPLE-STRUCTURED-LOCATION;VALUE=URI;X-ADDRESS=Warren M. Lee Center for the Fine Arts 414 East Clark Street Vermillion 57069 United States;X-APPLE-RADIUS=500;X-TITLE=414 East Clark Street:geo:-96.9249387,42.7872223
END:VEVENT
END:VCALENDAR