BEGIN:VCALENDAR
VERSION:2.0
PRODID:-//Arts South Dakota - ECPv6.10.2//NONSGML v1.0//EN
CALSCALE:GREGORIAN
METHOD:PUBLISH
X-WR-CALNAME:Arts South Dakota
X-ORIGINAL-URL:https://artssouthdakota.org
X-WR-CALDESC:Events for Arts South Dakota
REFRESH-INTERVAL;VALUE=DURATION:PT1H
X-Robots-Tag:noindex
X-PUBLISHED-TTL:PT1H
BEGIN:VTIMEZONE
TZID:America/Chicago
BEGIN:DAYLIGHT
TZOFFSETFROM:-0600
TZOFFSETTO:-0500
TZNAME:CDT
DTSTART:20260308T080000
END:DAYLIGHT
BEGIN:STANDARD
TZOFFSETFROM:-0500
TZOFFSETTO:-0600
TZNAME:CST
DTSTART:20261101T070000
END:STANDARD
END:VTIMEZONE
BEGIN:VEVENT
DTSTART;TZID=America/Chicago:20260402T090000
DTEND;TZID=America/Chicago:20260402T150000
DTSTAMP:20260424T214354
CREATED:20250826T135827Z
LAST-MODIFIED:20250826T135827Z
UID:10015253-1775120400-1775142000@artssouthdakota.org
SUMMARY:Calling for entries into the Dakota MasterWorks Art Show
DESCRIPTION:🎨 Calling All South Dakota Artists Age 60+! 🎨\nWe’re excited to announce the 28th Annual Dakota MasterWorks Art Show\, a celebration of creativity and talent in South Dakota’s older adults! \nIf you’re age 60 or older\, we invite you to showcase your artistic talents in one or more of the following categories:\n• Oils\n• Acrylics\n• Watercolors\n• Drawing/Pastels/Scratchboard\n• Photography\n• Mixed Media\n• Creative Woodworking \nEntry Dates:\nOctober 6–10\, 2025\nEntries accepted between 9 AM – 3 PM at:\nSouth Dakota Health Care Association Office\n804 N Western Ave\, Sioux Falls\, SD 57104 \nEntry forms and criteria available at:\nwww.sdhca.org/dakota-masterworks \nhttps://www.sdhca.org/dakota-masterworks
URL:https://artssouthdakota.org/event/calling-for-entries-into-the-dakota-masterworks-art-show/2026-04-02/
LOCATION:South Dakota Health Care Association Office\, 804 N Western Ave\, Sioux Falls\, 57104\, United States
CATEGORIES:Art Show,Southeast Region
ATTACH;FMTTYPE=image/jpeg:https://artssouthdakota.org/wp-content/uploads/2025/08/Dakota-masterworks-logo06-4-1.jpg
GEO:43.5568062;-96.7509876
X-APPLE-STRUCTURED-LOCATION;VALUE=URI;X-ADDRESS=South Dakota Health Care Association Office 804 N Western Ave Sioux Falls 57104 United States;X-APPLE-RADIUS=500;X-TITLE=804 N Western Ave:geo:-96.7509876,43.5568062
END:VEVENT
BEGIN:VEVENT
DTSTART;TZID=America/Chicago:20260402T090000
DTEND;TZID=America/Chicago:20260402T170000
DTSTAMP:20260424T214354
CREATED:20260316T224958Z
LAST-MODIFIED:20260402T025607Z
UID:10020129-1775120400-1775149200@artssouthdakota.org
SUMMARY:MFA Thesis Exhibition
DESCRIPTION:Event Contact: amy.fill@usd.eduContact Email: amy.fill@usd.eduContact Phone: 6056583437Event Locator: 2026-ACHQAZ \nMFA Thesis Exhibition-Andrew Hembd\, Dial Tone: Trouble with the Connection. This exhibition will feature a large-scale installation in the John A. Day Gallery created by Painting MFA Candidate\, Andrew Hembd\, as part of his degree requirements.  \nJohn A. Day Gallery \nMarch 30-April 2\, 2026 \nClosing Reception-Thursday\, April 2\, 5pm to 7 pm \nAll Are Welcome-Open to the Public
URL:https://artssouthdakota.org/event/mfa-thesis-exhibition-4/
LOCATION:John A Day Gallery\, East Clark Street\, Vermillion\, South Dakota\, 57069\, United States
CATEGORIES:Southeast Region,USD Public Calendar
GEO:42.7828208;-96.9263383
X-APPLE-STRUCTURED-LOCATION;VALUE=URI;X-ADDRESS=John A Day Gallery East Clark Street Vermillion South Dakota 57069 United States;X-APPLE-RADIUS=500;X-TITLE=East Clark Street:geo:-96.9263383,42.7828208
END:VEVENT
BEGIN:VEVENT
DTSTART;TZID=America/Chicago:20260402T170000
DTEND;TZID=America/Chicago:20260402T190000
DTSTAMP:20260424T214354
CREATED:20260316T224958Z
LAST-MODIFIED:20260402T025607Z
UID:10020130-1775149200-1775156400@artssouthdakota.org
SUMMARY:Dial Tone: Trouble with the Connection... Closing Reception
DESCRIPTION:Event Contact: amy.fill@usd.eduContact Email: amy.fill@usd.eduContact Phone: 6056583437Event Locator: 2026-ACHQCK \nClosing Artist Reception for MFA Painting Candidate\, Andrew Hembd. Hembd's installation speaks to contemporary ideas of technology and isolation.  Free and open to the Public. All are welcome. Refreshments will be served. 
URL:https://artssouthdakota.org/event/dial-tone-trouble-with-the-connection-closing-reception/
LOCATION:John A Day Gallery\, East Clark Street\, Vermillion\, South Dakota\, 57069\, United States
CATEGORIES:Southeast Region,USD Public Calendar
GEO:42.7828208;-96.9263383
X-APPLE-STRUCTURED-LOCATION;VALUE=URI;X-ADDRESS=John A Day Gallery East Clark Street Vermillion South Dakota 57069 United States;X-APPLE-RADIUS=500;X-TITLE=East Clark Street:geo:-96.9263383,42.7828208
END:VEVENT
BEGIN:VEVENT
DTSTART;TZID=America/Chicago:20260402T180000
DTEND;TZID=America/Chicago:20260402T210000
DTSTAMP:20260424T214354
CREATED:20260402T041010Z
LAST-MODIFIED:20260402T041010Z
UID:10020250-1775152800-1775163600@artssouthdakota.org
SUMMARY:Latitude Ensemble
DESCRIPTION:#fellowshipjazzcenter #rwinebar #siouxfalls #livemusic
URL:https://artssouthdakota.org/event/latitude-ensemble-5/
LOCATION:R Wine Bar & Kitchen\, 322 E 8th St\, Sioux Falls\, SD\, United States
CATEGORIES:Southeast Region
GEO:43.548703;-96.724327
X-APPLE-STRUCTURED-LOCATION;VALUE=URI;X-ADDRESS=R Wine Bar & Kitchen 322 E 8th St Sioux Falls SD United States;X-APPLE-RADIUS=500;X-TITLE=322 E 8th St:geo:-96.724327,43.548703
END:VEVENT
BEGIN:VEVENT
DTSTART;TZID=America/Chicago:20260402T183000
DTEND;TZID=America/Chicago:20260402T213000
DTSTAMP:20260424T214354
CREATED:20260402T041010Z
LAST-MODIFIED:20260402T041010Z
UID:10020249-1775154600-1775165400@artssouthdakota.org
SUMMARY:Jacob Moeller Quartet
DESCRIPTION:https://www.triojazzclub.com  \n#fellowshipjazzcenter #triojazzclub #livemusic #jazz #siouxfalls #southdakota
URL:https://artssouthdakota.org/event/jacob-moeller-quartet/
LOCATION:Trio Jazz Club\, 340 S Main Ave\, Sioux Falls\, SD\, United States
CATEGORIES:Southeast Region
GEO:43.544197;-96.728192
X-APPLE-STRUCTURED-LOCATION;VALUE=URI;X-ADDRESS=Trio Jazz Club 340 S Main Ave Sioux Falls SD United States;X-APPLE-RADIUS=500;X-TITLE=340 S Main Ave:geo:-96.728192,43.544197
END:VEVENT
END:VCALENDAR