BEGIN:VCALENDAR
VERSION:2.0
PRODID:-//Arts South Dakota - ECPv6.10.2//NONSGML v1.0//EN
CALSCALE:GREGORIAN
METHOD:PUBLISH
X-ORIGINAL-URL:https://artssouthdakota.org
X-WR-CALDESC:Events for Arts South Dakota
REFRESH-INTERVAL;VALUE=DURATION:PT1H
X-Robots-Tag:noindex
X-PUBLISHED-TTL:PT1H
BEGIN:VTIMEZONE
TZID:America/Chicago
BEGIN:DAYLIGHT
TZOFFSETFROM:-0600
TZOFFSETTO:-0500
TZNAME:CDT
DTSTART:20260308T080000
END:DAYLIGHT
BEGIN:STANDARD
TZOFFSETFROM:-0500
TZOFFSETTO:-0600
TZNAME:CST
DTSTART:20261101T070000
END:STANDARD
END:VTIMEZONE
BEGIN:VTIMEZONE
TZID:America/Denver
BEGIN:DAYLIGHT
TZOFFSETFROM:-0700
TZOFFSETTO:-0600
TZNAME:MDT
DTSTART:20260308T090000
END:DAYLIGHT
BEGIN:STANDARD
TZOFFSETFROM:-0600
TZOFFSETTO:-0700
TZNAME:MST
DTSTART:20261101T080000
END:STANDARD
END:VTIMEZONE
BEGIN:VEVENT
DTSTART;TZID=America/Chicago:20260331T090000
DTEND;TZID=America/Chicago:20260331T150000
DTSTAMP:20260423T124412
CREATED:20250826T135827Z
LAST-MODIFIED:20250826T135827Z
UID:10015251-1774947600-1774969200@artssouthdakota.org
SUMMARY:Calling for entries into the Dakota MasterWorks Art Show
DESCRIPTION:🎨 Calling All South Dakota Artists Age 60+! 🎨\nWe’re excited to announce the 28th Annual Dakota MasterWorks Art Show\, a celebration of creativity and talent in South Dakota’s older adults! \nIf you’re age 60 or older\, we invite you to showcase your artistic talents in one or more of the following categories:\n• Oils\n• Acrylics\n• Watercolors\n• Drawing/Pastels/Scratchboard\n• Photography\n• Mixed Media\n• Creative Woodworking \nEntry Dates:\nOctober 6–10\, 2025\nEntries accepted between 9 AM – 3 PM at:\nSouth Dakota Health Care Association Office\n804 N Western Ave\, Sioux Falls\, SD 57104 \nEntry forms and criteria available at:\nwww.sdhca.org/dakota-masterworks \nhttps://www.sdhca.org/dakota-masterworks
URL:https://artssouthdakota.org/event/calling-for-entries-into-the-dakota-masterworks-art-show/2026-03-31/
LOCATION:South Dakota Health Care Association Office\, 804 N Western Ave\, Sioux Falls\, 57104\, United States
CATEGORIES:Art Show,Southeast Region
ATTACH;FMTTYPE=image/jpeg:https://artssouthdakota.org/wp-content/uploads/2025/08/Dakota-masterworks-logo06-4-1.jpg
GEO:43.5568062;-96.7509876
X-APPLE-STRUCTURED-LOCATION;VALUE=URI;X-ADDRESS=South Dakota Health Care Association Office 804 N Western Ave Sioux Falls 57104 United States;X-APPLE-RADIUS=500;X-TITLE=804 N Western Ave:geo:-96.7509876,43.5568062
END:VEVENT
BEGIN:VEVENT
DTSTART;TZID=America/Chicago:20260331T090000
DTEND;TZID=America/Chicago:20260331T170000
DTSTAMP:20260423T124412
CREATED:20260316T224956Z
LAST-MODIFIED:20260331T025509Z
UID:10020127-1774947600-1774976400@artssouthdakota.org
SUMMARY:MFA Thesis Exhibition
DESCRIPTION:Event Contact: amy.fill@usd.eduContact Email: amy.fill@usd.eduContact Phone: 6056583437Event Locator: 2026-ACHQAZ \nMFA Thesis Exhibition-Andrew Hembd\, Dial Tone: Trouble with the Connection. This exhibition will feature a large-scale installation in the John A. Day Gallery created by Painting MFA Candidate\, Andrew Hembd\, as part of his degree requirements.  \nJohn A. Day Gallery \nMarch 30-April 2\, 2026 \nClosing Reception-Thursday\, April 2\, 5pm to 7 pm \nAll Are Welcome-Open to the Public
URL:https://artssouthdakota.org/event/mfa-thesis-exhibition-2/
LOCATION:John A Day Gallery\, East Clark Street\, Vermillion\, South Dakota\, 57069\, United States
CATEGORIES:Southeast Region,USD Public Calendar
GEO:42.7828208;-96.9263383
X-APPLE-STRUCTURED-LOCATION;VALUE=URI;X-ADDRESS=John A Day Gallery East Clark Street Vermillion South Dakota 57069 United States;X-APPLE-RADIUS=500;X-TITLE=East Clark Street:geo:-96.9263383,42.7828208
END:VEVENT
BEGIN:VEVENT
DTSTART;TZID=America/Chicago:20260331T180000
DTEND;TZID=America/Chicago:20260331T200000
DTSTAMP:20260423T124412
CREATED:20250401T204630Z
LAST-MODIFIED:20250401T204630Z
UID:10010563-1774980000-1774987200@artssouthdakota.org
SUMMARY:The Writer's Study
DESCRIPTION:Writers in the area\, come one\, come all! Meet up for prompts\, sharing\, feedback\, classes\, and more!\nEvery Tuesday at 6pm!
URL:https://artssouthdakota.org/event/the-writers-study/2026-03-31/
LOCATION:Full Circle Book Co-op\, 123 W 10th St\, Sioux Falls\, SD\, United States
CATEGORIES:Art,Poetry,Southeast Region
ATTACH;FMTTYPE=image/jpeg:https://artssouthdakota.org/wp-content/uploads/2025/04/385905009_819854960142243_4019154917594224231_n.jpg
ORGANIZER;CN="Full Circle Book Co-op":MAILTO:fullcirclebookcoop@gmail.com
GEO:43.545921;-96.727042
X-APPLE-STRUCTURED-LOCATION;VALUE=URI;X-ADDRESS=Full Circle Book Co-op 123 W 10th St Sioux Falls SD United States;X-APPLE-RADIUS=500;X-TITLE=123 W 10th St:geo:-96.727042,43.545921
END:VEVENT
BEGIN:VEVENT
DTSTART;TZID=America/Chicago:20260331T183000
DTEND;TZID=America/Chicago:20260331T203000
DTSTAMP:20260423T124412
CREATED:20260302T224056Z
LAST-MODIFIED:20260331T041008Z
UID:10020066-1774981800-1774989000@artssouthdakota.org
SUMMARY:Terry Brooks & Joel Shotwell
DESCRIPTION:https://www.triojazzclub.com  \n#fellowshipjazzcenter #triojazzclub #livemusic #siouxfalls
URL:https://artssouthdakota.org/event/terry-brooks-joel-shotwell-4/
LOCATION:Trio Jazz Club\, 340 S Main Ave\, Sioux Falls\, SD\, United States
CATEGORIES:Southeast Region
GEO:43.544197;-96.728192
X-APPLE-STRUCTURED-LOCATION;VALUE=URI;X-ADDRESS=Trio Jazz Club 340 S Main Ave Sioux Falls SD United States;X-APPLE-RADIUS=500;X-TITLE=340 S Main Ave:geo:-96.728192,43.544197
END:VEVENT
BEGIN:VEVENT
DTSTART;TZID=America/Denver:20260331T190000
DTEND;TZID=America/Denver:20260331T200000
DTSTAMP:20260423T124412
CREATED:20260217T163554Z
LAST-MODIFIED:20260217T163554Z
UID:10019917-1774983600-1774987200@artssouthdakota.org
SUMMARY:Easter Cantata
DESCRIPTION:It is the time of year for Sturgis-area singers to prepare for the 17th performance of its annual Easter Cantata. The choir began weekly rehearsals in February in preparation for the two upcoming performances\, one on Palm Sunday\, March 29th\, and the second on Tuesday\, March 31st\, at 7:00 pm both evenings at Grace Lutheran Church\, 1061 Sherman Street in Sturgis\, \nThis year’s cantata\, Upon This Rock\, composed by Pepper Choplin\, is told in the voice of Peter\, Jesus’ disciple. As the narration about Peter unfolds\, it is evident that he was a passionate person. This works leads the listener through his experience with Christ. As the story unfolds through Peter’s eyes\, the audience is led to ask\, “What is our passion? What is our call? Who do we live for?” \nCome experience the Easter message sung by the 64-voice choir conducted by Marlene Kotab with a portrayal of Peter by Randy Bender. Embrace the message of Upon this Rock. There is no admission charge\, but your free-will offerings are always appreciated to help cover expenses.
URL:https://artssouthdakota.org/event/easter-cantata/2026-03-31/
LOCATION:Grace Lutheran Church\, Sherman Street\, Sturgis\, South Dakota\, 57785\, United States
CATEGORIES:Music,Southeast Region
ATTACH;FMTTYPE=image/jpeg:https://artssouthdakota.org/wp-content/uploads/2026/02/Easter-Cantata.jpg
GEO:44.413555;-103.5109197
X-APPLE-STRUCTURED-LOCATION;VALUE=URI;X-ADDRESS=Grace Lutheran Church Sherman Street Sturgis South Dakota 57785 United States;X-APPLE-RADIUS=500;X-TITLE=Sherman Street:geo:-103.5109197,44.413555
END:VEVENT
END:VCALENDAR