BEGIN:VCALENDAR
VERSION:2.0
PRODID:-//Arts South Dakota - ECPv6.10.2//NONSGML v1.0//EN
CALSCALE:GREGORIAN
METHOD:PUBLISH
X-ORIGINAL-URL:https://artssouthdakota.org
X-WR-CALDESC:Events for Arts South Dakota
REFRESH-INTERVAL;VALUE=DURATION:PT1H
X-Robots-Tag:noindex
X-PUBLISHED-TTL:PT1H
BEGIN:VTIMEZONE
TZID:America/Chicago
BEGIN:DAYLIGHT
TZOFFSETFROM:-0600
TZOFFSETTO:-0500
TZNAME:CDT
DTSTART:20260308T080000
END:DAYLIGHT
BEGIN:STANDARD
TZOFFSETFROM:-0500
TZOFFSETTO:-0600
TZNAME:CST
DTSTART:20261101T070000
END:STANDARD
END:VTIMEZONE
BEGIN:VEVENT
DTSTART;VALUE=DATE:20260414
DTEND;VALUE=DATE:20260415
DTSTAMP:20260421T143941
CREATED:20260330T140450Z
LAST-MODIFIED:20260330T140450Z
UID:10020230-1776124800-1776211199@artssouthdakota.org
SUMMARY:Student Showcase
DESCRIPTION:The BAC is proud to showcase art work by the students of MMS and BHS during the month of April.  The show opens April 2nd and will run through April 26th. Please join us for the opening reception!
URL:https://artssouthdakota.org/event/student-showcase/2026-04-14/
LOCATION:Brookings Arts Council\, 524 4th St\, Brookings\, SD\, United States
CATEGORIES:Art,Art Show,Northeast Region
ATTACH;FMTTYPE=image/png:https://artssouthdakota.org/wp-content/uploads/2026/03/unnamed-21.png
ORGANIZER;CN="Brookings Arts Council":MAILTO:directorbac@swiftel.net
GEO:44.308999;-96.796586
X-APPLE-STRUCTURED-LOCATION;VALUE=URI;X-ADDRESS=Brookings Arts Council 524 4th St Brookings SD United States;X-APPLE-RADIUS=500;X-TITLE=524 4th St:geo:-96.796586,44.308999
END:VEVENT
BEGIN:VEVENT
DTSTART;TZID=America/Chicago:20260414T120000
DTEND;TZID=America/Chicago:20260414T130000
DTSTAMP:20260421T143941
CREATED:20260326T041113Z
LAST-MODIFIED:20260414T055509Z
UID:10020197-1776168000-1776171600@artssouthdakota.org
SUMMARY:Opera Workshop Rehearsal
DESCRIPTION:Event Locator: 2026-ACHRKA\nThis is a staging rehearsal for our opera workshop performances on April 17th and 18th.
URL:https://artssouthdakota.org/event/opera-workshop-rehearsal-5/
LOCATION:Johnson Fine Arts Black Box 112
CATEGORIES:Northeast Region,NSU All Events Calendar
END:VEVENT
BEGIN:VEVENT
DTSTART;TZID=America/Chicago:20260414T150000
DTEND;TZID=America/Chicago:20260414T160000
DTSTAMP:20260421T143941
CREATED:20260408T052511Z
LAST-MODIFIED:20260414T055509Z
UID:10020340-1776178800-1776182400@artssouthdakota.org
SUMMARY:Symphonic Band Rehearsal
DESCRIPTION:Event Locator: 2026-ACHTHA\nRegular rehearsal for Apr 19 concert
URL:https://artssouthdakota.org/event/symphonic-band-rehearsal-24/
LOCATION:Johnson Fine Arts Harvey and Cynthia Jewett Theatre 300\, Johnson Fine Arts Stage 301
CATEGORIES:Northeast Region,NSU All Events Calendar
END:VEVENT
BEGIN:VEVENT
DTSTART;TZID=America/Chicago:20260414T180000
DTEND;TZID=America/Chicago:20260414T200000
DTSTAMP:20260421T143942
CREATED:20260204T183127Z
LAST-MODIFIED:20260204T183127Z
UID:10019577-1776189600-1776196800@artssouthdakota.org
SUMMARY:Wood Carving 101
DESCRIPTION:Discover the creative world of wood carving with Steve Hunter. A Toronto\, SD-based carver that has been carving since 1998. This beginner-friendly course is designed both for absolute beginners and for those coming back to carving after a pause. Learn core safety and carving fundamentals using one knife\, plus a complete end-to-end project. The atmosphere is relaxed\, fun\, and supportive\, with patient coaching. \nYour registration includes a full personal carving kit to keep:\n•     High-quality carving knife\n•     Cut-resistant carving glove\n•     Finger safety tape\n•     Leather strop and stropping compound\n•     Carving pattern and basswood for project and practice\n•     Pencil\n•     Heavy canvas tool roll and a heavy-duty canvas bag \nMinimum age is 16 or 14 if accompanied by an adult in all sessions.
URL:https://artssouthdakota.org/event/wood-carving-101/2026-04-14/
LOCATION:Codington Country Heritage Museum Classroom\, 27 1st Ave SE\,\, Watertown\, 57201\, United States
CATEGORIES:Art,Class/Workshop,Northeast Region
ATTACH;FMTTYPE=image/jpeg:https://artssouthdakota.org/wp-content/uploads/2026/01/WoodC-Banner_Hunter_Mar2026.jpg
ORGANIZER;CN="Northern Prairie Arts ~ Watertown's Arts Council":MAILTO:artsnight@outlook.com
GEO:44.8992574;-97.1135929
X-APPLE-STRUCTURED-LOCATION;VALUE=URI;X-ADDRESS=Codington Country Heritage Museum Classroom 27 1st Ave SE Watertown 57201 United States;X-APPLE-RADIUS=500;X-TITLE=27 1st Ave SE\,:geo:-97.1135929,44.8992574
END:VEVENT
BEGIN:VEVENT
DTSTART;TZID=America/Chicago:20260414T180000
DTEND;TZID=America/Chicago:20260414T200000
DTSTAMP:20260421T143942
CREATED:20260326T041114Z
LAST-MODIFIED:20260414T055509Z
UID:10020198-1776189600-1776196800@artssouthdakota.org
SUMMARY:Dress Rehearsal for Opera Workshop
DESCRIPTION:Event Locator: 2026-ACHRJZ\nThis is a dress rehearsal for our Opera Workshop performances on April 17th and 18th.
URL:https://artssouthdakota.org/event/dress-rehearsal-for-opera-workshop-2/
LOCATION:Johnson Fine Arts Black Box 112
CATEGORIES:Northeast Region,NSU All Events Calendar
END:VEVENT
BEGIN:VEVENT
DTSTART;TZID=America/Chicago:20260414T180000
DTEND;TZID=America/Chicago:20260414T200000
DTSTAMP:20260421T143942
CREATED:20260331T125955Z
LAST-MODIFIED:20260331T125955Z
UID:10020243-1776189600-1776196800@artssouthdakota.org
SUMMARY:Community Mural Night
DESCRIPTION:Be part of something bigger! Join us for a community mural paint night where you’ll create your own original tile that will become part of a larger mural installed in downtown Brookings this summer. Each piece will come together to form a collective work of art—made by the community\, for the community. \nTotally free. All are welcome and invited. \nBring a friend and enjoy dirty soda\, snacks\, and a relaxed\, creative evening. \nFree parking is available in the Museum lot on Harvey Dunn Street.
URL:https://artssouthdakota.org/event/community-mural-night/
LOCATION:South Dakota Art Museum\, 1036 Medary Ave\, Brookings\, SD\, United States
CATEGORIES:Art,Northeast Region,Workshop
ATTACH;FMTTYPE=image/png:https://artssouthdakota.org/wp-content/uploads/2026/03/Community-Mural-Night.png
ORGANIZER;CN="South Dakota Art Museum":MAILTO:sdsu.sdam@sdstate.edu
GEO:44.317701;-96.788348
X-APPLE-STRUCTURED-LOCATION;VALUE=URI;X-ADDRESS=South Dakota Art Museum 1036 Medary Ave Brookings SD United States;X-APPLE-RADIUS=500;X-TITLE=1036 Medary Ave:geo:-96.788348,44.317701
END:VEVENT
BEGIN:VEVENT
DTSTART;TZID=America/Chicago:20260414T193000
DTEND;TZID=America/Chicago:20260414T203000
DTSTAMP:20260421T143942
CREATED:20260324T041023Z
LAST-MODIFIED:20260414T055509Z
UID:10020157-1776195000-1776198600@artssouthdakota.org
SUMMARY:Recital Rehearsal
DESCRIPTION:Event Locator: 2026-ACHQSP\nA 15-voice choir will rehearse for Bill Wieland’s recital in the choir room.
URL:https://artssouthdakota.org/event/recital-rehearsal-3/
LOCATION:Johnson Fine Arts Choir Classroom 155
CATEGORIES:Northeast Region,NSU All Events Calendar
END:VEVENT
END:VCALENDAR