BEGIN:VCALENDAR
VERSION:2.0
PRODID:-//Arts South Dakota - ECPv6.10.2//NONSGML v1.0//EN
CALSCALE:GREGORIAN
METHOD:PUBLISH
X-WR-CALNAME:Arts South Dakota
X-ORIGINAL-URL:https://artssouthdakota.org
X-WR-CALDESC:Events for Arts South Dakota
REFRESH-INTERVAL;VALUE=DURATION:PT1H
X-Robots-Tag:noindex
X-PUBLISHED-TTL:PT1H
BEGIN:VTIMEZONE
TZID:America/Chicago
BEGIN:DAYLIGHT
TZOFFSETFROM:-0600
TZOFFSETTO:-0500
TZNAME:CDT
DTSTART:20260308T080000
END:DAYLIGHT
BEGIN:STANDARD
TZOFFSETFROM:-0500
TZOFFSETTO:-0600
TZNAME:CST
DTSTART:20261101T070000
END:STANDARD
END:VTIMEZONE
BEGIN:VEVENT
DTSTART;TZID=America/Chicago:20260324T180000
DTEND;TZID=America/Chicago:20260324T200000
DTSTAMP:20260422T043553
CREATED:20260204T183127Z
LAST-MODIFIED:20260204T183127Z
UID:10019574-1774375200-1774382400@artssouthdakota.org
SUMMARY:Wood Carving 101
DESCRIPTION:Discover the creative world of wood carving with Steve Hunter. A Toronto\, SD-based carver that has been carving since 1998. This beginner-friendly course is designed both for absolute beginners and for those coming back to carving after a pause. Learn core safety and carving fundamentals using one knife\, plus a complete end-to-end project. The atmosphere is relaxed\, fun\, and supportive\, with patient coaching. \nYour registration includes a full personal carving kit to keep:\n•     High-quality carving knife\n•     Cut-resistant carving glove\n•     Finger safety tape\n•     Leather strop and stropping compound\n•     Carving pattern and basswood for project and practice\n•     Pencil\n•     Heavy canvas tool roll and a heavy-duty canvas bag \nMinimum age is 16 or 14 if accompanied by an adult in all sessions.
URL:https://artssouthdakota.org/event/wood-carving-101/2026-03-24/
LOCATION:Codington Country Heritage Museum Classroom\, 27 1st Ave SE\,\, Watertown\, 57201\, United States
CATEGORIES:Art,Class/Workshop,Northeast Region
ATTACH;FMTTYPE=image/jpeg:https://artssouthdakota.org/wp-content/uploads/2026/01/WoodC-Banner_Hunter_Mar2026.jpg
ORGANIZER;CN="Northern Prairie Arts ~ Watertown's Arts Council":MAILTO:artsnight@outlook.com
GEO:44.8992574;-97.1135929
X-APPLE-STRUCTURED-LOCATION;VALUE=URI;X-ADDRESS=Codington Country Heritage Museum Classroom 27 1st Ave SE Watertown 57201 United States;X-APPLE-RADIUS=500;X-TITLE=27 1st Ave SE\,:geo:-97.1135929,44.8992574
END:VEVENT
BEGIN:VEVENT
DTSTART;TZID=America/Chicago:20260325T120000
DTEND;TZID=America/Chicago:20260325T130000
DTSTAMP:20260422T043553
CREATED:20260114T005524Z
LAST-MODIFIED:20260325T041032Z
UID:10017669-1774440000-1774443600@artssouthdakota.org
SUMMARY:NSU Bach's Lunch Concert
DESCRIPTION:Event Locator: 2026-ACGTVF\nThe NSU Music Department invites you to celebrate Bach’s Birthday with us at the Bethlehem Lutheran Church where an assortment of pieces composed by him will be performed. Following the concert is a free will donation lunch provided by the church.
URL:https://artssouthdakota.org/event/nsu-bachs-lunch-concert/
LOCATION:NSU Off Campus\, South University Drive\, Fort Lauderdale\, Florida\, 33328\, United States
CATEGORIES:Northeast Region,NSU All Events Calendar
GEO:26.0786011;-80.2457075
X-APPLE-STRUCTURED-LOCATION;VALUE=URI;X-ADDRESS=NSU Off Campus South University Drive Fort Lauderdale Florida 33328 United States;X-APPLE-RADIUS=500;X-TITLE=South University Drive:geo:-80.2457075,26.0786011
END:VEVENT
BEGIN:VEVENT
DTSTART;TZID=America/Chicago:20260325T191500
DTEND;TZID=America/Chicago:20260325T194500
DTSTAMP:20260422T043553
CREATED:20260325T041033Z
LAST-MODIFIED:20260325T041033Z
UID:10020163-1774466100-1774467900@artssouthdakota.org
SUMMARY:SAI MIT Class
DESCRIPTION:Event Locator: 2026-ACHRBR\nPlease type the full name of the student organization or club sponsoring the event.: Sigma Alpha Iota\nThis class is for Members-In-Training for Sigma Alpha Iota only.
URL:https://artssouthdakota.org/event/sai-mit-class/
LOCATION:Johnson Fine Arts Music Ed Classroom 176
CATEGORIES:Northeast Region,NSU All Events Calendar
END:VEVENT
BEGIN:VEVENT
DTSTART;TZID=America/Chicago:20260326T173000
DTEND;TZID=America/Chicago:20260326T193000
DTSTAMP:20260422T043553
CREATED:20260305T144912Z
LAST-MODIFIED:20260305T144912Z
UID:10020077-1774546200-1774553400@artssouthdakota.org
SUMMARY:Spring Exhibits Celebration
DESCRIPTION:Join us as we celebrate new exhibitions across all museum galleries. Enjoy light refreshments\, creative connection\, and an evening of art–with live music from Prairie Groove Band\, bringing jazz and blues to fit your groove.
URL:https://artssouthdakota.org/event/spring-exhibits-celebration/
LOCATION:South Dakota Art Museum\, 1036 Medary Ave\, Brookings\, SD\, United States
CATEGORIES:Northeast Region,Reception
ATTACH;FMTTYPE=image/png:https://artssouthdakota.org/wp-content/uploads/2026/03/Screenshot-2026-03-05-at-8.48.30 AM.png
ORGANIZER;CN="South Dakota Art Museum":MAILTO:sdsu.sdam@sdstate.edu
GEO:44.317701;-96.788348
X-APPLE-STRUCTURED-LOCATION;VALUE=URI;X-ADDRESS=South Dakota Art Museum 1036 Medary Ave Brookings SD United States;X-APPLE-RADIUS=500;X-TITLE=1036 Medary Ave:geo:-96.788348,44.317701
END:VEVENT
BEGIN:VEVENT
DTSTART;TZID=America/Chicago:20260327T180000
DTEND;TZID=America/Chicago:20260327T220000
DTSTAMP:20260422T043553
CREATED:20260116T183521Z
LAST-MODIFIED:20260116T183521Z
UID:10017746-1774634400-1774648800@artssouthdakota.org
SUMMARY:Where the Creatives Gather
DESCRIPTION:Artist gathering the last three Fridays of each month from November until May at Kristopherson Korner\, Veterans Avenue Sisseton Bring Art projects you are working on and come hang out with other artists the last three Fridays during the winter months. Music\, Hot Tea and snacks provided. Don’t forget your tea mug!
URL:https://artssouthdakota.org/event/where-the-creatives-gather/2026-03-27/
LOCATION:Kristopherson Korner\, Sisseton\, United States
CATEGORIES:Art,Conversation,Northeast Region
ATTACH;FMTTYPE=image/png:https://artssouthdakota.org/wp-content/uploads/2026/01/Screenshot-2026-01-16-at-12.34.54 PM.png
GEO:45.6646815;-97.0498046
END:VEVENT
BEGIN:VEVENT
DTSTART;TZID=America/Chicago:20260328T130000
DTEND;TZID=America/Chicago:20260328T214500
DTSTAMP:20260422T043553
CREATED:20260326T041039Z
LAST-MODIFIED:20260328T044109Z
UID:10020191-1774702800-1774734300@artssouthdakota.org
SUMMARY:Aberdeen Film Showcase
DESCRIPTION:Event Locator: 2026-ACHRKN\nCelebrating local filmmakers and the stories that connect us… This event will bring together filmmakers\, students\, and audiences for a full day of screenings\, discussion\, and community connection centered around independent film. The showcase highlights a diverse lineup of films created by South Dakota filmmakers working across animation\, documentary\, comedy\, experimental film\, and science fiction.\nThis showcase is designed to be the seed of something that grows over time\, expanding opportunities for filmmakers\, audiences\, students\, and future collaborators.
URL:https://artssouthdakota.org/event/aberdeen-film-showcase/
LOCATION:Johnson Fine Arts Center Lobby 101\, Johnson Fine Arts Berggren (Blue Room) Recital Hall 181
CATEGORIES:Northeast Region,NSU All Events Calendar
ATTACH;FMTTYPE=image/jpeg:https://artssouthdakota.org/wp-content/uploads/2026/03/DgCTELidytm-lNgc-qjKEBzB-Sy8G6i.tmp_.jpg
END:VEVENT
BEGIN:VEVENT
DTSTART;TZID=America/Chicago:20260328T140000
DTEND;TZID=America/Chicago:20260328T160000
DTSTAMP:20260422T043553
CREATED:20260310T211005Z
LAST-MODIFIED:20260310T211005Z
UID:10020094-1774706400-1774713600@artssouthdakota.org
SUMMARY:A Little Basket of Spring Cake Decorating Class
DESCRIPTION:WATERTOWN\, SD — Northern Prairie Arts will host “A Little Basket of Spring\,” a beginner-friendly cake decorating workshop on Saturday\, March 28\, 2026 from 2–4 PM in Watertown. \nInstructor Tess from Crumbly Delights Bakery will guide participants through decorating an adorable Easter basket cake. During the class\, participants will learn simple decorating techniques including basket-weave piping and grass piping while creating their own 4-inch vanilla bento cake to take home. \nNo baking experience is required and all supplies are provided. \nThe class is open to ages 15 and older\, or ages 11 with an accompanying adult. Space is limited and registration closes March 21st. \nTo register\, visit NorthernPrairieArts.org.\nQuestions may be directed to 605-882-1780.
URL:https://artssouthdakota.org/event/a-little-basket-of-spring-cake-decorating-class/
CATEGORIES:Class,Culinary,Literary/Poetry,Northeast Region,Reception
ATTACH;FMTTYPE=image/jpeg:https://artssouthdakota.org/wp-content/uploads/2026/03/Poster-Cake-Class-3.28.26_Final.jpg
ORGANIZER;CN="Northern Prairie Arts ~ Watertown's Arts Council":MAILTO:artsnight@outlook.com
END:VEVENT
BEGIN:VEVENT
DTSTART;TZID=America/Chicago:20260331T120000
DTEND;TZID=America/Chicago:20260331T130000
DTSTAMP:20260422T043553
CREATED:20260326T041045Z
LAST-MODIFIED:20260331T051009Z
UID:10020192-1774958400-1774962000@artssouthdakota.org
SUMMARY:Opera Workshop Rehearsal
DESCRIPTION:Event Locator: 2026-ACHRKA\nThis is a staging rehearsal for our opera workshop performances on April 17th and 18th.
URL:https://artssouthdakota.org/event/opera-workshop-rehearsal/
LOCATION:Johnson Fine Arts Black Box 112
CATEGORIES:Northeast Region,NSU All Events Calendar
END:VEVENT
BEGIN:VEVENT
DTSTART;TZID=America/Chicago:20260331T180000
DTEND;TZID=America/Chicago:20260331T200000
DTSTAMP:20260422T043553
CREATED:20260204T183127Z
LAST-MODIFIED:20260204T183127Z
UID:10019575-1774980000-1774987200@artssouthdakota.org
SUMMARY:Wood Carving 101
DESCRIPTION:Discover the creative world of wood carving with Steve Hunter. A Toronto\, SD-based carver that has been carving since 1998. This beginner-friendly course is designed both for absolute beginners and for those coming back to carving after a pause. Learn core safety and carving fundamentals using one knife\, plus a complete end-to-end project. The atmosphere is relaxed\, fun\, and supportive\, with patient coaching. \nYour registration includes a full personal carving kit to keep:\n•     High-quality carving knife\n•     Cut-resistant carving glove\n•     Finger safety tape\n•     Leather strop and stropping compound\n•     Carving pattern and basswood for project and practice\n•     Pencil\n•     Heavy canvas tool roll and a heavy-duty canvas bag \nMinimum age is 16 or 14 if accompanied by an adult in all sessions.
URL:https://artssouthdakota.org/event/wood-carving-101/2026-03-31/
LOCATION:Codington Country Heritage Museum Classroom\, 27 1st Ave SE\,\, Watertown\, 57201\, United States
CATEGORIES:Art,Class/Workshop,Northeast Region
ATTACH;FMTTYPE=image/jpeg:https://artssouthdakota.org/wp-content/uploads/2026/01/WoodC-Banner_Hunter_Mar2026.jpg
ORGANIZER;CN="Northern Prairie Arts ~ Watertown's Arts Council":MAILTO:artsnight@outlook.com
GEO:44.8992574;-97.1135929
X-APPLE-STRUCTURED-LOCATION;VALUE=URI;X-ADDRESS=Codington Country Heritage Museum Classroom 27 1st Ave SE Watertown 57201 United States;X-APPLE-RADIUS=500;X-TITLE=27 1st Ave SE\,:geo:-97.1135929,44.8992574
END:VEVENT
END:VCALENDAR