BEGIN:VCALENDAR
VERSION:2.0
PRODID:-//Arts South Dakota - ECPv6.10.2//NONSGML v1.0//EN
CALSCALE:GREGORIAN
METHOD:PUBLISH
X-ORIGINAL-URL:https://artssouthdakota.org
X-WR-CALDESC:Events for Arts South Dakota
REFRESH-INTERVAL;VALUE=DURATION:PT1H
X-Robots-Tag:noindex
X-PUBLISHED-TTL:PT1H
BEGIN:VTIMEZONE
TZID:America/Chicago
BEGIN:DAYLIGHT
TZOFFSETFROM:-0600
TZOFFSETTO:-0500
TZNAME:CDT
DTSTART:20260308T080000
END:DAYLIGHT
BEGIN:STANDARD
TZOFFSETFROM:-0500
TZOFFSETTO:-0600
TZNAME:CST
DTSTART:20261101T070000
END:STANDARD
END:VTIMEZONE
BEGIN:VTIMEZONE
TZID:America/Denver
BEGIN:DAYLIGHT
TZOFFSETFROM:-0700
TZOFFSETTO:-0600
TZNAME:MDT
DTSTART:20260308T090000
END:DAYLIGHT
BEGIN:STANDARD
TZOFFSETFROM:-0600
TZOFFSETTO:-0700
TZNAME:MST
DTSTART:20261101T080000
END:STANDARD
END:VTIMEZONE
BEGIN:VEVENT
DTSTART;TZID=America/Chicago:20260521T180000
DTEND;TZID=America/Chicago:20260521T213000
DTSTAMP:20260421T143657
CREATED:20260409T145545Z
LAST-MODIFIED:20260409T145545Z
UID:10020718-1779386400-1779399000@artssouthdakota.org
SUMMARY:Parkston Amphitheater - AmphiThursdays Summer Concert Series
DESCRIPTION:AmphiThursdays enters its 6th season in Parkston\, SD\nOur events are admission free\, but there are food trucks\, cold beer and vendors on site every week.\nMay 21st – Kimberly Meyer with opener Emma Nichole\nMay 28th – GPO with opener XTD\nJune 4th – Hot Rod Chevy Kevy with opener Billy Lurkin\nJune 11th – Rowan Grace with opener Logan Culhane Band\nJune 18th – The Gear Daddies with opener Too Drunk to Fish\nJune 25th – Wakefield with opener Audrianna & Friends\nJuly 2nd – No Concert\nJuly 9th – The Elders with opener J & Jess\nJuly 16th – Funk Uh Fried with opener Paul Weidenbach\nJuly 23rd – Tara Faber Band with opener Chad Madsen\nJuly 30th – Ivory with opener Todd Kieffer\nAugust 6th – Ty Herndon with opener Two Wheats & a Blonde
URL:https://artssouthdakota.org/event/parkston-amphitheater-amphithursdays-summer-concert-series/2026-05-21/
LOCATION:Parkston Amphitheater\, 102 S Anna St\, Parkston\, S\, 57366\, United States
CATEGORIES:Americana Series,Culinary,Festival in the Park,Music,Southeast Region
ATTACH;FMTTYPE=image/jpeg:https://artssouthdakota.org/wp-content/uploads/2026/04/02024-amp1.jpg
ORGANIZER;CN="Parkston Commercial Club":MAILTO:BMAXWELL@MAXWELLBOWAR.COM
GEO:43.3947079;-97.9785098
X-APPLE-STRUCTURED-LOCATION;VALUE=URI;X-ADDRESS=Parkston Amphitheater 102 S Anna St Parkston S 57366 United States;X-APPLE-RADIUS=500;X-TITLE=102 S Anna St:geo:-97.9785098,43.3947079
END:VEVENT
BEGIN:VEVENT
DTSTART;TZID=America/Chicago:20260528T180000
DTEND;TZID=America/Chicago:20260528T213000
DTSTAMP:20260421T143657
CREATED:20260409T145545Z
LAST-MODIFIED:20260409T145545Z
UID:10020719-1779991200-1780003800@artssouthdakota.org
SUMMARY:Parkston Amphitheater - AmphiThursdays Summer Concert Series
DESCRIPTION:AmphiThursdays enters its 6th season in Parkston\, SD\nOur events are admission free\, but there are food trucks\, cold beer and vendors on site every week.\nMay 21st – Kimberly Meyer with opener Emma Nichole\nMay 28th – GPO with opener XTD\nJune 4th – Hot Rod Chevy Kevy with opener Billy Lurkin\nJune 11th – Rowan Grace with opener Logan Culhane Band\nJune 18th – The Gear Daddies with opener Too Drunk to Fish\nJune 25th – Wakefield with opener Audrianna & Friends\nJuly 2nd – No Concert\nJuly 9th – The Elders with opener J & Jess\nJuly 16th – Funk Uh Fried with opener Paul Weidenbach\nJuly 23rd – Tara Faber Band with opener Chad Madsen\nJuly 30th – Ivory with opener Todd Kieffer\nAugust 6th – Ty Herndon with opener Two Wheats & a Blonde
URL:https://artssouthdakota.org/event/parkston-amphitheater-amphithursdays-summer-concert-series/2026-05-28/
LOCATION:Parkston Amphitheater\, 102 S Anna St\, Parkston\, S\, 57366\, United States
CATEGORIES:Americana Series,Culinary,Festival in the Park,Music,Southeast Region
ATTACH;FMTTYPE=image/jpeg:https://artssouthdakota.org/wp-content/uploads/2026/04/02024-amp1.jpg
ORGANIZER;CN="Parkston Commercial Club":MAILTO:BMAXWELL@MAXWELLBOWAR.COM
GEO:43.3947079;-97.9785098
X-APPLE-STRUCTURED-LOCATION;VALUE=URI;X-ADDRESS=Parkston Amphitheater 102 S Anna St Parkston S 57366 United States;X-APPLE-RADIUS=500;X-TITLE=102 S Anna St:geo:-97.9785098,43.3947079
END:VEVENT
BEGIN:VEVENT
DTSTART;TZID=America/Chicago:20260604T180000
DTEND;TZID=America/Chicago:20260604T213000
DTSTAMP:20260421T143657
CREATED:20260409T145545Z
LAST-MODIFIED:20260409T145545Z
UID:10020720-1780596000-1780608600@artssouthdakota.org
SUMMARY:Parkston Amphitheater - AmphiThursdays Summer Concert Series
DESCRIPTION:AmphiThursdays enters its 6th season in Parkston\, SD\nOur events are admission free\, but there are food trucks\, cold beer and vendors on site every week.\nMay 21st – Kimberly Meyer with opener Emma Nichole\nMay 28th – GPO with opener XTD\nJune 4th – Hot Rod Chevy Kevy with opener Billy Lurkin\nJune 11th – Rowan Grace with opener Logan Culhane Band\nJune 18th – The Gear Daddies with opener Too Drunk to Fish\nJune 25th – Wakefield with opener Audrianna & Friends\nJuly 2nd – No Concert\nJuly 9th – The Elders with opener J & Jess\nJuly 16th – Funk Uh Fried with opener Paul Weidenbach\nJuly 23rd – Tara Faber Band with opener Chad Madsen\nJuly 30th – Ivory with opener Todd Kieffer\nAugust 6th – Ty Herndon with opener Two Wheats & a Blonde
URL:https://artssouthdakota.org/event/parkston-amphitheater-amphithursdays-summer-concert-series/2026-06-04/
LOCATION:Parkston Amphitheater\, 102 S Anna St\, Parkston\, S\, 57366\, United States
CATEGORIES:Americana Series,Culinary,Festival in the Park,Music,Southeast Region
ATTACH;FMTTYPE=image/jpeg:https://artssouthdakota.org/wp-content/uploads/2026/04/02024-amp1.jpg
ORGANIZER;CN="Parkston Commercial Club":MAILTO:BMAXWELL@MAXWELLBOWAR.COM
GEO:43.3947079;-97.9785098
X-APPLE-STRUCTURED-LOCATION;VALUE=URI;X-ADDRESS=Parkston Amphitheater 102 S Anna St Parkston S 57366 United States;X-APPLE-RADIUS=500;X-TITLE=102 S Anna St:geo:-97.9785098,43.3947079
END:VEVENT
BEGIN:VEVENT
DTSTART;TZID=America/Chicago:20260611T180000
DTEND;TZID=America/Chicago:20260611T213000
DTSTAMP:20260421T143657
CREATED:20260409T145545Z
LAST-MODIFIED:20260409T145545Z
UID:10020721-1781200800-1781213400@artssouthdakota.org
SUMMARY:Parkston Amphitheater - AmphiThursdays Summer Concert Series
DESCRIPTION:AmphiThursdays enters its 6th season in Parkston\, SD\nOur events are admission free\, but there are food trucks\, cold beer and vendors on site every week.\nMay 21st – Kimberly Meyer with opener Emma Nichole\nMay 28th – GPO with opener XTD\nJune 4th – Hot Rod Chevy Kevy with opener Billy Lurkin\nJune 11th – Rowan Grace with opener Logan Culhane Band\nJune 18th – The Gear Daddies with opener Too Drunk to Fish\nJune 25th – Wakefield with opener Audrianna & Friends\nJuly 2nd – No Concert\nJuly 9th – The Elders with opener J & Jess\nJuly 16th – Funk Uh Fried with opener Paul Weidenbach\nJuly 23rd – Tara Faber Band with opener Chad Madsen\nJuly 30th – Ivory with opener Todd Kieffer\nAugust 6th – Ty Herndon with opener Two Wheats & a Blonde
URL:https://artssouthdakota.org/event/parkston-amphitheater-amphithursdays-summer-concert-series/2026-06-11/
LOCATION:Parkston Amphitheater\, 102 S Anna St\, Parkston\, S\, 57366\, United States
CATEGORIES:Americana Series,Culinary,Festival in the Park,Music,Southeast Region
ATTACH;FMTTYPE=image/jpeg:https://artssouthdakota.org/wp-content/uploads/2026/04/02024-amp1.jpg
ORGANIZER;CN="Parkston Commercial Club":MAILTO:BMAXWELL@MAXWELLBOWAR.COM
GEO:43.3947079;-97.9785098
X-APPLE-STRUCTURED-LOCATION;VALUE=URI;X-ADDRESS=Parkston Amphitheater 102 S Anna St Parkston S 57366 United States;X-APPLE-RADIUS=500;X-TITLE=102 S Anna St:geo:-97.9785098,43.3947079
END:VEVENT
BEGIN:VEVENT
DTSTART;TZID=America/Chicago:20260618T180000
DTEND;TZID=America/Chicago:20260618T213000
DTSTAMP:20260421T143657
CREATED:20260409T145545Z
LAST-MODIFIED:20260409T145545Z
UID:10020722-1781805600-1781818200@artssouthdakota.org
SUMMARY:Parkston Amphitheater - AmphiThursdays Summer Concert Series
DESCRIPTION:AmphiThursdays enters its 6th season in Parkston\, SD\nOur events are admission free\, but there are food trucks\, cold beer and vendors on site every week.\nMay 21st – Kimberly Meyer with opener Emma Nichole\nMay 28th – GPO with opener XTD\nJune 4th – Hot Rod Chevy Kevy with opener Billy Lurkin\nJune 11th – Rowan Grace with opener Logan Culhane Band\nJune 18th – The Gear Daddies with opener Too Drunk to Fish\nJune 25th – Wakefield with opener Audrianna & Friends\nJuly 2nd – No Concert\nJuly 9th – The Elders with opener J & Jess\nJuly 16th – Funk Uh Fried with opener Paul Weidenbach\nJuly 23rd – Tara Faber Band with opener Chad Madsen\nJuly 30th – Ivory with opener Todd Kieffer\nAugust 6th – Ty Herndon with opener Two Wheats & a Blonde
URL:https://artssouthdakota.org/event/parkston-amphitheater-amphithursdays-summer-concert-series/2026-06-18/
LOCATION:Parkston Amphitheater\, 102 S Anna St\, Parkston\, S\, 57366\, United States
CATEGORIES:Americana Series,Culinary,Festival in the Park,Music,Southeast Region
ATTACH;FMTTYPE=image/jpeg:https://artssouthdakota.org/wp-content/uploads/2026/04/02024-amp1.jpg
ORGANIZER;CN="Parkston Commercial Club":MAILTO:BMAXWELL@MAXWELLBOWAR.COM
GEO:43.3947079;-97.9785098
X-APPLE-STRUCTURED-LOCATION;VALUE=URI;X-ADDRESS=Parkston Amphitheater 102 S Anna St Parkston S 57366 United States;X-APPLE-RADIUS=500;X-TITLE=102 S Anna St:geo:-97.9785098,43.3947079
END:VEVENT
BEGIN:VEVENT
DTSTART;TZID=America/Chicago:20260625T180000
DTEND;TZID=America/Chicago:20260625T213000
DTSTAMP:20260421T143657
CREATED:20260409T145545Z
LAST-MODIFIED:20260409T145545Z
UID:10020723-1782410400-1782423000@artssouthdakota.org
SUMMARY:Parkston Amphitheater - AmphiThursdays Summer Concert Series
DESCRIPTION:AmphiThursdays enters its 6th season in Parkston\, SD\nOur events are admission free\, but there are food trucks\, cold beer and vendors on site every week.\nMay 21st – Kimberly Meyer with opener Emma Nichole\nMay 28th – GPO with opener XTD\nJune 4th – Hot Rod Chevy Kevy with opener Billy Lurkin\nJune 11th – Rowan Grace with opener Logan Culhane Band\nJune 18th – The Gear Daddies with opener Too Drunk to Fish\nJune 25th – Wakefield with opener Audrianna & Friends\nJuly 2nd – No Concert\nJuly 9th – The Elders with opener J & Jess\nJuly 16th – Funk Uh Fried with opener Paul Weidenbach\nJuly 23rd – Tara Faber Band with opener Chad Madsen\nJuly 30th – Ivory with opener Todd Kieffer\nAugust 6th – Ty Herndon with opener Two Wheats & a Blonde
URL:https://artssouthdakota.org/event/parkston-amphitheater-amphithursdays-summer-concert-series/2026-06-25/
LOCATION:Parkston Amphitheater\, 102 S Anna St\, Parkston\, S\, 57366\, United States
CATEGORIES:Americana Series,Culinary,Festival in the Park,Music,Southeast Region
ATTACH;FMTTYPE=image/jpeg:https://artssouthdakota.org/wp-content/uploads/2026/04/02024-amp1.jpg
ORGANIZER;CN="Parkston Commercial Club":MAILTO:BMAXWELL@MAXWELLBOWAR.COM
GEO:43.3947079;-97.9785098
X-APPLE-STRUCTURED-LOCATION;VALUE=URI;X-ADDRESS=Parkston Amphitheater 102 S Anna St Parkston S 57366 United States;X-APPLE-RADIUS=500;X-TITLE=102 S Anna St:geo:-97.9785098,43.3947079
END:VEVENT
BEGIN:VEVENT
DTSTART;TZID=America/Chicago:20260709T180000
DTEND;TZID=America/Chicago:20260709T213000
DTSTAMP:20260421T143657
CREATED:20260409T145545Z
LAST-MODIFIED:20260409T145545Z
UID:10020724-1783620000-1783632600@artssouthdakota.org
SUMMARY:Parkston Amphitheater - AmphiThursdays Summer Concert Series
DESCRIPTION:AmphiThursdays enters its 6th season in Parkston\, SD\nOur events are admission free\, but there are food trucks\, cold beer and vendors on site every week.\nMay 21st – Kimberly Meyer with opener Emma Nichole\nMay 28th – GPO with opener XTD\nJune 4th – Hot Rod Chevy Kevy with opener Billy Lurkin\nJune 11th – Rowan Grace with opener Logan Culhane Band\nJune 18th – The Gear Daddies with opener Too Drunk to Fish\nJune 25th – Wakefield with opener Audrianna & Friends\nJuly 2nd – No Concert\nJuly 9th – The Elders with opener J & Jess\nJuly 16th – Funk Uh Fried with opener Paul Weidenbach\nJuly 23rd – Tara Faber Band with opener Chad Madsen\nJuly 30th – Ivory with opener Todd Kieffer\nAugust 6th – Ty Herndon with opener Two Wheats & a Blonde
URL:https://artssouthdakota.org/event/parkston-amphitheater-amphithursdays-summer-concert-series/2026-07-09/
LOCATION:Parkston Amphitheater\, 102 S Anna St\, Parkston\, S\, 57366\, United States
CATEGORIES:Americana Series,Culinary,Festival in the Park,Music,Southeast Region
ATTACH;FMTTYPE=image/jpeg:https://artssouthdakota.org/wp-content/uploads/2026/04/02024-amp1.jpg
ORGANIZER;CN="Parkston Commercial Club":MAILTO:BMAXWELL@MAXWELLBOWAR.COM
GEO:43.3947079;-97.9785098
X-APPLE-STRUCTURED-LOCATION;VALUE=URI;X-ADDRESS=Parkston Amphitheater 102 S Anna St Parkston S 57366 United States;X-APPLE-RADIUS=500;X-TITLE=102 S Anna St:geo:-97.9785098,43.3947079
END:VEVENT
BEGIN:VEVENT
DTSTART;TZID=America/Chicago:20260716T180000
DTEND;TZID=America/Chicago:20260716T213000
DTSTAMP:20260421T143657
CREATED:20260409T145545Z
LAST-MODIFIED:20260409T145545Z
UID:10020725-1784224800-1784237400@artssouthdakota.org
SUMMARY:Parkston Amphitheater - AmphiThursdays Summer Concert Series
DESCRIPTION:AmphiThursdays enters its 6th season in Parkston\, SD\nOur events are admission free\, but there are food trucks\, cold beer and vendors on site every week.\nMay 21st – Kimberly Meyer with opener Emma Nichole\nMay 28th – GPO with opener XTD\nJune 4th – Hot Rod Chevy Kevy with opener Billy Lurkin\nJune 11th – Rowan Grace with opener Logan Culhane Band\nJune 18th – The Gear Daddies with opener Too Drunk to Fish\nJune 25th – Wakefield with opener Audrianna & Friends\nJuly 2nd – No Concert\nJuly 9th – The Elders with opener J & Jess\nJuly 16th – Funk Uh Fried with opener Paul Weidenbach\nJuly 23rd – Tara Faber Band with opener Chad Madsen\nJuly 30th – Ivory with opener Todd Kieffer\nAugust 6th – Ty Herndon with opener Two Wheats & a Blonde
URL:https://artssouthdakota.org/event/parkston-amphitheater-amphithursdays-summer-concert-series/2026-07-16/
LOCATION:Parkston Amphitheater\, 102 S Anna St\, Parkston\, S\, 57366\, United States
CATEGORIES:Americana Series,Culinary,Festival in the Park,Music,Southeast Region
ATTACH;FMTTYPE=image/jpeg:https://artssouthdakota.org/wp-content/uploads/2026/04/02024-amp1.jpg
ORGANIZER;CN="Parkston Commercial Club":MAILTO:BMAXWELL@MAXWELLBOWAR.COM
GEO:43.3947079;-97.9785098
X-APPLE-STRUCTURED-LOCATION;VALUE=URI;X-ADDRESS=Parkston Amphitheater 102 S Anna St Parkston S 57366 United States;X-APPLE-RADIUS=500;X-TITLE=102 S Anna St:geo:-97.9785098,43.3947079
END:VEVENT
BEGIN:VEVENT
DTSTART;TZID=America/Denver:20260717T160000
DTEND;TZID=America/Denver:20260717T200000
DTSTAMP:20260421T143657
CREATED:20260418T002528Z
LAST-MODIFIED:20260421T004041Z
UID:10020889-1784304000-1784318400@artssouthdakota.org
SUMMARY:FESTIVAL IN THE PARK - Wristband Night
DESCRIPTION:THE MATTHEWS BIGGEST FUNDRAISER OF THE YEAR!\nFestival in the Park: July 17-18\, 2026\nSPEARFISH CITY PARK ON CANYON STREET\nThe Festival in the Park is one of the largest outdoor summer arts and music festivals in the upper Midwest. The Matthews Opera House & Arts Center of Spearfish\, SD\, organizes this popular festival. It serves as the largest fundraiser for our non-profit organization each year. The proceeds benefit arts outreach in our community and beyond.\nOver 25\,000 people attend the festival\, held every third weekend in July. The festival features 185 fine art and craft vendors with an emphasis on handmade and original products.\nART & CRAFT VENDORS\, LIVE MUSIC\, FOOD\nOptions from 24 food vendors offer eclectic varieties of cuisines that please any appetite. Free live onstage entertainment from local and regional artists is available daily. For those who want to sit with a cool beverage and listen to music\, the “Watering Hole” never fails to please.\nWHAT IS $5 WRISTBAND NIGHT?\nFriday’s $5 Wristband Night is our largest fundraiser of the year! When you purchase a $5 Friday night wristband\, you:\n-You get to preview & buy from your favorite vendors a day ahead!\n-The Watering Hole is open and has great musical groups performing from 4 pm to 8 pm. Only folks with wristbands get to enjoy these bands.\n-Enjoy the festival in the cooler evening hours!\n-For a very low price\, you are supporting the arts in Spearfish. With your purchase of a wrist band you are helping us open our doors to the community bringing them performances\, programs\, a place for local art to be showcased\, at an affordable rate.\n-Help to keep the arts in our community! Money raised goes towards artists of all varieties to bring into our venue from near and far\n-You can pre-purchase your $5 wristbands at the entrances to Spearfish City Park or prior to the event.\nLEAVE FIDO AT HOME\nFriendly reminder: No PETS are allowed on park grounds throughout the event. It is a city ordinance for these 3 days only. Please make plans ahead of time for your pets.\nPARK & RIDE FOR FREE\nPrairie Hills Transit will be providing shuttle service to and from the festival. The shuttle is wheelchair capable. The Spearfish High School parking lot will be used as the park and ride area. The shuttle service is free and will rotate every 15 minutes.\nE V E N T    S C H E D U L E\n$5 WRISTBAND NIGHT – FRIDAY\, JULY 17 | 4 – 8 pm – Vendors Open\nSATURDAY\, JULY 18 | 9 am – 7 pm – Vendors Open\nSUNDAY\, JULY 19 | 10 am – 4 pm – Vendors Open
URL:https://artssouthdakota.org/event/festival-in-the-park-wristband-night-2/
LOCATION:Spearfish City Park\, Spearfish\, SD\, United States
CATEGORIES:Festival in the Park,West Region
ATTACH;FMTTYPE=image/jpeg:https://artssouthdakota.org/wp-content/uploads/2026/04/FiP2026_WebEvent_WithDates-nRTV9k.tmp_.jpg
GEO:44.467137;-103.772331
END:VEVENT
BEGIN:VEVENT
DTSTART;TZID=America/Denver:20260718T090000
DTEND;TZID=America/Denver:20260718T190000
DTSTAMP:20260421T143657
CREATED:20260419T002526Z
LAST-MODIFIED:20260421T004041Z
UID:10020895-1784365200-1784401200@artssouthdakota.org
SUMMARY:FESTIVAL IN THE PARK
DESCRIPTION:THE MATTHEWS BIGGEST FUNDRAISER OF THE YEAR!\nFestival in the Park: July 17-19\, 2025\nSPEARFISH CITY PARK ON CANYON STREET\nThe Festival in the Park is one of the largest outdoor summer arts and music festivals in the upper Midwest. The Matthews Opera House & Arts Center of Spearfish\, SD\, organizes this popular festival. It serves as the largest fundraiser for our non-profit organization each year. The proceeds benefit arts outreach in our community and beyond.\nOver 25\,000 people attend the festival\, held every third weekend in July. The festival features 185 fine art and craft vendors with an emphasis on handmade and original products.\nART & CRAFT VENDORS\, LIVE MUSIC\, FOOD\nOptions from 24 food vendors offer eclectic varieties of cuisines that please any appetite. Free live onstage entertainment from local and regional artists is available daily. For those who want to sit with a cool beverage and listen to music\, the “Watering Hole” never fails to please.\nWHAT IS $5 WRISTBAND NIGHT?\nFriday’s $5 Wristband Night is our largest fundraiser of the year! When you purchase a $5 Friday night wristband\, you:\n-You get to preview & buy from your favorite vendors a day ahead!\n-The Watering Hole is open and has great musical groups performing from 4 pm to 8 pm. Only folks with wristbands get to enjoy these bands.\n-Enjoy the festival in the cooler evening hours!\n-For a very low price\, you are supporting the arts in Spearfish. With your purchase of a wrist band you are helping us open our doors to the community bringing them performances\, programs\, a place for local art to be showcased\, at an affordable rate.\n-Help to keep the arts in our community! Money raised goes towards artists of all varieties to bring into our venue from near and far\n-You can pre-purchase your $5 wristbands at the entrances to Spearfish City Park or prior to the event.\nLEAVE FIDO AT HOME\nFriendly reminder: No PETS are allowed on park grounds throughout the event. It is a city ordinance for these 3 days only. Please make plans ahead of time for your pets.\nPARK & RIDE FOR FREE\nPrairie Hills Transit will be providing shuttle service to and from the festival. The shuttle is wheelchair capable. The Spearfish High School parking lot will be used as the park and ride area. The shuttle service is free and will rotate every 15 minutes.\nE V E N T    S C H E D U L E\n$5 WRISTBAND NIGHT – FRIDAY\, JULY 17| 4 – 8 pm – Vendors Open\nSATURDAY\, JULY 18 | 9 am – 7 pm – Vendors Open\nSUNDAY\, JULY 19 | 10 am – 4 pm – Vendors Open
URL:https://artssouthdakota.org/event/festival-in-the-park-3/
LOCATION:Spearfish City Park\, Spearfish\, SD\, United States
CATEGORIES:Festival in the Park,West Region
ATTACH;FMTTYPE=image/jpeg:https://artssouthdakota.org/wp-content/uploads/2026/04/FiP2026_WebEvent_WithDates-nRTV9k.tmp_.jpg
GEO:44.467137;-103.772331
END:VEVENT
BEGIN:VEVENT
DTSTART;TZID=America/Denver:20260719T100000
DTEND;TZID=America/Denver:20260719T160000
DTSTAMP:20260421T143657
CREATED:20260420T004129Z
LAST-MODIFIED:20260421T004042Z
UID:10020899-1784455200-1784476800@artssouthdakota.org
SUMMARY:FESTIVAL IN THE PARK
DESCRIPTION:THE MATTHEWS BIGGEST FUNDRAISER OF THE YEAR!\nFestival in the Park: July 17-19\, 2025\nSPEARFISH CITY PARK ON CANYON STREET\nThe Festival in the Park is one of the largest outdoor summer arts and music festivals in the upper Midwest. The Matthews Opera House & Arts Center of Spearfish\, SD\, organizes this popular festival. It serves as the largest fundraiser for our non-profit organization each year. The proceeds benefit arts outreach in our community and beyond.\nOver 25\,000 people attend the festival\, held every third weekend in July. The festival features 185 fine art and craft vendors with an emphasis on handmade and original products.\nART & CRAFT VENDORS\, LIVE MUSIC\, FOOD\nOptions from 24 food vendors offer eclectic varieties of cuisines that please any appetite. Free live onstage entertainment from local and regional artists is available daily. For those who want to sit with a cool beverage and listen to music\, the “Watering Hole” never fails to please.\nWHAT IS $5 WRISTBAND NIGHT?\nFriday’s $5 Wristband Night is our largest fundraiser of the year! When you purchase a $5 Friday night wristband\, you:\n-You get to preview & buy from your favorite vendors a day ahead!\n-The Watering Hole is open and has great musical groups performing from 4 pm to 8 pm. Only folks with wristbands get to enjoy these bands.\n-Enjoy the festival in the cooler evening hours!\n-For a very low price\, you are supporting the arts in Spearfish. With your purchase of a wrist band you are helping us open our doors to the community bringing them performances\, programs\, a place for local art to be showcased\, at an affordable rate.\n-Help to keep the arts in our community! Money raised goes towards artists of all varieties to bring into our venue from near and far\n-You can pre-purchase your $5 wristbands at the entrances to Spearfish City Park or prior to the event.\nLEAVE FIDO AT HOME\nFriendly reminder: No PETS are allowed on park grounds throughout the event. It is a city ordinance for these 3 days only. Please make plans ahead of time for your pets.\nPARK & RIDE FOR FREE\nPrairie Hills Transit will be providing shuttle service to and from the festival. The shuttle is wheelchair capable. The Spearfish High School parking lot will be used as the park and ride area. The shuttle service is free and will rotate every 15 minutes.\nE V E N T    S C H E D U L E\n$5 WRISTBAND NIGHT – FRIDAY\, JULY 17 | 4 – 8 pm – Vendors Open\nSATURDAY\, JULY 19=8 | 9 am – 7 pm – Vendors Open\nSUNDAY\, JULY 19 | 10 am – 4 pm – Vendors Open
URL:https://artssouthdakota.org/event/festival-in-the-park-4/
LOCATION:Spearfish City Park\, Spearfish\, SD\, United States
CATEGORIES:Festival in the Park,West Region
ATTACH;FMTTYPE=image/jpeg:https://artssouthdakota.org/wp-content/uploads/2026/04/FiP2026_WebEvent_WithDates-nRTV9k.tmp_.jpg
GEO:44.467137;-103.772331
END:VEVENT
BEGIN:VEVENT
DTSTART;TZID=America/Chicago:20260723T180000
DTEND;TZID=America/Chicago:20260723T213000
DTSTAMP:20260421T143657
CREATED:20260409T145545Z
LAST-MODIFIED:20260409T145545Z
UID:10020726-1784829600-1784842200@artssouthdakota.org
SUMMARY:Parkston Amphitheater - AmphiThursdays Summer Concert Series
DESCRIPTION:AmphiThursdays enters its 6th season in Parkston\, SD\nOur events are admission free\, but there are food trucks\, cold beer and vendors on site every week.\nMay 21st – Kimberly Meyer with opener Emma Nichole\nMay 28th – GPO with opener XTD\nJune 4th – Hot Rod Chevy Kevy with opener Billy Lurkin\nJune 11th – Rowan Grace with opener Logan Culhane Band\nJune 18th – The Gear Daddies with opener Too Drunk to Fish\nJune 25th – Wakefield with opener Audrianna & Friends\nJuly 2nd – No Concert\nJuly 9th – The Elders with opener J & Jess\nJuly 16th – Funk Uh Fried with opener Paul Weidenbach\nJuly 23rd – Tara Faber Band with opener Chad Madsen\nJuly 30th – Ivory with opener Todd Kieffer\nAugust 6th – Ty Herndon with opener Two Wheats & a Blonde
URL:https://artssouthdakota.org/event/parkston-amphitheater-amphithursdays-summer-concert-series/2026-07-23/
LOCATION:Parkston Amphitheater\, 102 S Anna St\, Parkston\, S\, 57366\, United States
CATEGORIES:Americana Series,Culinary,Festival in the Park,Music,Southeast Region
ATTACH;FMTTYPE=image/jpeg:https://artssouthdakota.org/wp-content/uploads/2026/04/02024-amp1.jpg
ORGANIZER;CN="Parkston Commercial Club":MAILTO:BMAXWELL@MAXWELLBOWAR.COM
GEO:43.3947079;-97.9785098
X-APPLE-STRUCTURED-LOCATION;VALUE=URI;X-ADDRESS=Parkston Amphitheater 102 S Anna St Parkston S 57366 United States;X-APPLE-RADIUS=500;X-TITLE=102 S Anna St:geo:-97.9785098,43.3947079
END:VEVENT
BEGIN:VEVENT
DTSTART;TZID=America/Chicago:20260730T180000
DTEND;TZID=America/Chicago:20260730T213000
DTSTAMP:20260421T143657
CREATED:20260409T145545Z
LAST-MODIFIED:20260409T145545Z
UID:10020727-1785434400-1785447000@artssouthdakota.org
SUMMARY:Parkston Amphitheater - AmphiThursdays Summer Concert Series
DESCRIPTION:AmphiThursdays enters its 6th season in Parkston\, SD\nOur events are admission free\, but there are food trucks\, cold beer and vendors on site every week.\nMay 21st – Kimberly Meyer with opener Emma Nichole\nMay 28th – GPO with opener XTD\nJune 4th – Hot Rod Chevy Kevy with opener Billy Lurkin\nJune 11th – Rowan Grace with opener Logan Culhane Band\nJune 18th – The Gear Daddies with opener Too Drunk to Fish\nJune 25th – Wakefield with opener Audrianna & Friends\nJuly 2nd – No Concert\nJuly 9th – The Elders with opener J & Jess\nJuly 16th – Funk Uh Fried with opener Paul Weidenbach\nJuly 23rd – Tara Faber Band with opener Chad Madsen\nJuly 30th – Ivory with opener Todd Kieffer\nAugust 6th – Ty Herndon with opener Two Wheats & a Blonde
URL:https://artssouthdakota.org/event/parkston-amphitheater-amphithursdays-summer-concert-series/2026-07-30/
LOCATION:Parkston Amphitheater\, 102 S Anna St\, Parkston\, S\, 57366\, United States
CATEGORIES:Americana Series,Culinary,Festival in the Park,Music,Southeast Region
ATTACH;FMTTYPE=image/jpeg:https://artssouthdakota.org/wp-content/uploads/2026/04/02024-amp1.jpg
ORGANIZER;CN="Parkston Commercial Club":MAILTO:BMAXWELL@MAXWELLBOWAR.COM
GEO:43.3947079;-97.9785098
X-APPLE-STRUCTURED-LOCATION;VALUE=URI;X-ADDRESS=Parkston Amphitheater 102 S Anna St Parkston S 57366 United States;X-APPLE-RADIUS=500;X-TITLE=102 S Anna St:geo:-97.9785098,43.3947079
END:VEVENT
BEGIN:VEVENT
DTSTART;TZID=America/Chicago:20260806T180000
DTEND;TZID=America/Chicago:20260806T213000
DTSTAMP:20260421T143657
CREATED:20260409T145545Z
LAST-MODIFIED:20260409T145545Z
UID:10020728-1786039200-1786051800@artssouthdakota.org
SUMMARY:Parkston Amphitheater - AmphiThursdays Summer Concert Series
DESCRIPTION:AmphiThursdays enters its 6th season in Parkston\, SD\nOur events are admission free\, but there are food trucks\, cold beer and vendors on site every week.\nMay 21st – Kimberly Meyer with opener Emma Nichole\nMay 28th – GPO with opener XTD\nJune 4th – Hot Rod Chevy Kevy with opener Billy Lurkin\nJune 11th – Rowan Grace with opener Logan Culhane Band\nJune 18th – The Gear Daddies with opener Too Drunk to Fish\nJune 25th – Wakefield with opener Audrianna & Friends\nJuly 2nd – No Concert\nJuly 9th – The Elders with opener J & Jess\nJuly 16th – Funk Uh Fried with opener Paul Weidenbach\nJuly 23rd – Tara Faber Band with opener Chad Madsen\nJuly 30th – Ivory with opener Todd Kieffer\nAugust 6th – Ty Herndon with opener Two Wheats & a Blonde
URL:https://artssouthdakota.org/event/parkston-amphitheater-amphithursdays-summer-concert-series/2026-08-06/
LOCATION:Parkston Amphitheater\, 102 S Anna St\, Parkston\, S\, 57366\, United States
CATEGORIES:Americana Series,Culinary,Festival in the Park,Music,Southeast Region
ATTACH;FMTTYPE=image/jpeg:https://artssouthdakota.org/wp-content/uploads/2026/04/02024-amp1.jpg
ORGANIZER;CN="Parkston Commercial Club":MAILTO:BMAXWELL@MAXWELLBOWAR.COM
GEO:43.3947079;-97.9785098
X-APPLE-STRUCTURED-LOCATION;VALUE=URI;X-ADDRESS=Parkston Amphitheater 102 S Anna St Parkston S 57366 United States;X-APPLE-RADIUS=500;X-TITLE=102 S Anna St:geo:-97.9785098,43.3947079
END:VEVENT
END:VCALENDAR