BEGIN:VCALENDAR
VERSION:2.0
PRODID:-//Arts South Dakota - ECPv6.10.2//NONSGML v1.0//EN
CALSCALE:GREGORIAN
METHOD:PUBLISH
X-ORIGINAL-URL:https://artssouthdakota.org
X-WR-CALDESC:Events for Arts South Dakota
REFRESH-INTERVAL;VALUE=DURATION:PT1H
X-Robots-Tag:noindex
X-PUBLISHED-TTL:PT1H
BEGIN:VTIMEZONE
TZID:America/Chicago
BEGIN:DAYLIGHT
TZOFFSETFROM:-0600
TZOFFSETTO:-0500
TZNAME:CDT
DTSTART:20260308T080000
END:DAYLIGHT
BEGIN:STANDARD
TZOFFSETFROM:-0500
TZOFFSETTO:-0600
TZNAME:CST
DTSTART:20261101T070000
END:STANDARD
END:VTIMEZONE
BEGIN:VTIMEZONE
TZID:America/Denver
BEGIN:DAYLIGHT
TZOFFSETFROM:-0700
TZOFFSETTO:-0600
TZNAME:MDT
DTSTART:20260308T090000
END:DAYLIGHT
BEGIN:STANDARD
TZOFFSETFROM:-0600
TZOFFSETTO:-0700
TZNAME:MST
DTSTART:20261101T080000
END:STANDARD
END:VTIMEZONE
BEGIN:VEVENT
DTSTART;TZID=America/Chicago:20260411T100000
DTEND;TZID=America/Chicago:20260411T130000
DTSTAMP:20260420T212524
CREATED:20260121T154305Z
LAST-MODIFIED:20260209T163643Z
UID:10017772-1775901600-1775912400@artssouthdakota.org
SUMMARY:Community Art Day
DESCRIPTION:Join us for another FREE Community Art Day! The South Dakota Art Museum and Brookings Arts Council are partnering with local artist Kim Chanthalakeo! \nCome get creative on Saturday\, April 11th\, from 10 a.m. to 1 p.m. at the South Dakota Art Museum (1036 Medary Ave.\, Brookings) with us. \nThis month\, we’ll explore portraiture\, creating portraits with collaged construction paper. \n🟢 Open to all ages—everyone is welcome to join the fun\n🟢 Come and go as you please—drop in anytime between 10 a.m. and 1 p.m.\n🟢 All materials are provided—just bring your creativity\n🟢 No cost to attend—it’s completely FREE! \nFree parking is available on Harvey Dunn St. and nearby lots on campus. Questions? Call the Museum at (605)688-5423.
URL:https://artssouthdakota.org/event/community-art-day-2/
LOCATION:South Dakota Art Museum\, 1036 Medary Ave\, Brookings\, SD\, United States
CATEGORIES:Family,Northeast Region
ATTACH;FMTTYPE=image/png:https://artssouthdakota.org/wp-content/uploads/2026/01/Screenshot-2026-01-20-at-9.00.59 AM.png
ORGANIZER;CN="South Dakota Art Museum":MAILTO:sdsu.sdam@sdstate.edu
GEO:44.317701;-96.788348
X-APPLE-STRUCTURED-LOCATION;VALUE=URI;X-ADDRESS=South Dakota Art Museum 1036 Medary Ave Brookings SD United States;X-APPLE-RADIUS=500;X-TITLE=1036 Medary Ave:geo:-96.788348,44.317701
END:VEVENT
BEGIN:VEVENT
DTSTART;TZID=America/Chicago:20260411T100000
DTEND;TZID=America/Chicago:20260411T130000
DTSTAMP:20260420T212524
CREATED:20260309T161826Z
LAST-MODIFIED:20260309T161826Z
UID:10020085-1775901600-1775912400@artssouthdakota.org
SUMMARY:Community Art Day
DESCRIPTION:Join us for another FREE Community Art Day! The South Dakota Art Museum and Brookings Arts Council are partnering with local artist Kim Chanthalakeo! Come get creative this month as we explore portraiture\, creating portraits with collaged construction paper.
URL:https://artssouthdakota.org/event/community-art-day/
LOCATION:South Dakota Art Museum\, 1036 Medary Ave\, Brookings\, SD\, United States
CATEGORIES:Art,Class/Workshop,Family,Northeast Region
ATTACH;FMTTYPE=image/png:https://artssouthdakota.org/wp-content/uploads/2026/03/CAD-Event-Banner.png
ORGANIZER;CN="South Dakota Art Museum":MAILTO:sdsu.sdam@sdstate.edu
GEO:44.317701;-96.788348
X-APPLE-STRUCTURED-LOCATION;VALUE=URI;X-ADDRESS=South Dakota Art Museum 1036 Medary Ave Brookings SD United States;X-APPLE-RADIUS=500;X-TITLE=1036 Medary Ave:geo:-96.788348,44.317701
END:VEVENT
BEGIN:VEVENT
DTSTART;TZID=America/Chicago:20260412T163000
DTEND;TZID=America/Chicago:20260412T173000
DTSTAMP:20260420T212524
CREATED:20250825T134457Z
LAST-MODIFIED:20250825T134457Z
UID:10015049-1776011400-1776015000@artssouthdakota.org
SUMMARY:Concert for Kids & Families
DESCRIPTION:A special addition returning this season\, the Concert For Kids & Families will delight audiences of all ages. Designed to ignite your imagination\, this 60-minute concert is a fun introduction to the orchestra.
URL:https://artssouthdakota.org/event/concert-for-kids-families/
LOCATION:Washington Pavilion – SDSO\, 301 S Main Ave\, Sioux Falls\, SD\, United States
CATEGORIES:Concert,Family,Music,Southeast Region
ATTACH;FMTTYPE=image/png:https://artssouthdakota.org/wp-content/uploads/2025/08/Concert-for-Kids-Families-330-x-330-px.png
GEO:43.544695;-96.728273
X-APPLE-STRUCTURED-LOCATION;VALUE=URI;X-ADDRESS=Washington Pavilion – SDSO 301 S Main Ave Sioux Falls SD United States;X-APPLE-RADIUS=500;X-TITLE=301 S Main Ave:geo:-96.728273,43.544695
END:VEVENT
BEGIN:VEVENT
DTSTART;TZID=America/Denver:20260417T180000
DTEND;TZID=America/Denver:20260417T190000
DTSTAMP:20260420T212524
CREATED:20260331T212209Z
LAST-MODIFIED:20260331T212209Z
UID:10020248-1776448800-1776452400@artssouthdakota.org
SUMMARY:LEGO Contest & STEAM Fair
DESCRIPTION:The Lead Deadwood Arts Center will be sponsoring its 22nd Annual Free LEGO Contest on Friday\, April 17\, 2026 at Lead Deadwood High School\, 320 S. Main in Lead. The event is open to all and will be held in conjunction with a STEAM Fair sponsored by the Lead Deadwood Schools. Registration will take place from 6 to 6:30 p.m. with judging beginning at 6:30 p.m. Participants should create a LEGO sculpture at home and enter it in the contest. Judging will be based on creativity and originality\, so the less LEGO kit parts used\, the better. Grade categories will be Pre-K\, 1 & 2\, 3 & 4\, 5 & 6\, 7 & 8\, high school and adults. Awards will be given for the top three in each category. (For easier transport of your sculpture to the high school\, please use the back door of gym on CC Curran Avenue). For more information\, please call 605-584-1461. Special thanks to our friends at Dakota Gold Corp for sponsoring this year’s contest!
URL:https://artssouthdakota.org/event/lego-contest-steam-fair/
LOCATION:Lead Deadwood High School\, 320 S. Main\, Lead\, S\, 57754\, United States
CATEGORIES:Family,West Region
ATTACH;FMTTYPE=image/jpeg:https://artssouthdakota.org/wp-content/uploads/2026/03/LEGO-Poster-26-with-STEAM-1.jpg
ORGANIZER;CN="Lead Deadwood Arts Center":MAILTO:leaddeadwoodartscenter@gmail.com
GEO:44.3468392;-103.7762473
X-APPLE-STRUCTURED-LOCATION;VALUE=URI;X-ADDRESS=Lead Deadwood High School 320 S. Main Lead S 57754 United States;X-APPLE-RADIUS=500;X-TITLE=320 S. Main:geo:-103.7762473,44.3468392
END:VEVENT
BEGIN:VEVENT
DTSTART;TZID=America/Chicago:20260502T090000
DTEND;TZID=America/Chicago:20260502T113000
DTSTAMP:20260420T212524
CREATED:20260417T173448Z
LAST-MODIFIED:20260417T173448Z
UID:10020864-1777712400-1777721400@artssouthdakota.org
SUMMARY:Art With Wolves – NSU Day of Champions!
DESCRIPTION:3rd Annual Art with Wolves \nJoin us\, along with Natural Abundance Co-op for a a morning of FREE art and fun for kids and families downtown! \nWhether you have little NSU Wolves sports fans or crafty kids in your household\, bring them downtown for a fun morning of meeting their Northern Wolves sports idols\, making Spring crafts\, and playing games! The Northern Wolves athletes are volunteering their time with us the morning of May 2nd\, 2026 as a part of the larger Day of Champions.\nFind the most up to date info on the Facebook event page!\nEvent in-partnership with the Aberdeen Area Arts Council\, Northern State Athletics\, United Way\, Natural Abundance Co-op\, and Malchow Plaza.
URL:https://artssouthdakota.org/event/art-with-wolves-nsu-day-of-champions/
LOCATION:Malchow Plaza\, 506 S Main\, Aberdeen\, South Dakota\, 57401\, United States
CATEGORIES:Art,Family,Northeast Region,Youth
ATTACH;FMTTYPE=image/png:https://artssouthdakota.org/wp-content/uploads/2026/04/Art-With-Facebook-Cover.png
ORGANIZER;CN="Aberdeen Area Arts Council":MAILTO:artscouncil@nvc.net
GEO:45.4599084;-98.4883737
X-APPLE-STRUCTURED-LOCATION;VALUE=URI;X-ADDRESS=Malchow Plaza 506 S Main Aberdeen South Dakota 57401 United States;X-APPLE-RADIUS=500;X-TITLE=506 S Main:geo:-98.4883737,45.4599084
END:VEVENT
BEGIN:VEVENT
DTSTART;TZID=America/Chicago:20260509T090000
DTEND;TZID=America/Chicago:20260509T140000
DTSTAMP:20260420T212524
CREATED:20260126T134854Z
LAST-MODIFIED:20260126T134854Z
UID:10019259-1778317200-1778335200@artssouthdakota.org
SUMMARY:Second Saturdays Art Market
DESCRIPTION:New this summer\, Waterfront Gallery will be hosting a monthly outdoor art market every second Saturday of the month from May 9th through September 12th at the corner of Coteau and Missouri Ave\, in the greenspace next to the Waterfront Plaza parking lot\, just a few blocks down the street from the Farmer’s Market. This art market will feature local artisans\, vendors\, food trucks and make n’ take art activities for kids.
URL:https://artssouthdakota.org/event/second-saturdays-art-market/2026-05-09/
LOCATION:Waterfront Gallery for the Arts\, 207 E Missouri Ave\, Pierre\, SD\, United States
CATEGORIES:Art,Central Region,Family,Lectures & Readings,Literary/Poetry,Talk/Presentation,Visual Arts
ATTACH;FMTTYPE=image/jpeg:https://artssouthdakota.org/wp-content/uploads/2026/01/Art-Market-Website-Event-Header-scaled.jpg
ORGANIZER;CN="Waterfront Gallery for the Arts":MAILTO:waterfrontgallery@midco.net
GEO:44.363522;-100.355083
X-APPLE-STRUCTURED-LOCATION;VALUE=URI;X-ADDRESS=Waterfront Gallery for the Arts 207 E Missouri Ave Pierre SD United States;X-APPLE-RADIUS=500;X-TITLE=207 E Missouri Ave:geo:-100.355083,44.363522
END:VEVENT
BEGIN:VEVENT
DTSTART;TZID=America/Chicago:20260613T090000
DTEND;TZID=America/Chicago:20260613T140000
DTSTAMP:20260420T212524
CREATED:20260126T134854Z
LAST-MODIFIED:20260126T134854Z
UID:10019260-1781341200-1781359200@artssouthdakota.org
SUMMARY:Second Saturdays Art Market
DESCRIPTION:New this summer\, Waterfront Gallery will be hosting a monthly outdoor art market every second Saturday of the month from May 9th through September 12th at the corner of Coteau and Missouri Ave\, in the greenspace next to the Waterfront Plaza parking lot\, just a few blocks down the street from the Farmer’s Market. This art market will feature local artisans\, vendors\, food trucks and make n’ take art activities for kids.
URL:https://artssouthdakota.org/event/second-saturdays-art-market/2026-06-13/
LOCATION:Waterfront Gallery for the Arts\, 207 E Missouri Ave\, Pierre\, SD\, United States
CATEGORIES:Art,Central Region,Family,Lectures & Readings,Literary/Poetry,Talk/Presentation,Visual Arts
ATTACH;FMTTYPE=image/jpeg:https://artssouthdakota.org/wp-content/uploads/2026/01/Art-Market-Website-Event-Header-scaled.jpg
ORGANIZER;CN="Waterfront Gallery for the Arts":MAILTO:waterfrontgallery@midco.net
GEO:44.363522;-100.355083
X-APPLE-STRUCTURED-LOCATION;VALUE=URI;X-ADDRESS=Waterfront Gallery for the Arts 207 E Missouri Ave Pierre SD United States;X-APPLE-RADIUS=500;X-TITLE=207 E Missouri Ave:geo:-100.355083,44.363522
END:VEVENT
BEGIN:VEVENT
DTSTART;TZID=America/Chicago:20260711T090000
DTEND;TZID=America/Chicago:20260711T140000
DTSTAMP:20260420T212524
CREATED:20260126T134854Z
LAST-MODIFIED:20260126T134854Z
UID:10019261-1783760400-1783778400@artssouthdakota.org
SUMMARY:Second Saturdays Art Market
DESCRIPTION:New this summer\, Waterfront Gallery will be hosting a monthly outdoor art market every second Saturday of the month from May 9th through September 12th at the corner of Coteau and Missouri Ave\, in the greenspace next to the Waterfront Plaza parking lot\, just a few blocks down the street from the Farmer’s Market. This art market will feature local artisans\, vendors\, food trucks and make n’ take art activities for kids.
URL:https://artssouthdakota.org/event/second-saturdays-art-market/2026-07-11/
LOCATION:Waterfront Gallery for the Arts\, 207 E Missouri Ave\, Pierre\, SD\, United States
CATEGORIES:Art,Central Region,Family,Lectures & Readings,Literary/Poetry,Talk/Presentation,Visual Arts
ATTACH;FMTTYPE=image/jpeg:https://artssouthdakota.org/wp-content/uploads/2026/01/Art-Market-Website-Event-Header-scaled.jpg
ORGANIZER;CN="Waterfront Gallery for the Arts":MAILTO:waterfrontgallery@midco.net
GEO:44.363522;-100.355083
X-APPLE-STRUCTURED-LOCATION;VALUE=URI;X-ADDRESS=Waterfront Gallery for the Arts 207 E Missouri Ave Pierre SD United States;X-APPLE-RADIUS=500;X-TITLE=207 E Missouri Ave:geo:-100.355083,44.363522
END:VEVENT
BEGIN:VEVENT
DTSTART;TZID=America/Chicago:20260808T090000
DTEND;TZID=America/Chicago:20260808T140000
DTSTAMP:20260420T212524
CREATED:20260126T134854Z
LAST-MODIFIED:20260126T134854Z
UID:10019262-1786179600-1786197600@artssouthdakota.org
SUMMARY:Second Saturdays Art Market
DESCRIPTION:New this summer\, Waterfront Gallery will be hosting a monthly outdoor art market every second Saturday of the month from May 9th through September 12th at the corner of Coteau and Missouri Ave\, in the greenspace next to the Waterfront Plaza parking lot\, just a few blocks down the street from the Farmer’s Market. This art market will feature local artisans\, vendors\, food trucks and make n’ take art activities for kids.
URL:https://artssouthdakota.org/event/second-saturdays-art-market/2026-08-08/
LOCATION:Waterfront Gallery for the Arts\, 207 E Missouri Ave\, Pierre\, SD\, United States
CATEGORIES:Art,Central Region,Family,Lectures & Readings,Literary/Poetry,Talk/Presentation,Visual Arts
ATTACH;FMTTYPE=image/jpeg:https://artssouthdakota.org/wp-content/uploads/2026/01/Art-Market-Website-Event-Header-scaled.jpg
ORGANIZER;CN="Waterfront Gallery for the Arts":MAILTO:waterfrontgallery@midco.net
GEO:44.363522;-100.355083
X-APPLE-STRUCTURED-LOCATION;VALUE=URI;X-ADDRESS=Waterfront Gallery for the Arts 207 E Missouri Ave Pierre SD United States;X-APPLE-RADIUS=500;X-TITLE=207 E Missouri Ave:geo:-100.355083,44.363522
END:VEVENT
BEGIN:VEVENT
DTSTART;TZID=America/Chicago:20260912T090000
DTEND;TZID=America/Chicago:20260912T140000
DTSTAMP:20260420T212524
CREATED:20260126T134854Z
LAST-MODIFIED:20260126T134854Z
UID:10019263-1789203600-1789221600@artssouthdakota.org
SUMMARY:Second Saturdays Art Market
DESCRIPTION:New this summer\, Waterfront Gallery will be hosting a monthly outdoor art market every second Saturday of the month from May 9th through September 12th at the corner of Coteau and Missouri Ave\, in the greenspace next to the Waterfront Plaza parking lot\, just a few blocks down the street from the Farmer’s Market. This art market will feature local artisans\, vendors\, food trucks and make n’ take art activities for kids.
URL:https://artssouthdakota.org/event/second-saturdays-art-market/2026-09-12/
LOCATION:Waterfront Gallery for the Arts\, 207 E Missouri Ave\, Pierre\, SD\, United States
CATEGORIES:Art,Central Region,Family,Lectures & Readings,Literary/Poetry,Talk/Presentation,Visual Arts
ATTACH;FMTTYPE=image/jpeg:https://artssouthdakota.org/wp-content/uploads/2026/01/Art-Market-Website-Event-Header-scaled.jpg
ORGANIZER;CN="Waterfront Gallery for the Arts":MAILTO:waterfrontgallery@midco.net
GEO:44.363522;-100.355083
X-APPLE-STRUCTURED-LOCATION;VALUE=URI;X-ADDRESS=Waterfront Gallery for the Arts 207 E Missouri Ave Pierre SD United States;X-APPLE-RADIUS=500;X-TITLE=207 E Missouri Ave:geo:-100.355083,44.363522
END:VEVENT
END:VCALENDAR