BEGIN:VCALENDAR
VERSION:2.0
PRODID:-//Arts South Dakota - ECPv6.10.2//NONSGML v1.0//EN
CALSCALE:GREGORIAN
METHOD:PUBLISH
X-WR-CALNAME:Arts South Dakota
X-ORIGINAL-URL:https://artssouthdakota.org
X-WR-CALDESC:Events for Arts South Dakota
REFRESH-INTERVAL;VALUE=DURATION:PT1H
X-Robots-Tag:noindex
X-PUBLISHED-TTL:PT1H
BEGIN:VTIMEZONE
TZID:America/Chicago
BEGIN:DAYLIGHT
TZOFFSETFROM:-0600
TZOFFSETTO:-0500
TZNAME:CDT
DTSTART:20260308T080000
END:DAYLIGHT
BEGIN:STANDARD
TZOFFSETFROM:-0500
TZOFFSETTO:-0600
TZNAME:CST
DTSTART:20261101T070000
END:STANDARD
END:VTIMEZONE
BEGIN:VEVENT
DTSTART;VALUE=DATE:20260427
DTEND;VALUE=DATE:20260428
DTSTAMP:20260421T211838
CREATED:20260410T144908Z
LAST-MODIFIED:20260410T144908Z
UID:10020778-1777248000-1777334399@artssouthdakota.org
SUMMARY:Welcome to the artsHUB
DESCRIPTION:Welcome to the artsHUB⌘! The VCA and our intern Abigail would like to invite you to an analog version\, also known as a good old-fashioned get together\, of our digital HUB for artists\, makers\, arts & culture organizations\, venues\, and the community that needs you. \nYou can get ahead of the curve by checking out vermculture.org/artshub – you can add events to the calendar\, make a profile in the directory\, access resources\, or connect on our substack! Bring any questions you might have\, or ways you’d like to get connected but maybe don’t know where or how to begin. The artsHUB is built to be a collaborative experience. \nWe will have large & small + digital & analog visuals to show you what the HUB is\, supportive ways to get started in the HUB\, and\, of course\, snacks\, refreshments\, and camaraderie!
URL:https://artssouthdakota.org/event/welcome-to-the-artshub-2/2026-04-27/
LOCATION:Coyote Gallery\, East Main Street\, Vermillion\, S\, 57069\, United States
CATEGORIES:Art,Art Show,Conversation,Discussion,Education,Exhibit,Exhibition,Reception,Southeast Region,Special Events,Visual Art,Visual Arts
ATTACH;FMTTYPE=image/png:https://artssouthdakota.org/wp-content/uploads/2026/04/water-exhib-0403-1.png
ORGANIZER;CN="Vermillion Cultural Association":MAILTO:executivedirector@vermilliontheaters.com
GEO:42.7797332;-96.9314113
X-APPLE-STRUCTURED-LOCATION;VALUE=URI;X-ADDRESS=Coyote Gallery East Main Street Vermillion S 57069 United States;X-APPLE-RADIUS=500;X-TITLE=East Main Street:geo:-96.9314113,42.7797332
END:VEVENT
BEGIN:VEVENT
DTSTART;VALUE=DATE:20260428
DTEND;VALUE=DATE:20260429
DTSTAMP:20260421T211838
CREATED:20260410T144908Z
LAST-MODIFIED:20260410T144908Z
UID:10020779-1777334400-1777420799@artssouthdakota.org
SUMMARY:Welcome to the artsHUB
DESCRIPTION:Welcome to the artsHUB⌘! The VCA and our intern Abigail would like to invite you to an analog version\, also known as a good old-fashioned get together\, of our digital HUB for artists\, makers\, arts & culture organizations\, venues\, and the community that needs you. \nYou can get ahead of the curve by checking out vermculture.org/artshub – you can add events to the calendar\, make a profile in the directory\, access resources\, or connect on our substack! Bring any questions you might have\, or ways you’d like to get connected but maybe don’t know where or how to begin. The artsHUB is built to be a collaborative experience. \nWe will have large & small + digital & analog visuals to show you what the HUB is\, supportive ways to get started in the HUB\, and\, of course\, snacks\, refreshments\, and camaraderie!
URL:https://artssouthdakota.org/event/welcome-to-the-artshub-2/2026-04-28/
LOCATION:Coyote Gallery\, East Main Street\, Vermillion\, S\, 57069\, United States
CATEGORIES:Art,Art Show,Conversation,Discussion,Education,Exhibit,Exhibition,Reception,Southeast Region,Special Events,Visual Art,Visual Arts
ATTACH;FMTTYPE=image/png:https://artssouthdakota.org/wp-content/uploads/2026/04/water-exhib-0403-1.png
ORGANIZER;CN="Vermillion Cultural Association":MAILTO:executivedirector@vermilliontheaters.com
GEO:42.7797332;-96.9314113
X-APPLE-STRUCTURED-LOCATION;VALUE=URI;X-ADDRESS=Coyote Gallery East Main Street Vermillion S 57069 United States;X-APPLE-RADIUS=500;X-TITLE=East Main Street:geo:-96.9314113,42.7797332
END:VEVENT
BEGIN:VEVENT
DTSTART;VALUE=DATE:20260429
DTEND;VALUE=DATE:20260430
DTSTAMP:20260421T211838
CREATED:20260410T144908Z
LAST-MODIFIED:20260410T144908Z
UID:10020780-1777420800-1777507199@artssouthdakota.org
SUMMARY:Welcome to the artsHUB
DESCRIPTION:Welcome to the artsHUB⌘! The VCA and our intern Abigail would like to invite you to an analog version\, also known as a good old-fashioned get together\, of our digital HUB for artists\, makers\, arts & culture organizations\, venues\, and the community that needs you. \nYou can get ahead of the curve by checking out vermculture.org/artshub – you can add events to the calendar\, make a profile in the directory\, access resources\, or connect on our substack! Bring any questions you might have\, or ways you’d like to get connected but maybe don’t know where or how to begin. The artsHUB is built to be a collaborative experience. \nWe will have large & small + digital & analog visuals to show you what the HUB is\, supportive ways to get started in the HUB\, and\, of course\, snacks\, refreshments\, and camaraderie!
URL:https://artssouthdakota.org/event/welcome-to-the-artshub-2/2026-04-29/
LOCATION:Coyote Gallery\, East Main Street\, Vermillion\, S\, 57069\, United States
CATEGORIES:Art,Art Show,Conversation,Discussion,Education,Exhibit,Exhibition,Reception,Southeast Region,Special Events,Visual Art,Visual Arts
ATTACH;FMTTYPE=image/png:https://artssouthdakota.org/wp-content/uploads/2026/04/water-exhib-0403-1.png
ORGANIZER;CN="Vermillion Cultural Association":MAILTO:executivedirector@vermilliontheaters.com
GEO:42.7797332;-96.9314113
X-APPLE-STRUCTURED-LOCATION;VALUE=URI;X-ADDRESS=Coyote Gallery East Main Street Vermillion S 57069 United States;X-APPLE-RADIUS=500;X-TITLE=East Main Street:geo:-96.9314113,42.7797332
END:VEVENT
BEGIN:VEVENT
DTSTART;VALUE=DATE:20260430
DTEND;VALUE=DATE:20260501
DTSTAMP:20260421T211838
CREATED:20260410T144908Z
LAST-MODIFIED:20260410T144908Z
UID:10020781-1777507200-1777593599@artssouthdakota.org
SUMMARY:Welcome to the artsHUB
DESCRIPTION:Welcome to the artsHUB⌘! The VCA and our intern Abigail would like to invite you to an analog version\, also known as a good old-fashioned get together\, of our digital HUB for artists\, makers\, arts & culture organizations\, venues\, and the community that needs you. \nYou can get ahead of the curve by checking out vermculture.org/artshub – you can add events to the calendar\, make a profile in the directory\, access resources\, or connect on our substack! Bring any questions you might have\, or ways you’d like to get connected but maybe don’t know where or how to begin. The artsHUB is built to be a collaborative experience. \nWe will have large & small + digital & analog visuals to show you what the HUB is\, supportive ways to get started in the HUB\, and\, of course\, snacks\, refreshments\, and camaraderie!
URL:https://artssouthdakota.org/event/welcome-to-the-artshub-2/2026-04-30/
LOCATION:Coyote Gallery\, East Main Street\, Vermillion\, S\, 57069\, United States
CATEGORIES:Art,Art Show,Conversation,Discussion,Education,Exhibit,Exhibition,Reception,Southeast Region,Special Events,Visual Art,Visual Arts
ATTACH;FMTTYPE=image/png:https://artssouthdakota.org/wp-content/uploads/2026/04/water-exhib-0403-1.png
ORGANIZER;CN="Vermillion Cultural Association":MAILTO:executivedirector@vermilliontheaters.com
GEO:42.7797332;-96.9314113
X-APPLE-STRUCTURED-LOCATION;VALUE=URI;X-ADDRESS=Coyote Gallery East Main Street Vermillion S 57069 United States;X-APPLE-RADIUS=500;X-TITLE=East Main Street:geo:-96.9314113,42.7797332
END:VEVENT
BEGIN:VEVENT
DTSTART;VALUE=DATE:20260501
DTEND;VALUE=DATE:20260502
DTSTAMP:20260421T211838
CREATED:20260410T144908Z
LAST-MODIFIED:20260410T144908Z
UID:10020782-1777593600-1777679999@artssouthdakota.org
SUMMARY:Welcome to the artsHUB
DESCRIPTION:Welcome to the artsHUB⌘! The VCA and our intern Abigail would like to invite you to an analog version\, also known as a good old-fashioned get together\, of our digital HUB for artists\, makers\, arts & culture organizations\, venues\, and the community that needs you. \nYou can get ahead of the curve by checking out vermculture.org/artshub – you can add events to the calendar\, make a profile in the directory\, access resources\, or connect on our substack! Bring any questions you might have\, or ways you’d like to get connected but maybe don’t know where or how to begin. The artsHUB is built to be a collaborative experience. \nWe will have large & small + digital & analog visuals to show you what the HUB is\, supportive ways to get started in the HUB\, and\, of course\, snacks\, refreshments\, and camaraderie!
URL:https://artssouthdakota.org/event/welcome-to-the-artshub-2/2026-05-01/1/
LOCATION:Coyote Gallery\, East Main Street\, Vermillion\, S\, 57069\, United States
CATEGORIES:Art,Art Show,Conversation,Discussion,Education,Exhibit,Exhibition,Reception,Southeast Region,Special Events,Visual Art,Visual Arts
ATTACH;FMTTYPE=image/png:https://artssouthdakota.org/wp-content/uploads/2026/04/water-exhib-0403-1.png
ORGANIZER;CN="Vermillion Cultural Association":MAILTO:executivedirector@vermilliontheaters.com
GEO:42.7797332;-96.9314113
X-APPLE-STRUCTURED-LOCATION;VALUE=URI;X-ADDRESS=Coyote Gallery East Main Street Vermillion S 57069 United States;X-APPLE-RADIUS=500;X-TITLE=East Main Street:geo:-96.9314113,42.7797332
END:VEVENT
BEGIN:VEVENT
DTSTART;VALUE=DATE:20260501
DTEND;VALUE=DATE:20260502
DTSTAMP:20260421T211838
CREATED:20260410T144908Z
LAST-MODIFIED:20260410T144908Z
UID:10020783-1777658400-1777665600@artssouthdakota.org
SUMMARY:Welcome to the artsHUB
DESCRIPTION:Welcome to the artsHUB⌘! The VCA and our intern Abigail would like to invite you to an analog version\, also known as a good old-fashioned get together\, of our digital HUB for artists\, makers\, arts & culture organizations\, venues\, and the community that needs you. \nYou can get ahead of the curve by checking out vermculture.org/artshub – you can add events to the calendar\, make a profile in the directory\, access resources\, or connect on our substack! Bring any questions you might have\, or ways you’d like to get connected but maybe don’t know where or how to begin. The artsHUB is built to be a collaborative experience. \nWe will have large & small + digital & analog visuals to show you what the HUB is\, supportive ways to get started in the HUB\, and\, of course\, snacks\, refreshments\, and camaraderie!
URL:https://artssouthdakota.org/event/welcome-to-the-artshub-2/2026-05-01/2/
LOCATION:Coyote Gallery\, East Main Street\, Vermillion\, S\, 57069\, United States
CATEGORIES:Art,Art Show,Conversation,Discussion,Education,Exhibit,Exhibition,Reception,Southeast Region,Special Events,Visual Art,Visual Arts
ATTACH;FMTTYPE=image/png:https://artssouthdakota.org/wp-content/uploads/2026/04/water-exhib-0403-1.png
ORGANIZER;CN="Vermillion Cultural Association":MAILTO:executivedirector@vermilliontheaters.com
GEO:42.7797332;-96.9314113
X-APPLE-STRUCTURED-LOCATION;VALUE=URI;X-ADDRESS=Coyote Gallery East Main Street Vermillion S 57069 United States;X-APPLE-RADIUS=500;X-TITLE=East Main Street:geo:-96.9314113,42.7797332
END:VEVENT
BEGIN:VEVENT
DTSTART;VALUE=DATE:20260502
DTEND;VALUE=DATE:20260503
DTSTAMP:20260421T211838
CREATED:20260410T144908Z
LAST-MODIFIED:20260410T144908Z
UID:10020784-1777680000-1777766399@artssouthdakota.org
SUMMARY:Welcome to the artsHUB
DESCRIPTION:Welcome to the artsHUB⌘! The VCA and our intern Abigail would like to invite you to an analog version\, also known as a good old-fashioned get together\, of our digital HUB for artists\, makers\, arts & culture organizations\, venues\, and the community that needs you. \nYou can get ahead of the curve by checking out vermculture.org/artshub – you can add events to the calendar\, make a profile in the directory\, access resources\, or connect on our substack! Bring any questions you might have\, or ways you’d like to get connected but maybe don’t know where or how to begin. The artsHUB is built to be a collaborative experience. \nWe will have large & small + digital & analog visuals to show you what the HUB is\, supportive ways to get started in the HUB\, and\, of course\, snacks\, refreshments\, and camaraderie!
URL:https://artssouthdakota.org/event/welcome-to-the-artshub-2/2026-05-02/
LOCATION:Coyote Gallery\, East Main Street\, Vermillion\, S\, 57069\, United States
CATEGORIES:Art,Art Show,Conversation,Discussion,Education,Exhibit,Exhibition,Reception,Southeast Region,Special Events,Visual Art,Visual Arts
ATTACH;FMTTYPE=image/png:https://artssouthdakota.org/wp-content/uploads/2026/04/water-exhib-0403-1.png
ORGANIZER;CN="Vermillion Cultural Association":MAILTO:executivedirector@vermilliontheaters.com
GEO:42.7797332;-96.9314113
X-APPLE-STRUCTURED-LOCATION;VALUE=URI;X-ADDRESS=Coyote Gallery East Main Street Vermillion S 57069 United States;X-APPLE-RADIUS=500;X-TITLE=East Main Street:geo:-96.9314113,42.7797332
END:VEVENT
BEGIN:VEVENT
DTSTART;TZID=America/Chicago:20260502T100000
DTEND;TZID=America/Chicago:20260502T160000
DTSTAMP:20260421T211838
CREATED:20260420T161351Z
LAST-MODIFIED:20260420T162849Z
UID:10020903-1777716000-1777737600@artssouthdakota.org
SUMMARY:NMM Discovery Saturday
DESCRIPTION:Discovery Saturday returns to the National Music Museum (NMM) on May 2\, launching a month of programs that explore America’s musical heritage and honor Military Appreciation Month through performances\, activities\, and special gallery experiences. \nThe May 2 Discovery Saturday will feature Missouri Valley Music\, presenting folk music traditions through live performance and storytelling. Musicians John Everist (banjo\, concertina\, fiddle)\, Mike Pettman (concertina\, accordion)\, and Bill Peterson and Josh Scott (fiddle) will share music rooted in Irish\, Scottish\, Danish\, Norwegian\, Swedish\, and Métis traditions. Their program will explore how immigrant musicians carried their cultural heritage to America\, preserving and evolving these traditions across generations. \nIn recognition of Military Appreciation Month\, the NMM will feature a special gallery guide showcasing military instruments on exhibit. The museum will also launch participation in the Blue Star Museums program\, offering free admission to veterans and active-duty military personnel and their families from May 1 through Labor Day.
URL:https://artssouthdakota.org/event/nmm-discovery-saturday-10/
LOCATION:National Music Museum\, East Clark Street\, Vermillion\, S\, 57069\, United States
CATEGORIES:Americana Series,Concert,Education,Exhibition,History,Music
ATTACH;FMTTYPE=image/jpeg:https://artssouthdakota.org/wp-content/uploads/2026/04/NMM_7473-1.jpg
ORGANIZER;CN="National Music Museum":MAILTO:nmm@usd.edu
GEO:42.7828208;-96.9263383
X-APPLE-STRUCTURED-LOCATION;VALUE=URI;X-ADDRESS=National Music Museum East Clark Street Vermillion S 57069 United States;X-APPLE-RADIUS=500;X-TITLE=East Clark Street:geo:-96.9263383,42.7828208
END:VEVENT
BEGIN:VEVENT
DTSTART;VALUE=DATE:20260503
DTEND;VALUE=DATE:20260504
DTSTAMP:20260421T211838
CREATED:20260410T144908Z
LAST-MODIFIED:20260410T144908Z
UID:10020785-1777766400-1777852799@artssouthdakota.org
SUMMARY:Welcome to the artsHUB
DESCRIPTION:Welcome to the artsHUB⌘! The VCA and our intern Abigail would like to invite you to an analog version\, also known as a good old-fashioned get together\, of our digital HUB for artists\, makers\, arts & culture organizations\, venues\, and the community that needs you. \nYou can get ahead of the curve by checking out vermculture.org/artshub – you can add events to the calendar\, make a profile in the directory\, access resources\, or connect on our substack! Bring any questions you might have\, or ways you’d like to get connected but maybe don’t know where or how to begin. The artsHUB is built to be a collaborative experience. \nWe will have large & small + digital & analog visuals to show you what the HUB is\, supportive ways to get started in the HUB\, and\, of course\, snacks\, refreshments\, and camaraderie!
URL:https://artssouthdakota.org/event/welcome-to-the-artshub-2/2026-05-03/
LOCATION:Coyote Gallery\, East Main Street\, Vermillion\, S\, 57069\, United States
CATEGORIES:Art,Art Show,Conversation,Discussion,Education,Exhibit,Exhibition,Reception,Southeast Region,Special Events,Visual Art,Visual Arts
ATTACH;FMTTYPE=image/png:https://artssouthdakota.org/wp-content/uploads/2026/04/water-exhib-0403-1.png
ORGANIZER;CN="Vermillion Cultural Association":MAILTO:executivedirector@vermilliontheaters.com
GEO:42.7797332;-96.9314113
X-APPLE-STRUCTURED-LOCATION;VALUE=URI;X-ADDRESS=Coyote Gallery East Main Street Vermillion S 57069 United States;X-APPLE-RADIUS=500;X-TITLE=East Main Street:geo:-96.9314113,42.7797332
END:VEVENT
END:VCALENDAR