BEGIN:VCALENDAR
VERSION:2.0
PRODID:-//Arts South Dakota - ECPv6.10.2//NONSGML v1.0//EN
CALSCALE:GREGORIAN
METHOD:PUBLISH
X-ORIGINAL-URL:https://artssouthdakota.org
X-WR-CALDESC:Events for Arts South Dakota
REFRESH-INTERVAL;VALUE=DURATION:PT1H
X-Robots-Tag:noindex
X-PUBLISHED-TTL:PT1H
BEGIN:VTIMEZONE
TZID:America/Chicago
BEGIN:DAYLIGHT
TZOFFSETFROM:-0600
TZOFFSETTO:-0500
TZNAME:CDT
DTSTART:20260308T080000
END:DAYLIGHT
BEGIN:STANDARD
TZOFFSETFROM:-0500
TZOFFSETTO:-0600
TZNAME:CST
DTSTART:20261101T070000
END:STANDARD
END:VTIMEZONE
BEGIN:VEVENT
DTSTART;TZID=America/Chicago:20260428T193000
DTEND;TZID=America/Chicago:20260428T210000
DTSTAMP:20260424T110642
CREATED:20260413T134003Z
LAST-MODIFIED:20260413T134003Z
UID:10020814-1777404600-1777410000@artssouthdakota.org
SUMMARY:The Augustana Trombone Choir\, Brass Choir and Brass Quintet presents a spring concert "The Voices of American Brass"
DESCRIPTION:The Augustana Trombone Choir\, Brass Choir and Brass Quintet presents a spring concert “The Voices of American Brass” on April 28th at 7:30pm. \nDoors open at 7:00pm. Tickets will be available at the door.
URL:https://artssouthdakota.org/event/the-augustana-trombone-choir-brass-choir-and-brass-quintet-presents-a-spring-concert-the-voices-of-american-brass/
LOCATION:Augustana Univeristy Hamre Recital Hall\, 2120 S. Grange Avenue\, Sioux Falls\, S\, 57110\, United States
CATEGORIES:Concert,Music,Southeast Region
ATTACH;FMTTYPE=image/jpeg:https://artssouthdakota.org/wp-content/uploads/2026/04/TCBC_USA_April-28.jpg
ORGANIZER;CN="Augustana School of Music":MAILTO:music@augie.edu
GEO:43.5245463;-96.7399456
X-APPLE-STRUCTURED-LOCATION;VALUE=URI;X-ADDRESS=Augustana Univeristy Hamre Recital Hall 2120 S. Grange Avenue Sioux Falls S 57110 United States;X-APPLE-RADIUS=500;X-TITLE=2120 S. Grange Avenue:geo:-96.7399456,43.5245463
END:VEVENT
END:VCALENDAR