BEGIN:VCALENDAR
VERSION:2.0
PRODID:-//Arts South Dakota - ECPv6.10.2//NONSGML v1.0//EN
CALSCALE:GREGORIAN
METHOD:PUBLISH
X-ORIGINAL-URL:https://artssouthdakota.org
X-WR-CALDESC:Events for Arts South Dakota
REFRESH-INTERVAL;VALUE=DURATION:PT1H
X-Robots-Tag:noindex
X-PUBLISHED-TTL:PT1H
BEGIN:VTIMEZONE
TZID:America/Chicago
BEGIN:DAYLIGHT
TZOFFSETFROM:-0600
TZOFFSETTO:-0500
TZNAME:CDT
DTSTART:20260308T080000
END:DAYLIGHT
BEGIN:STANDARD
TZOFFSETFROM:-0500
TZOFFSETTO:-0600
TZNAME:CST
DTSTART:20261101T070000
END:STANDARD
END:VTIMEZONE
BEGIN:VEVENT
DTSTART;VALUE=DATE:20260411
DTEND;VALUE=DATE:20260412
DTSTAMP:20260423T082112
CREATED:20260330T140450Z
LAST-MODIFIED:20260330T140450Z
UID:10020227-1775865600-1775951999@artssouthdakota.org
SUMMARY:Student Showcase
DESCRIPTION:The BAC is proud to showcase art work by the students of MMS and BHS during the month of April.  The show opens April 2nd and will run through April 26th. Please join us for the opening reception!
URL:https://artssouthdakota.org/event/student-showcase/2026-04-11/
LOCATION:Brookings Arts Council\, 524 4th St\, Brookings\, SD\, United States
CATEGORIES:Art,Art Show,Northeast Region
ATTACH;FMTTYPE=image/png:https://artssouthdakota.org/wp-content/uploads/2026/03/unnamed-21.png
ORGANIZER;CN="Brookings Arts Council":MAILTO:directorbac@swiftel.net
GEO:44.308999;-96.796586
X-APPLE-STRUCTURED-LOCATION;VALUE=URI;X-ADDRESS=Brookings Arts Council 524 4th St Brookings SD United States;X-APPLE-RADIUS=500;X-TITLE=524 4th St:geo:-96.796586,44.308999
END:VEVENT
BEGIN:VEVENT
DTSTART;VALUE=DATE:20260411
DTEND;VALUE=DATE:20260412
DTSTAMP:20260423T082112
CREATED:20260410T144908Z
LAST-MODIFIED:20260410T144908Z
UID:10020762-1775865600-1775951999@artssouthdakota.org
SUMMARY:Welcome to the artsHUB
DESCRIPTION:Welcome to the artsHUB⌘! The VCA and our intern Abigail would like to invite you to an analog version\, also known as a good old-fashioned get together\, of our digital HUB for artists\, makers\, arts & culture organizations\, venues\, and the community that needs you. \nYou can get ahead of the curve by checking out vermculture.org/artshub – you can add events to the calendar\, make a profile in the directory\, access resources\, or connect on our substack! Bring any questions you might have\, or ways you’d like to get connected but maybe don’t know where or how to begin. The artsHUB is built to be a collaborative experience. \nWe will have large & small + digital & analog visuals to show you what the HUB is\, supportive ways to get started in the HUB\, and\, of course\, snacks\, refreshments\, and camaraderie!
URL:https://artssouthdakota.org/event/welcome-to-the-artshub-2/2026-04-11/
LOCATION:Coyote Gallery\, East Main Street\, Vermillion\, S\, 57069\, United States
CATEGORIES:Art,Art Show,Conversation,Discussion,Education,Exhibit,Exhibition,Reception,Southeast Region,Special Events,Visual Art,Visual Arts
ATTACH;FMTTYPE=image/png:https://artssouthdakota.org/wp-content/uploads/2026/04/water-exhib-0403-1.png
ORGANIZER;CN="Vermillion Cultural Association":MAILTO:executivedirector@vermilliontheaters.com
GEO:42.7797332;-96.9314113
X-APPLE-STRUCTURED-LOCATION;VALUE=URI;X-ADDRESS=Coyote Gallery East Main Street Vermillion S 57069 United States;X-APPLE-RADIUS=500;X-TITLE=East Main Street:geo:-96.9314113,42.7797332
END:VEVENT
BEGIN:VEVENT
DTSTART;TZID=America/Chicago:20260411T080000
DTEND;TZID=America/Chicago:20260411T170000
DTSTAMP:20260423T082112
CREATED:20260310T210715Z
LAST-MODIFIED:20260310T210715Z
UID:10020099-1775894400-1775926800@artssouthdakota.org
SUMMARY:The Dinner Detective True Crime Murder Mystery Dinner Show - Sioux Falls\, SD
DESCRIPTION:North America’s largest award-winning interactive true crime murder mystery dinner show invites you into a night of laughter\, mystery\, and audience-driven intrigue. Enjoy a full dinner while a hilarious crime unfolds around you—but stay alert. The culprit is hiding in plain sight\, and before the night is over\, you could find yourself named a Prime Suspect. \nNow playing at Sheraton Sioux Falls in Sioux Falls\, SD\, this murder mystery dinner experience is unlike traditional dinner theater. Our professional actors are not in costume and are secretly planted among the guests\, creating a modern\, social\, and highly interactive evening. Each ticket includes our signature live murder mystery show\, a complete dinner\, waitstaff gratuity\, and plenty of unexpected twists. Reserve your tickets now and crack the case before it’s too late. \nPlanning a group celebration or private event in Sioux Falls? We specialize in custom private shows for companies\, parties\, and organizations of nearly any size—hosted at our public venue or brought directly to your location. Perfect for team outings\, corporate events\, and unforgettable celebrations.
URL:https://artssouthdakota.org/event/the-dinner-detective-true-crime-murder-mystery-dinner-show-sioux-falls-sd-2/2026-04-11/
LOCATION:Sheraton Sioux Falls\, 1211 N West Ave\, Sioux Falls\, 57104\, United States
CATEGORIES:Art,Southeast Region
ATTACH;FMTTYPE=image/jpeg:https://artssouthdakota.org/wp-content/uploads/2026/03/The-Dinner-Detective-True-Crime-Murder-Mystery-Dinner-Show-Sioux-Falls-SD-1.jpeg
ORGANIZER;CN="Dinner Detective Sioux Falls":MAILTO:sxf.info@thedinnerdetective.com
GEO:43.562598;-96.7484364
X-APPLE-STRUCTURED-LOCATION;VALUE=URI;X-ADDRESS=Sheraton Sioux Falls 1211 N West Ave Sioux Falls 57104 United States;X-APPLE-RADIUS=500;X-TITLE=1211 N West Ave:geo:-96.7484364,43.562598
END:VEVENT
BEGIN:VEVENT
DTSTART;TZID=America/Chicago:20260411T100000
DTEND;TZID=America/Chicago:20260411T130000
DTSTAMP:20260423T082112
CREATED:20260309T161826Z
LAST-MODIFIED:20260309T161826Z
UID:10020085-1775901600-1775912400@artssouthdakota.org
SUMMARY:Community Art Day
DESCRIPTION:Join us for another FREE Community Art Day! The South Dakota Art Museum and Brookings Arts Council are partnering with local artist Kim Chanthalakeo! Come get creative this month as we explore portraiture\, creating portraits with collaged construction paper.
URL:https://artssouthdakota.org/event/community-art-day/
LOCATION:South Dakota Art Museum\, 1036 Medary Ave\, Brookings\, SD\, United States
CATEGORIES:Art,Class/Workshop,Family,Northeast Region
ATTACH;FMTTYPE=image/png:https://artssouthdakota.org/wp-content/uploads/2026/03/CAD-Event-Banner.png
ORGANIZER;CN="South Dakota Art Museum":MAILTO:sdsu.sdam@sdstate.edu
GEO:44.317701;-96.788348
X-APPLE-STRUCTURED-LOCATION;VALUE=URI;X-ADDRESS=South Dakota Art Museum 1036 Medary Ave Brookings SD United States;X-APPLE-RADIUS=500;X-TITLE=1036 Medary Ave:geo:-96.788348,44.317701
END:VEVENT
BEGIN:VEVENT
DTSTART;TZID=America/Chicago:20260411T110000
DTEND;TZID=America/Chicago:20260411T150000
DTSTAMP:20260423T082112
CREATED:20260407T202807Z
LAST-MODIFIED:20260407T202807Z
UID:10020320-1775905200-1775919600@artssouthdakota.org
SUMMARY:Opening Minds Through Art (OMA) Art Show
DESCRIPTION:Join us for the opening of this two week art show hosted by Countryside Memory Center of Pierre. Open House reception from 11am to 3pm on Saturday\, April 11. Free refreshments. No admission. Meet the artists and learn more about the OMA Program.\nThe OMA Exhibit will be available at Waterfront Gallery through Wednesday\, April 22.\nGallery hours during this exhibit are Wednesdays and Thursdays 11:00am to 4:00pm\, and Saturdays 11:00am to 2:00pm. You may also schedule a visit most other days by contacting Jen Kanz at 605-220-0364. \nOpening Minds Through Art (OMA) is an art program that pairs participants (the artists) with volunteers (students\, families\, caregivers) who are trained to rely on imagination instead of technique\, focusing on memory and remaining strengths instead of lost skills. This evidence-based program draws on an understanding of dementia and the needs of persons living with dementia.
URL:https://artssouthdakota.org/event/opening-minds-through-art-oma-art-show/
LOCATION:Waterfront Gallery for the Arts\, 207 E Missouri Ave\, Pierre\, SD\, United States
CATEGORIES:Art,Art Show,Arts Advocacy,Central Region,Class/Workshop,Education,Exhibition,Music,Visual Art,Writing
ATTACH;FMTTYPE=image/jpeg:https://artssouthdakota.org/wp-content/uploads/2026/04/OMA-Art-Show-flyer-2026.jpg
ORGANIZER;CN="Waterfront Gallery for the Arts":MAILTO:waterfrontgallery@midco.net
GEO:44.363522;-100.355083
X-APPLE-STRUCTURED-LOCATION;VALUE=URI;X-ADDRESS=Waterfront Gallery for the Arts 207 E Missouri Ave Pierre SD United States;X-APPLE-RADIUS=500;X-TITLE=207 E Missouri Ave:geo:-100.355083,44.363522
END:VEVENT
END:VCALENDAR