BEGIN:VCALENDAR
VERSION:2.0
PRODID:-//Arts South Dakota - ECPv6.10.2//NONSGML v1.0//EN
CALSCALE:GREGORIAN
METHOD:PUBLISH
X-ORIGINAL-URL:https://artssouthdakota.org
X-WR-CALDESC:Events for Arts South Dakota
REFRESH-INTERVAL;VALUE=DURATION:PT1H
X-Robots-Tag:noindex
X-PUBLISHED-TTL:PT1H
BEGIN:VTIMEZONE
TZID:America/Denver
BEGIN:DAYLIGHT
TZOFFSETFROM:-0700
TZOFFSETTO:-0600
TZNAME:MDT
DTSTART:20260308T090000
END:DAYLIGHT
BEGIN:STANDARD
TZOFFSETFROM:-0600
TZOFFSETTO:-0700
TZNAME:MST
DTSTART:20261101T080000
END:STANDARD
END:VTIMEZONE
BEGIN:VTIMEZONE
TZID:America/Chicago
BEGIN:DAYLIGHT
TZOFFSETFROM:-0600
TZOFFSETTO:-0500
TZNAME:CDT
DTSTART:20260308T080000
END:DAYLIGHT
BEGIN:STANDARD
TZOFFSETFROM:-0500
TZOFFSETTO:-0600
TZNAME:CST
DTSTART:20261101T070000
END:STANDARD
END:VTIMEZONE
BEGIN:VEVENT
DTSTART;VALUE=DATE:20260402
DTEND;VALUE=DATE:20260404
DTSTAMP:20260425T211506
CREATED:20250916T175359Z
LAST-MODIFIED:20250916T175359Z
UID:10015974-1775088000-1775260799@artssouthdakota.org
SUMMARY:Journeys to the Edge: The Artistic Legacy of Waud\, Burns\, and Crane
DESCRIPTION:The Journey Museum is pleased to announce the opening of an exciting new art exhibition\, Journeys to the Edge: The Artistic Legacy of Waud\, Burns\, and Crane\, on August 23rd\, 2025 in our Contemporary Gallery. This exhibition is included with regular museum admission and will be on display through April 4th\, 2026. \nJourneys to the Edge explores the artistic legacy\, family connection\, and the enduring power of place. This unique exhibition brings together the works of three artists: Alfred R. Waud\, Milton J. Burns\, and Jon Crane.
URL:https://artssouthdakota.org/event/journeys-to-the-edge-the-artistic-legacy-of-waud-burns-and-crane/2026-04-02/
LOCATION:The Journey Museum\, 222 New York St\, Rapid City\, SD\, United States
CATEGORIES:Art,Art Show,West Region
ATTACH;FMTTYPE=image/png:https://artssouthdakota.org/wp-content/uploads/2025/09/Screenshot-2025-09-16-at-12.51.36 PM.png
GEO:44.085429;-103.218084
X-APPLE-STRUCTURED-LOCATION;VALUE=URI;X-ADDRESS=The Journey Museum 222 New York St Rapid City SD United States;X-APPLE-RADIUS=500;X-TITLE=222 New York St:geo:-103.218084,44.085429
END:VEVENT
BEGIN:VEVENT
DTSTART;VALUE=DATE:20260403
DTEND;VALUE=DATE:20260404
DTSTAMP:20260425T211506
CREATED:20260330T140450Z
LAST-MODIFIED:20260330T140450Z
UID:10020219-1775174400-1775260799@artssouthdakota.org
SUMMARY:Student Showcase
DESCRIPTION:The BAC is proud to showcase art work by the students of MMS and BHS during the month of April.  The show opens April 2nd and will run through April 26th. Please join us for the opening reception!
URL:https://artssouthdakota.org/event/student-showcase/2026-04-03/
LOCATION:Brookings Arts Council\, 524 4th St\, Brookings\, SD\, United States
CATEGORIES:Art,Art Show,Northeast Region
ATTACH;FMTTYPE=image/png:https://artssouthdakota.org/wp-content/uploads/2026/03/unnamed-21.png
ORGANIZER;CN="Brookings Arts Council":MAILTO:directorbac@swiftel.net
GEO:44.308999;-96.796586
X-APPLE-STRUCTURED-LOCATION;VALUE=URI;X-ADDRESS=Brookings Arts Council 524 4th St Brookings SD United States;X-APPLE-RADIUS=500;X-TITLE=524 4th St:geo:-96.796586,44.308999
END:VEVENT
BEGIN:VEVENT
DTSTART;VALUE=DATE:20260403
DTEND;VALUE=DATE:20260404
DTSTAMP:20260425T211506
CREATED:20260410T144908Z
LAST-MODIFIED:20260410T144908Z
UID:10020754-1775174400-1775260799@artssouthdakota.org
SUMMARY:Welcome to the artsHUB
DESCRIPTION:Welcome to the artsHUB⌘! The VCA and our intern Abigail would like to invite you to an analog version\, also known as a good old-fashioned get together\, of our digital HUB for artists\, makers\, arts & culture organizations\, venues\, and the community that needs you. \nYou can get ahead of the curve by checking out vermculture.org/artshub – you can add events to the calendar\, make a profile in the directory\, access resources\, or connect on our substack! Bring any questions you might have\, or ways you’d like to get connected but maybe don’t know where or how to begin. The artsHUB is built to be a collaborative experience. \nWe will have large & small + digital & analog visuals to show you what the HUB is\, supportive ways to get started in the HUB\, and\, of course\, snacks\, refreshments\, and camaraderie!
URL:https://artssouthdakota.org/event/welcome-to-the-artshub-2/2026-04-03/
LOCATION:Coyote Gallery\, East Main Street\, Vermillion\, S\, 57069\, United States
CATEGORIES:Art,Art Show,Conversation,Discussion,Education,Exhibit,Exhibition,Reception,Southeast Region,Special Events,Visual Art,Visual Arts
ATTACH;FMTTYPE=image/png:https://artssouthdakota.org/wp-content/uploads/2026/04/water-exhib-0403-1.png
ORGANIZER;CN="Vermillion Cultural Association":MAILTO:executivedirector@vermilliontheaters.com
GEO:42.7797332;-96.9314113
X-APPLE-STRUCTURED-LOCATION;VALUE=URI;X-ADDRESS=Coyote Gallery East Main Street Vermillion S 57069 United States;X-APPLE-RADIUS=500;X-TITLE=East Main Street:geo:-96.9314113,42.7797332
END:VEVENT
BEGIN:VEVENT
DTSTART;VALUE=DATE:20260403
DTEND;VALUE=DATE:20260405
DTSTAMP:20260425T211506
CREATED:20250916T175359Z
LAST-MODIFIED:20250916T175359Z
UID:10015975-1775174400-1775347199@artssouthdakota.org
SUMMARY:Journeys to the Edge: The Artistic Legacy of Waud\, Burns\, and Crane
DESCRIPTION:The Journey Museum is pleased to announce the opening of an exciting new art exhibition\, Journeys to the Edge: The Artistic Legacy of Waud\, Burns\, and Crane\, on August 23rd\, 2025 in our Contemporary Gallery. This exhibition is included with regular museum admission and will be on display through April 4th\, 2026. \nJourneys to the Edge explores the artistic legacy\, family connection\, and the enduring power of place. This unique exhibition brings together the works of three artists: Alfred R. Waud\, Milton J. Burns\, and Jon Crane.
URL:https://artssouthdakota.org/event/journeys-to-the-edge-the-artistic-legacy-of-waud-burns-and-crane/2026-04-03/
LOCATION:The Journey Museum\, 222 New York St\, Rapid City\, SD\, United States
CATEGORIES:Art,Art Show,West Region
ATTACH;FMTTYPE=image/png:https://artssouthdakota.org/wp-content/uploads/2025/09/Screenshot-2025-09-16-at-12.51.36 PM.png
GEO:44.085429;-103.218084
X-APPLE-STRUCTURED-LOCATION;VALUE=URI;X-ADDRESS=The Journey Museum 222 New York St Rapid City SD United States;X-APPLE-RADIUS=500;X-TITLE=222 New York St:geo:-103.218084,44.085429
END:VEVENT
END:VCALENDAR