BEGIN:VCALENDAR
VERSION:2.0
PRODID:-//Arts South Dakota - ECPv6.10.2//NONSGML v1.0//EN
CALSCALE:GREGORIAN
METHOD:PUBLISH
X-ORIGINAL-URL:https://artssouthdakota.org
X-WR-CALDESC:Events for Arts South Dakota
REFRESH-INTERVAL;VALUE=DURATION:PT1H
X-Robots-Tag:noindex
X-PUBLISHED-TTL:PT1H
BEGIN:VTIMEZONE
TZID:America/Chicago
BEGIN:DAYLIGHT
TZOFFSETFROM:-0600
TZOFFSETTO:-0500
TZNAME:CDT
DTSTART:20260308T080000
END:DAYLIGHT
BEGIN:STANDARD
TZOFFSETFROM:-0500
TZOFFSETTO:-0600
TZNAME:CST
DTSTART:20261101T070000
END:STANDARD
END:VTIMEZONE
BEGIN:VEVENT
DTSTART;VALUE=DATE:20260421
DTEND;VALUE=DATE:20260422
DTSTAMP:20260421T202445
CREATED:20260330T140450Z
LAST-MODIFIED:20260330T140450Z
UID:10020237-1776729600-1776815999@artssouthdakota.org
SUMMARY:Student Showcase
DESCRIPTION:The BAC is proud to showcase art work by the students of MMS and BHS during the month of April.  The show opens April 2nd and will run through April 26th. Please join us for the opening reception!
URL:https://artssouthdakota.org/event/student-showcase/2026-04-21/
LOCATION:Brookings Arts Council\, 524 4th St\, Brookings\, SD\, United States
CATEGORIES:Art,Art Show,Northeast Region
ATTACH;FMTTYPE=image/png:https://artssouthdakota.org/wp-content/uploads/2026/03/unnamed-21.png
ORGANIZER;CN="Brookings Arts Council":MAILTO:directorbac@swiftel.net
GEO:44.308999;-96.796586
X-APPLE-STRUCTURED-LOCATION;VALUE=URI;X-ADDRESS=Brookings Arts Council 524 4th St Brookings SD United States;X-APPLE-RADIUS=500;X-TITLE=524 4th St:geo:-96.796586,44.308999
END:VEVENT
BEGIN:VEVENT
DTSTART;VALUE=DATE:20260421
DTEND;VALUE=DATE:20260422
DTSTAMP:20260421T202445
CREATED:20260410T144908Z
LAST-MODIFIED:20260410T144908Z
UID:10020772-1776729600-1776815999@artssouthdakota.org
SUMMARY:Welcome to the artsHUB
DESCRIPTION:Welcome to the artsHUB⌘! The VCA and our intern Abigail would like to invite you to an analog version\, also known as a good old-fashioned get together\, of our digital HUB for artists\, makers\, arts & culture organizations\, venues\, and the community that needs you. \nYou can get ahead of the curve by checking out vermculture.org/artshub – you can add events to the calendar\, make a profile in the directory\, access resources\, or connect on our substack! Bring any questions you might have\, or ways you’d like to get connected but maybe don’t know where or how to begin. The artsHUB is built to be a collaborative experience. \nWe will have large & small + digital & analog visuals to show you what the HUB is\, supportive ways to get started in the HUB\, and\, of course\, snacks\, refreshments\, and camaraderie!
URL:https://artssouthdakota.org/event/welcome-to-the-artshub-2/2026-04-21/
LOCATION:Coyote Gallery\, East Main Street\, Vermillion\, S\, 57069\, United States
CATEGORIES:Art,Art Show,Conversation,Discussion,Education,Exhibit,Exhibition,Reception,Southeast Region,Special Events,Visual Art,Visual Arts
ATTACH;FMTTYPE=image/png:https://artssouthdakota.org/wp-content/uploads/2026/04/water-exhib-0403-1.png
ORGANIZER;CN="Vermillion Cultural Association":MAILTO:executivedirector@vermilliontheaters.com
GEO:42.7797332;-96.9314113
X-APPLE-STRUCTURED-LOCATION;VALUE=URI;X-ADDRESS=Coyote Gallery East Main Street Vermillion S 57069 United States;X-APPLE-RADIUS=500;X-TITLE=East Main Street:geo:-96.9314113,42.7797332
END:VEVENT
BEGIN:VEVENT
DTSTART;TZID=America/Chicago:20260421T080000
DTEND;TZID=America/Chicago:20260421T170000
DTSTAMP:20260421T202445
CREATED:20260413T133504Z
LAST-MODIFIED:20260413T133504Z
UID:10020839-1776758400-1776790800@artssouthdakota.org
SUMMARY:Under Construction: Still Workin" on it
DESCRIPTION:Under Construction features the creative research of the University of South Dakota Department of Art\, BFA Graphic Design Graduating Students. \nJade Bendewald\nEmma Johnson\nMarleen Mulla\nKyle Van Buskirk \nPublic Reception is April 24\, 2026\, from 5 pm to 7 pm in the John A. Day Gallery. Warren M. Lee Center for the Fine Arts\, University of South Dakota\, Vermillion. \nThe show is open\nApril 20-April 24 from 9 am to 5 pm
URL:https://artssouthdakota.org/event/under-construction-still-workin-on-it/2026-04-21/
LOCATION:John A Day Gallery\, East Clark Street\, Vermillion\, South Dakota\, 57069\, United States
CATEGORIES:Art,Art Show,Education,Exhibition,Southeast Region
ATTACH;FMTTYPE=image/png:https://artssouthdakota.org/wp-content/uploads/2026/04/Screenshot-343.png
ORGANIZER;CN="university art galleries":MAILTO:amy.fill@usd.edu
GEO:42.7828208;-96.9263383
X-APPLE-STRUCTURED-LOCATION;VALUE=URI;X-ADDRESS=John A Day Gallery East Clark Street Vermillion South Dakota 57069 United States;X-APPLE-RADIUS=500;X-TITLE=East Clark Street:geo:-96.9263383,42.7828208
END:VEVENT
BEGIN:VEVENT
DTSTART;TZID=America/Chicago:20260421T090000
DTEND;TZID=America/Chicago:20260421T150000
DTSTAMP:20260421T202445
CREATED:20250826T135827Z
LAST-MODIFIED:20250826T135827Z
UID:10015272-1776762000-1776783600@artssouthdakota.org
SUMMARY:Calling for entries into the Dakota MasterWorks Art Show
DESCRIPTION:🎨 Calling All South Dakota Artists Age 60+! 🎨\nWe’re excited to announce the 28th Annual Dakota MasterWorks Art Show\, a celebration of creativity and talent in South Dakota’s older adults! \nIf you’re age 60 or older\, we invite you to showcase your artistic talents in one or more of the following categories:\n• Oils\n• Acrylics\n• Watercolors\n• Drawing/Pastels/Scratchboard\n• Photography\n• Mixed Media\n• Creative Woodworking \nEntry Dates:\nOctober 6–10\, 2025\nEntries accepted between 9 AM – 3 PM at:\nSouth Dakota Health Care Association Office\n804 N Western Ave\, Sioux Falls\, SD 57104 \nEntry forms and criteria available at:\nwww.sdhca.org/dakota-masterworks \nhttps://www.sdhca.org/dakota-masterworks
URL:https://artssouthdakota.org/event/calling-for-entries-into-the-dakota-masterworks-art-show/2026-04-21/
LOCATION:South Dakota Health Care Association Office\, 804 N Western Ave\, Sioux Falls\, 57104\, United States
CATEGORIES:Art Show,Southeast Region
ATTACH;FMTTYPE=image/jpeg:https://artssouthdakota.org/wp-content/uploads/2025/08/Dakota-masterworks-logo06-4-1.jpg
GEO:43.5568062;-96.7509876
X-APPLE-STRUCTURED-LOCATION;VALUE=URI;X-ADDRESS=South Dakota Health Care Association Office 804 N Western Ave Sioux Falls 57104 United States;X-APPLE-RADIUS=500;X-TITLE=804 N Western Ave:geo:-96.7509876,43.5568062
END:VEVENT
END:VCALENDAR