BEGIN:VCALENDAR
VERSION:2.0
PRODID:-//Arts South Dakota - ECPv6.10.2//NONSGML v1.0//EN
CALSCALE:GREGORIAN
METHOD:PUBLISH
X-WR-CALNAME:Arts South Dakota
X-ORIGINAL-URL:https://artssouthdakota.org
X-WR-CALDESC:Events for Arts South Dakota
REFRESH-INTERVAL;VALUE=DURATION:PT1H
X-Robots-Tag:noindex
X-PUBLISHED-TTL:PT1H
BEGIN:VTIMEZONE
TZID:America/Denver
BEGIN:DAYLIGHT
TZOFFSETFROM:-0700
TZOFFSETTO:-0600
TZNAME:MDT
DTSTART:20260308T090000
END:DAYLIGHT
BEGIN:STANDARD
TZOFFSETFROM:-0600
TZOFFSETTO:-0700
TZNAME:MST
DTSTART:20261101T080000
END:STANDARD
END:VTIMEZONE
BEGIN:VTIMEZONE
TZID:America/Chicago
BEGIN:DAYLIGHT
TZOFFSETFROM:-0600
TZOFFSETTO:-0500
TZNAME:CDT
DTSTART:20260308T080000
END:DAYLIGHT
BEGIN:STANDARD
TZOFFSETFROM:-0500
TZOFFSETTO:-0600
TZNAME:CST
DTSTART:20261101T070000
END:STANDARD
END:VTIMEZONE
BEGIN:VEVENT
DTSTART;TZID=America/Denver:20260702T120000
DTEND;TZID=America/Denver:20260903T130000
DTSTAMP:20260424T194417
CREATED:20260413T133837Z
LAST-MODIFIED:20260413T133837Z
UID:10020833-1782993600-1788440400@artssouthdakota.org
SUMMARY:Armchair Travelers Book Club
DESCRIPTION:Armchair Travelers Book Club will meet in the Lushbough Room of the Sturgis Public Library at 12:00 noon on Thursday\, July 2nd\, to share books by Kristin Hannah. \nThe group will not meet in August. \nArmchair Travelers Book Club is co-sponsored by Sturgis Area Arts Council and the Sturgis Public Library. Open to all interested readers\, the group meets at noon in the Lushbough Room of the Sturgis Public Library on the first Thursday of each month except August.
URL:https://artssouthdakota.org/event/armchair-travelers-book-club-2/
LOCATION:Sturgis Public Library\, 1040 Harley-Davidson Way #101\, Sturgis
CATEGORIES:Literary/Poetry,West Region
ATTACH;FMTTYPE=image/jpeg:https://artssouthdakota.org/wp-content/uploads/2026/04/AC-Travelers-2.jpg
END:VEVENT
BEGIN:VEVENT
DTSTART;VALUE=DATE:20260706
DTEND;VALUE=DATE:20260707
DTSTAMP:20260424T194417
CREATED:20260402T184737Z
LAST-MODIFIED:20260402T184737Z
UID:10020302-1783296000-1783382399@artssouthdakota.org
SUMMARY:2026 Augustana Music Academy Workshop
DESCRIPTION:In collaboration with Arts South Dakota and the South Dakota Arts Council\, the Augustana Music Academy (AMA) provides high-quality professional development for music educators teaching kindergarten through 12th grade. Held on Augustana University’s campus from July 6-9\, AMA offers a diverse blend of workshops and interactive sessions. Participants will have opportunities for hands-on learning equipping them with practical skills to enhance their teaching practices and better support their students. \nEducators can earn up to two graduate\, undergraduate or recertification (CEU) credits during the academy.
URL:https://artssouthdakota.org/event/2026-augustana-music-academy-workshop/2026-07-06/
LOCATION:Augustana University\, 2001 S Summit Ave\, Sioux Falls\, SD\, United States
CATEGORIES:Music,Professional Development,Southeast Region,Workshop
ATTACH;FMTTYPE=image/png:https://artssouthdakota.org/wp-content/uploads/2026/04/color-brain.png
ORGANIZER;CN="Augustana School of Music":MAILTO:music@augie.edu
GEO:43.527256;-96.736254
X-APPLE-STRUCTURED-LOCATION;VALUE=URI;X-ADDRESS=Augustana University 2001 S Summit Ave Sioux Falls SD United States;X-APPLE-RADIUS=500;X-TITLE=2001 S Summit Ave:geo:-96.736254,43.527256
END:VEVENT
BEGIN:VEVENT
DTSTART;TZID=America/Chicago:20260706T090000
DTEND;TZID=America/Chicago:20260706T150000
DTSTAMP:20260424T194417
CREATED:20250826T135827Z
LAST-MODIFIED:20250826T135827Z
UID:10015348-1783328400-1783350000@artssouthdakota.org
SUMMARY:Calling for entries into the Dakota MasterWorks Art Show
DESCRIPTION:🎨 Calling All South Dakota Artists Age 60+! 🎨\nWe’re excited to announce the 28th Annual Dakota MasterWorks Art Show\, a celebration of creativity and talent in South Dakota’s older adults! \nIf you’re age 60 or older\, we invite you to showcase your artistic talents in one or more of the following categories:\n• Oils\n• Acrylics\n• Watercolors\n• Drawing/Pastels/Scratchboard\n• Photography\n• Mixed Media\n• Creative Woodworking \nEntry Dates:\nOctober 6–10\, 2025\nEntries accepted between 9 AM – 3 PM at:\nSouth Dakota Health Care Association Office\n804 N Western Ave\, Sioux Falls\, SD 57104 \nEntry forms and criteria available at:\nwww.sdhca.org/dakota-masterworks \nhttps://www.sdhca.org/dakota-masterworks
URL:https://artssouthdakota.org/event/calling-for-entries-into-the-dakota-masterworks-art-show/2026-07-06/
LOCATION:South Dakota Health Care Association Office\, 804 N Western Ave\, Sioux Falls\, 57104\, United States
CATEGORIES:Art Show,Southeast Region
ATTACH;FMTTYPE=image/jpeg:https://artssouthdakota.org/wp-content/uploads/2025/08/Dakota-masterworks-logo06-4-1.jpg
GEO:43.5568062;-96.7509876
X-APPLE-STRUCTURED-LOCATION;VALUE=URI;X-ADDRESS=South Dakota Health Care Association Office 804 N Western Ave Sioux Falls 57104 United States;X-APPLE-RADIUS=500;X-TITLE=804 N Western Ave:geo:-96.7509876,43.5568062
END:VEVENT
BEGIN:VEVENT
DTSTART;TZID=America/Denver:20260706T100000
DTEND;TZID=America/Denver:20260706T120000
DTSTAMP:20260424T194417
CREATED:20260407T215526Z
LAST-MODIFIED:20260424T011038Z
UID:10020335-1783332000-1783339200@artssouthdakota.org
SUMMARY:Children's Theater Auditions
DESCRIPTION:Auditions: Missoula Children’s Theatre Residency – Aladdin\nJuly 6\, 2026 | 10:00 AM | The Matthews Opera House & Arts Center\nAuditions for Missoula Children’s Theatre’s residency production of Aladdin are open to students entering 1st through 12th grade (Fall 2026). No experience or advance preparation is needed—just enthusiasm and a willingness to participate!\nStudents will take part in a group audition led by professional touring directors\, featuring simple movement\, storytelling\, and ensemble activities designed to help identify roles that best fit each performer. Casting will be announced shortly after auditions\, with rehearsals beginning the same day.\nSelected students will spend the week rehearsing and preparing for a full-stage musical performance. This is a unique opportunity to build confidence\, make new friends\, and be part of a fast-paced theatrical experience from audition to final curtain in just one week. Arrive on time and be prepared to stay for the full audition session.\nFor more information about registration visit: https://www.matthewsopera.com/childrens-theater-aladdin/
URL:https://artssouthdakota.org/event/childrens-theater-auditions-4/
LOCATION:The Matthews Opera House – Theatre\, 612 Main St\, Spearfish\, SD\, United States
CATEGORIES:West Region
ATTACH;FMTTYPE=image/jpeg:https://artssouthdakota.org/wp-content/uploads/2026/04/MCT_Aladdin_WebHeader-LiEv41.tmp_.jpg
GEO:44.48908;-103.858626
X-APPLE-STRUCTURED-LOCATION;VALUE=URI;X-ADDRESS=The Matthews Opera House – Theatre 612 Main St Spearfish SD United States;X-APPLE-RADIUS=500;X-TITLE=612 Main St:geo:-103.858626,44.48908
END:VEVENT
END:VCALENDAR