BEGIN:VCALENDAR
VERSION:2.0
PRODID:-//Arts South Dakota - ECPv6.10.2//NONSGML v1.0//EN
CALSCALE:GREGORIAN
METHOD:PUBLISH
X-WR-CALNAME:Arts South Dakota
X-ORIGINAL-URL:https://artssouthdakota.org
X-WR-CALDESC:Events for Arts South Dakota
REFRESH-INTERVAL;VALUE=DURATION:PT1H
X-Robots-Tag:noindex
X-PUBLISHED-TTL:PT1H
BEGIN:VTIMEZONE
TZID:America/Chicago
BEGIN:DAYLIGHT
TZOFFSETFROM:-0600
TZOFFSETTO:-0500
TZNAME:CDT
DTSTART:20260308T080000
END:DAYLIGHT
BEGIN:STANDARD
TZOFFSETFROM:-0500
TZOFFSETTO:-0600
TZNAME:CST
DTSTART:20261101T070000
END:STANDARD
END:VTIMEZONE
BEGIN:VTIMEZONE
TZID:America/Denver
BEGIN:DAYLIGHT
TZOFFSETFROM:-0700
TZOFFSETTO:-0600
TZNAME:MDT
DTSTART:20260308T090000
END:DAYLIGHT
BEGIN:STANDARD
TZOFFSETFROM:-0600
TZOFFSETTO:-0700
TZNAME:MST
DTSTART:20261101T080000
END:STANDARD
END:VTIMEZONE
BEGIN:VEVENT
DTSTART;VALUE=DATE:20260519
DTEND;VALUE=DATE:20260520
DTSTAMP:20260422T184931
CREATED:20260410T144908Z
LAST-MODIFIED:20260410T144908Z
UID:10020801-1779148800-1779235199@artssouthdakota.org
SUMMARY:Welcome to the artsHUB
DESCRIPTION:Welcome to the artsHUB⌘! The VCA and our intern Abigail would like to invite you to an analog version\, also known as a good old-fashioned get together\, of our digital HUB for artists\, makers\, arts & culture organizations\, venues\, and the community that needs you. \nYou can get ahead of the curve by checking out vermculture.org/artshub – you can add events to the calendar\, make a profile in the directory\, access resources\, or connect on our substack! Bring any questions you might have\, or ways you’d like to get connected but maybe don’t know where or how to begin. The artsHUB is built to be a collaborative experience. \nWe will have large & small + digital & analog visuals to show you what the HUB is\, supportive ways to get started in the HUB\, and\, of course\, snacks\, refreshments\, and camaraderie!
URL:https://artssouthdakota.org/event/welcome-to-the-artshub-2/2026-05-19/
LOCATION:Coyote Gallery\, East Main Street\, Vermillion\, S\, 57069\, United States
CATEGORIES:Art,Art Show,Conversation,Discussion,Education,Exhibit,Exhibition,Reception,Southeast Region,Special Events,Visual Art,Visual Arts
ATTACH;FMTTYPE=image/png:https://artssouthdakota.org/wp-content/uploads/2026/04/water-exhib-0403-1.png
ORGANIZER;CN="Vermillion Cultural Association":MAILTO:executivedirector@vermilliontheaters.com
GEO:42.7797332;-96.9314113
X-APPLE-STRUCTURED-LOCATION;VALUE=URI;X-ADDRESS=Coyote Gallery East Main Street Vermillion S 57069 United States;X-APPLE-RADIUS=500;X-TITLE=East Main Street:geo:-96.9314113,42.7797332
END:VEVENT
BEGIN:VEVENT
DTSTART;TZID=America/Chicago:20260519T090000
DTEND;TZID=America/Chicago:20260519T150000
DTSTAMP:20260422T184931
CREATED:20250826T135827Z
LAST-MODIFIED:20250826T135827Z
UID:10015300-1779181200-1779202800@artssouthdakota.org
SUMMARY:Calling for entries into the Dakota MasterWorks Art Show
DESCRIPTION:🎨 Calling All South Dakota Artists Age 60+! 🎨\nWe’re excited to announce the 28th Annual Dakota MasterWorks Art Show\, a celebration of creativity and talent in South Dakota’s older adults! \nIf you’re age 60 or older\, we invite you to showcase your artistic talents in one or more of the following categories:\n• Oils\n• Acrylics\n• Watercolors\n• Drawing/Pastels/Scratchboard\n• Photography\n• Mixed Media\n• Creative Woodworking \nEntry Dates:\nOctober 6–10\, 2025\nEntries accepted between 9 AM – 3 PM at:\nSouth Dakota Health Care Association Office\n804 N Western Ave\, Sioux Falls\, SD 57104 \nEntry forms and criteria available at:\nwww.sdhca.org/dakota-masterworks \nhttps://www.sdhca.org/dakota-masterworks
URL:https://artssouthdakota.org/event/calling-for-entries-into-the-dakota-masterworks-art-show/2026-05-19/
LOCATION:South Dakota Health Care Association Office\, 804 N Western Ave\, Sioux Falls\, 57104\, United States
CATEGORIES:Art Show,Southeast Region
ATTACH;FMTTYPE=image/jpeg:https://artssouthdakota.org/wp-content/uploads/2025/08/Dakota-masterworks-logo06-4-1.jpg
GEO:43.5568062;-96.7509876
X-APPLE-STRUCTURED-LOCATION;VALUE=URI;X-ADDRESS=South Dakota Health Care Association Office 804 N Western Ave Sioux Falls 57104 United States;X-APPLE-RADIUS=500;X-TITLE=804 N Western Ave:geo:-96.7509876,43.5568062
END:VEVENT
BEGIN:VEVENT
DTSTART;TZID=America/Chicago:20260519T090000
DTEND;TZID=America/Chicago:20260519T170000
DTSTAMP:20260422T184931
CREATED:20260414T032511Z
LAST-MODIFIED:20260422T032510Z
UID:10020854-1779181200-1779210000@artssouthdakota.org
SUMMARY:The Magic of John Banasiak
DESCRIPTION:Event Contact: amy.fill@usd.eduContact Email: amy.fill@usd.eduContact Phone: 6056583437Event Locator: 2026-ACHVDN \nThe Magic of John Banasiak-Photographs and installation by Sarah A. Hanson-Pareek features a video installation and photographs of retiring Professor of Photography\, John Banasiak.  \n  \nExhibition is open to the public in the John A. Day Gallery\, Warren M. Lee Center for the Fine Arts. \nMay 7-27\, 2026 \nMonday through Friday \n9 am to 5 pm
URL:https://artssouthdakota.org/event/the-magic-of-john-banasiak-9/
LOCATION:John A Day Gallery\, East Clark Street\, Vermillion\, South Dakota\, 57069\, United States
CATEGORIES:Southeast Region,USD Public Calendar
GEO:42.7828208;-96.9263383
X-APPLE-STRUCTURED-LOCATION;VALUE=URI;X-ADDRESS=John A Day Gallery East Clark Street Vermillion South Dakota 57069 United States;X-APPLE-RADIUS=500;X-TITLE=East Clark Street:geo:-96.9263383,42.7828208
END:VEVENT
BEGIN:VEVENT
DTSTART;TZID=America/Chicago:20260519T180000
DTEND;TZID=America/Chicago:20260519T200000
DTSTAMP:20260422T184931
CREATED:20250401T204630Z
LAST-MODIFIED:20250401T204630Z
UID:10010570-1779213600-1779220800@artssouthdakota.org
SUMMARY:The Writer's Study
DESCRIPTION:Writers in the area\, come one\, come all! Meet up for prompts\, sharing\, feedback\, classes\, and more!\nEvery Tuesday at 6pm!
URL:https://artssouthdakota.org/event/the-writers-study/2026-05-19/
LOCATION:Full Circle Book Co-op\, 123 W 10th St\, Sioux Falls\, SD\, United States
CATEGORIES:Art,Poetry,Southeast Region
ATTACH;FMTTYPE=image/jpeg:https://artssouthdakota.org/wp-content/uploads/2025/04/385905009_819854960142243_4019154917594224231_n.jpg
ORGANIZER;CN="Full Circle Book Co-op":MAILTO:fullcirclebookcoop@gmail.com
GEO:43.545921;-96.727042
X-APPLE-STRUCTURED-LOCATION;VALUE=URI;X-ADDRESS=Full Circle Book Co-op 123 W 10th St Sioux Falls SD United States;X-APPLE-RADIUS=500;X-TITLE=123 W 10th St:geo:-96.727042,43.545921
END:VEVENT
BEGIN:VEVENT
DTSTART;TZID=America/Chicago:20260519T180000
DTEND;TZID=America/Chicago:20260519T200000
DTSTAMP:20260422T184931
CREATED:20260204T183127Z
LAST-MODIFIED:20260204T183127Z
UID:10019582-1779213600-1779220800@artssouthdakota.org
SUMMARY:Wood Carving 101
DESCRIPTION:Discover the creative world of wood carving with Steve Hunter. A Toronto\, SD-based carver that has been carving since 1998. This beginner-friendly course is designed both for absolute beginners and for those coming back to carving after a pause. Learn core safety and carving fundamentals using one knife\, plus a complete end-to-end project. The atmosphere is relaxed\, fun\, and supportive\, with patient coaching. \nYour registration includes a full personal carving kit to keep:\n•     High-quality carving knife\n•     Cut-resistant carving glove\n•     Finger safety tape\n•     Leather strop and stropping compound\n•     Carving pattern and basswood for project and practice\n•     Pencil\n•     Heavy canvas tool roll and a heavy-duty canvas bag \nMinimum age is 16 or 14 if accompanied by an adult in all sessions.
URL:https://artssouthdakota.org/event/wood-carving-101/2026-05-19/
LOCATION:Codington Country Heritage Museum Classroom\, 27 1st Ave SE\,\, Watertown\, 57201\, United States
CATEGORIES:Art,Class/Workshop,Northeast Region
ATTACH;FMTTYPE=image/jpeg:https://artssouthdakota.org/wp-content/uploads/2026/01/WoodC-Banner_Hunter_Mar2026.jpg
ORGANIZER;CN="Northern Prairie Arts ~ Watertown's Arts Council":MAILTO:artsnight@outlook.com
GEO:44.8992574;-97.1135929
X-APPLE-STRUCTURED-LOCATION;VALUE=URI;X-ADDRESS=Codington Country Heritage Museum Classroom 27 1st Ave SE Watertown 57201 United States;X-APPLE-RADIUS=500;X-TITLE=27 1st Ave SE\,:geo:-97.1135929,44.8992574
END:VEVENT
BEGIN:VEVENT
DTSTART;TZID=America/Denver:20260519T183000
DTEND;TZID=America/Denver:20260519T193000
DTSTAMP:20260422T184931
CREATED:20260421T004027Z
LAST-MODIFIED:20260422T004223Z
UID:10020909-1779215400-1779219000@artssouthdakota.org
SUMMARY:Ballroom Dance Lessons
DESCRIPTION:Get ready to step onto the dance floor with our Beginner Ballroom Medley lesson series at The Matthews! Designed for absolute beginners (and anyone who wants to refresh the basics)\, this welcoming four-week series will introduce you to foundational ballroom steps\, simple turns\, and partner connection across a mix of classic ballroom styles—so you can feel confident at weddings\, parties\, and social dances.\nJoin instructor LeighAnn Gould for four fun Tuesday-evening classes focused on easy-to-learn patterns\, good technique\, and a relaxed\, encouraging atmosphere. No experience required—just bring a partner and a willingness to try something new (and laugh a little while you learn).\nClass Schedule: Tuesdays 6:30-7:30 pm\nMay 5\, 12\, 19\, 26 *May 12 class will be held at the Queen Hall at the Spearfish Senior Center\nTickets:\n$25 per person (single class)\n$80 per person (full 4-class series pass)\nClass is limited to 15 couples per lesson.\nPartners recommended (this is a partner-based class).
URL:https://artssouthdakota.org/event/ballroom-dance-lessons-3/
CATEGORIES:Registration,Special Events,West Region
ATTACH;FMTTYPE=image/jpeg:https://artssouthdakota.org/wp-content/uploads/2026/04/Ballroom-Dance-Event-Brite-2160-x-1080-px-2-3fDyK7.tmp_.jpg
END:VEVENT
END:VCALENDAR