BEGIN:VCALENDAR
VERSION:2.0
PRODID:-//Arts South Dakota - ECPv6.10.2//NONSGML v1.0//EN
CALSCALE:GREGORIAN
METHOD:PUBLISH
X-WR-CALNAME:Arts South Dakota
X-ORIGINAL-URL:https://artssouthdakota.org
X-WR-CALDESC:Events for Arts South Dakota
REFRESH-INTERVAL;VALUE=DURATION:PT1H
X-Robots-Tag:noindex
X-PUBLISHED-TTL:PT1H
BEGIN:VTIMEZONE
TZID:America/Chicago
BEGIN:DAYLIGHT
TZOFFSETFROM:-0600
TZOFFSETTO:-0500
TZNAME:CDT
DTSTART:20260308T080000
END:DAYLIGHT
BEGIN:STANDARD
TZOFFSETFROM:-0500
TZOFFSETTO:-0600
TZNAME:CST
DTSTART:20261101T070000
END:STANDARD
END:VTIMEZONE
BEGIN:VEVENT
DTSTART;VALUE=DATE:20260418
DTEND;VALUE=DATE:20260420
DTSTAMP:20260420T014708
CREATED:20251017T152834Z
LAST-MODIFIED:20251017T152834Z
UID:10016778-1776470400-1776643199@artssouthdakota.org
SUMMARY:Mobridge Area's 50th Annual Art Show
DESCRIPTION:Featuring submissions in artwork and photography from local area students and adults! Year 50 will feature remaining founding member Peg Wunder. Email mobridgeartistassociation@gmail.com for more info and/or registration.
URL:https://artssouthdakota.org/event/mobridge-areas-50th-annual-art-show/
LOCATION:Scherr Howe Arena\, 212 Main St\, Mobridge\, 57601\, United States
CATEGORIES:Art Show
ATTACH;FMTTYPE=image/png:https://artssouthdakota.org/wp-content/uploads/2025/10/Screenshot-2025-10-17-at-10.27.37 AM.png
GEO:45.5349609;-100.4334648
X-APPLE-STRUCTURED-LOCATION;VALUE=URI;X-ADDRESS=Scherr Howe Arena 212 Main St Mobridge 57601 United States;X-APPLE-RADIUS=500;X-TITLE=212 Main St:geo:-100.4334648,45.5349609
END:VEVENT
BEGIN:VEVENT
DTSTART;TZID=America/Chicago:20260418T070000
DTEND;TZID=America/Chicago:20260422T030000
DTSTAMP:20260420T014708
CREATED:20260409T182636Z
LAST-MODIFIED:20260409T182636Z
UID:10020742-1776495600-1776826800@artssouthdakota.org
SUMMARY:Pride and Prejudice
DESCRIPTION:The University of South Dakota Department of Theatre finishes off its 2025–2026 season with Pride & Prejudice by Kate Hamill based on the classic novel by Jane Austen. \nThe show runs in the Knutson Theatre April 17th\, 18th\, 23rd\, 24th\, and 25th at 7:30pm\, April\n19th and 26th at 2:00pm. As well as April 24th at 10:00am. \nWith a hilarious script based on Jane Austen’s 1813 novel\, Pride and Prejudice tells a story of the Bennet\nfamily as they navigate the romantic battlefield of early 19th century England. Drawing inspiration from\nthe time period\, Pride and Prejudice merges traditional formality and status quo with modern themes of\nlove and attachment.
URL:https://artssouthdakota.org/event/pride-and-prejudice/2026-04-18/1/
LOCATION:Wayne S. Knutson Theatre\, Warren M. Lee Center for Fine Arts 414 E. Clark St. Vermillion SD 57069\, Vermillion\, 57069\, United States
CATEGORIES:Southeast Region,Theater
ATTACH;FMTTYPE=image/jpeg:https://artssouthdakota.org/wp-content/uploads/2026/04/IMG_1693-1.jpeg
GEO:42.7872223;-96.9249387
X-APPLE-STRUCTURED-LOCATION;VALUE=URI;X-ADDRESS=Wayne S. Knutson Theatre Warren M. Lee Center for Fine Arts 414 E. Clark St. Vermillion SD 57069 Vermillion 57069 United States;X-APPLE-RADIUS=500;X-TITLE=Warren M. Lee Center for Fine Arts 414 E. Clark St. Vermillion SD 57069:geo:-96.9249387,42.7872223
END:VEVENT
BEGIN:VEVENT
DTSTART;VALUE=DATE:20260419
DTEND;VALUE=DATE:20260420
DTSTAMP:20260420T014708
CREATED:20260330T140450Z
LAST-MODIFIED:20260330T140450Z
UID:10020235-1776556800-1776643199@artssouthdakota.org
SUMMARY:Student Showcase
DESCRIPTION:The BAC is proud to showcase art work by the students of MMS and BHS during the month of April.  The show opens April 2nd and will run through April 26th. Please join us for the opening reception!
URL:https://artssouthdakota.org/event/student-showcase/2026-04-19/
LOCATION:Brookings Arts Council\, 524 4th St\, Brookings\, SD\, United States
CATEGORIES:Art,Art Show,Northeast Region
ATTACH;FMTTYPE=image/png:https://artssouthdakota.org/wp-content/uploads/2026/03/unnamed-21.png
ORGANIZER;CN="Brookings Arts Council":MAILTO:directorbac@swiftel.net
GEO:44.308999;-96.796586
X-APPLE-STRUCTURED-LOCATION;VALUE=URI;X-ADDRESS=Brookings Arts Council 524 4th St Brookings SD United States;X-APPLE-RADIUS=500;X-TITLE=524 4th St:geo:-96.796586,44.308999
END:VEVENT
BEGIN:VEVENT
DTSTART;VALUE=DATE:20260419
DTEND;VALUE=DATE:20260420
DTSTAMP:20260420T014708
CREATED:20260410T144908Z
LAST-MODIFIED:20260410T144908Z
UID:10020770-1776556800-1776643199@artssouthdakota.org
SUMMARY:Welcome to the artsHUB
DESCRIPTION:Welcome to the artsHUB⌘! The VCA and our intern Abigail would like to invite you to an analog version\, also known as a good old-fashioned get together\, of our digital HUB for artists\, makers\, arts & culture organizations\, venues\, and the community that needs you. \nYou can get ahead of the curve by checking out vermculture.org/artshub – you can add events to the calendar\, make a profile in the directory\, access resources\, or connect on our substack! Bring any questions you might have\, or ways you’d like to get connected but maybe don’t know where or how to begin. The artsHUB is built to be a collaborative experience. \nWe will have large & small + digital & analog visuals to show you what the HUB is\, supportive ways to get started in the HUB\, and\, of course\, snacks\, refreshments\, and camaraderie!
URL:https://artssouthdakota.org/event/welcome-to-the-artshub-2/2026-04-19/
LOCATION:Coyote Gallery\, East Main Street\, Vermillion\, S\, 57069\, United States
CATEGORIES:Art,Art Show,Conversation,Discussion,Education,Exhibit,Exhibition,Reception,Southeast Region,Special Events,Visual Art,Visual Arts
ATTACH;FMTTYPE=image/png:https://artssouthdakota.org/wp-content/uploads/2026/04/water-exhib-0403-1.png
ORGANIZER;CN="Vermillion Cultural Association":MAILTO:executivedirector@vermilliontheaters.com
GEO:42.7797332;-96.9314113
X-APPLE-STRUCTURED-LOCATION;VALUE=URI;X-ADDRESS=Coyote Gallery East Main Street Vermillion S 57069 United States;X-APPLE-RADIUS=500;X-TITLE=East Main Street:geo:-96.9314113,42.7797332
END:VEVENT
BEGIN:VEVENT
DTSTART;TZID=America/Chicago:20260419T090000
DTEND;TZID=America/Chicago:20260419T150000
DTSTAMP:20260420T014708
CREATED:20250826T135827Z
LAST-MODIFIED:20250826T135827Z
UID:10015270-1776589200-1776610800@artssouthdakota.org
SUMMARY:Calling for entries into the Dakota MasterWorks Art Show
DESCRIPTION:🎨 Calling All South Dakota Artists Age 60+! 🎨\nWe’re excited to announce the 28th Annual Dakota MasterWorks Art Show\, a celebration of creativity and talent in South Dakota’s older adults! \nIf you’re age 60 or older\, we invite you to showcase your artistic talents in one or more of the following categories:\n• Oils\n• Acrylics\n• Watercolors\n• Drawing/Pastels/Scratchboard\n• Photography\n• Mixed Media\n• Creative Woodworking \nEntry Dates:\nOctober 6–10\, 2025\nEntries accepted between 9 AM – 3 PM at:\nSouth Dakota Health Care Association Office\n804 N Western Ave\, Sioux Falls\, SD 57104 \nEntry forms and criteria available at:\nwww.sdhca.org/dakota-masterworks \nhttps://www.sdhca.org/dakota-masterworks
URL:https://artssouthdakota.org/event/calling-for-entries-into-the-dakota-masterworks-art-show/2026-04-19/
LOCATION:South Dakota Health Care Association Office\, 804 N Western Ave\, Sioux Falls\, 57104\, United States
CATEGORIES:Art Show,Southeast Region
ATTACH;FMTTYPE=image/jpeg:https://artssouthdakota.org/wp-content/uploads/2025/08/Dakota-masterworks-logo06-4-1.jpg
GEO:43.5568062;-96.7509876
X-APPLE-STRUCTURED-LOCATION;VALUE=URI;X-ADDRESS=South Dakota Health Care Association Office 804 N Western Ave Sioux Falls 57104 United States;X-APPLE-RADIUS=500;X-TITLE=804 N Western Ave:geo:-96.7509876,43.5568062
END:VEVENT
BEGIN:VEVENT
DTSTART;TZID=America/Chicago:20260419T130000
DTEND;TZID=America/Chicago:20260419T150000
DTSTAMP:20260420T014708
CREATED:20260416T035511Z
LAST-MODIFIED:20260419T035509Z
UID:10020875-1776603600-1776610800@artssouthdakota.org
SUMMARY:String Showcase
DESCRIPTION:Event Contact: Natalie SterbaContact Email: natalie.sterba@usd.eduContact Phone: 4029992787Event URL: https://www.usd.edu/livemusicEvent Locator: 2026-ACHVPG \nThe USD Strings Studio invites you to their spring recital in Colton Recital Hall\, Warren M. Lee Center for the Fine Arts. This event is open to the public at no charge.
URL:https://artssouthdakota.org/event/string-showcase/
LOCATION:Campus Wide Fine Arts\, East Clark Street\, Vermillion\, South Dakota\, 57069\, United States
CATEGORIES:Southeast Region,USD Public Calendar
GEO:42.7828208;-96.9263383
X-APPLE-STRUCTURED-LOCATION;VALUE=URI;X-ADDRESS=Campus Wide Fine Arts East Clark Street Vermillion South Dakota 57069 United States;X-APPLE-RADIUS=500;X-TITLE=East Clark Street:geo:-96.9263383,42.7828208
END:VEVENT
BEGIN:VEVENT
DTSTART;TZID=America/Chicago:20260419T140000
DTEND;TZID=America/Chicago:20260419T160000
DTSTAMP:20260420T014708
CREATED:20260409T182636Z
LAST-MODIFIED:20260409T182636Z
UID:10020744-1776607200-1776614400@artssouthdakota.org
SUMMARY:Pride and Prejudice
DESCRIPTION:The University of South Dakota Department of Theatre finishes off its 2025–2026 season with Pride & Prejudice by Kate Hamill based on the classic novel by Jane Austen. \nThe show runs in the Knutson Theatre April 17th\, 18th\, 23rd\, 24th\, and 25th at 7:30pm\, April\n19th and 26th at 2:00pm. As well as April 24th at 10:00am. \nWith a hilarious script based on Jane Austen’s 1813 novel\, Pride and Prejudice tells a story of the Bennet\nfamily as they navigate the romantic battlefield of early 19th century England. Drawing inspiration from\nthe time period\, Pride and Prejudice merges traditional formality and status quo with modern themes of\nlove and attachment.
URL:https://artssouthdakota.org/event/pride-and-prejudice/2026-04-19/
LOCATION:Wayne S. Knutson Theatre\, Warren M. Lee Center for Fine Arts 414 E. Clark St. Vermillion SD 57069\, Vermillion\, 57069\, United States
CATEGORIES:Southeast Region,Theater
ATTACH;FMTTYPE=image/jpeg:https://artssouthdakota.org/wp-content/uploads/2026/04/IMG_1693-1.jpeg
GEO:42.7872223;-96.9249387
X-APPLE-STRUCTURED-LOCATION;VALUE=URI;X-ADDRESS=Wayne S. Knutson Theatre Warren M. Lee Center for Fine Arts 414 E. Clark St. Vermillion SD 57069 Vermillion 57069 United States;X-APPLE-RADIUS=500;X-TITLE=Warren M. Lee Center for Fine Arts 414 E. Clark St. Vermillion SD 57069:geo:-96.9249387,42.7872223
END:VEVENT
BEGIN:VEVENT
DTSTART;TZID=America/Chicago:20260419T150000
DTEND;TZID=America/Chicago:20260419T163000
DTSTAMP:20260420T014708
CREATED:20260119T011038Z
LAST-MODIFIED:20260419T061009Z
UID:10017758-1776610800-1776616200@artssouthdakota.org
SUMMARY:NSU Symphonic Band/NSU Concert Band present:  Band Extravaganza
DESCRIPTION:Event Locator: 2025-ACFTKV\nJoin us for an afternoon of exciting wind band music performed by members of the NSU Symphonic Band conducted by Dr. Terry Beckler\, and the NSU Concert Band conducted by Dr. Travis Netzer. This concert marks the traditional season finale for the band season\, so they will roll out all the stops for this “Band Extravaganza!”
URL:https://artssouthdakota.org/event/nsu-symphonic-band-nsu-concert-band-present-band-extravaganza/
LOCATION:Johnson Fine Arts Harvey and Cynthia Jewett Theatre 300\, Johnson Fine Arts Stage 301
CATEGORIES:Northeast Region,NSU All Events Calendar
END:VEVENT
BEGIN:VEVENT
DTSTART;TZID=America/Chicago:20260419T150000
DTEND;TZID=America/Chicago:20260419T170000
DTSTAMP:20260420T014708
CREATED:20260416T034008Z
LAST-MODIFIED:20260419T034009Z
UID:10020865-1776610800-1776618000@artssouthdakota.org
SUMMARY:USD Symphonic Band/ Concert Band
DESCRIPTION:Event Contact: Dr. Bethany AmundsonContact Email: bethany.amundson@usd.eduContact Phone: 605-658-3468Event URL: https://www.usd.edu/livemusicEvent Locator: 2026-ACHVQD \nThe USD Music Department invites you to the USD Bands Spring Concert\, live from Aalfs Auditorium\, Slagle Hall and livestreamed via the link elsewhere on this post.
URL:https://artssouthdakota.org/event/usd-symphonic-band-concert-band/
LOCATION:Campus Wide Fine Arts\, East Clark Street\, Vermillion\, South Dakota\, 57069\, United States
CATEGORIES:Southeast Region,USD Public Calendar
GEO:42.7828208;-96.9263383
X-APPLE-STRUCTURED-LOCATION;VALUE=URI;X-ADDRESS=Campus Wide Fine Arts East Clark Street Vermillion South Dakota 57069 United States;X-APPLE-RADIUS=500;X-TITLE=East Clark Street:geo:-96.9263383,42.7828208
END:VEVENT
BEGIN:VEVENT
DTSTART;TZID=America/Chicago:20260419T183000
DTEND;TZID=America/Chicago:20260419T193000
DTSTAMP:20260420T014708
CREATED:20260416T034009Z
LAST-MODIFIED:20260419T034010Z
UID:10020866-1776623400-1776627000@artssouthdakota.org
SUMMARY:Joint Recital: Andrew Hochstein\, Voice and Aiden Milne\, Voice
DESCRIPTION:Event Contact: Dr. Daniel LickteigContact Email: daniel.lickteig@usd.eduContact Phone: 605-658-3474Event URL: https://www.usd.edu/livemusicEvent Locator: 2026-ACHVQH \nAiden Milne and Andrew Hochstein invite you to their voice recital\, live from Colton Recital Hall\, Warren M. Lee Center for the Fine Arts\, and livestreamed via the link available elsewhere on this post.
URL:https://artssouthdakota.org/event/joint-recital-andrew-hochstein-voice-and-aiden-milne-voice/
LOCATION:Campus Wide Fine Arts\, East Clark Street\, Vermillion\, South Dakota\, 57069\, United States
CATEGORIES:Southeast Region,USD Public Calendar
GEO:42.7828208;-96.9263383
X-APPLE-STRUCTURED-LOCATION;VALUE=URI;X-ADDRESS=Campus Wide Fine Arts East Clark Street Vermillion South Dakota 57069 United States;X-APPLE-RADIUS=500;X-TITLE=East Clark Street:geo:-96.9263383,42.7828208
END:VEVENT
END:VCALENDAR